BEGIN:VCALENDAR
VERSION:2.0
PRODID:-//Destination Toledo - ECPv6.15.20//NONSGML v1.0//EN
CALSCALE:GREGORIAN
METHOD:PUBLISH
X-ORIGINAL-URL:https://visittoledo.org
X-WR-CALDESC:Events for Destination Toledo
REFRESH-INTERVAL;VALUE=DURATION:PT1H
X-Robots-Tag:noindex
X-PUBLISHED-TTL:PT1H
BEGIN:VTIMEZONE
TZID:America/Detroit
BEGIN:DAYLIGHT
TZOFFSETFROM:-0500
TZOFFSETTO:-0400
TZNAME:EDT
DTSTART:20250309T070000
END:DAYLIGHT
BEGIN:STANDARD
TZOFFSETFROM:-0400
TZOFFSETTO:-0500
TZNAME:EST
DTSTART:20251102T060000
END:STANDARD
BEGIN:DAYLIGHT
TZOFFSETFROM:-0500
TZOFFSETTO:-0400
TZNAME:EDT
DTSTART:20260308T070000
END:DAYLIGHT
BEGIN:STANDARD
TZOFFSETFROM:-0400
TZOFFSETTO:-0500
TZNAME:EST
DTSTART:20261101T060000
END:STANDARD
BEGIN:DAYLIGHT
TZOFFSETFROM:-0500
TZOFFSETTO:-0400
TZNAME:EDT
DTSTART:20270314T070000
END:DAYLIGHT
BEGIN:STANDARD
TZOFFSETFROM:-0400
TZOFFSETTO:-0500
TZNAME:EST
DTSTART:20271107T060000
END:STANDARD
END:VTIMEZONE
BEGIN:VEVENT
DTSTART;TZID=America/Detroit:20260517T110000
DTEND;TZID=America/Detroit:20260517T160000
DTSTAMP:20260425T100948
CREATED:20260312T185757Z
LAST-MODIFIED:20260312T185908Z
UID:10012844-1779015600-1779033600@visittoledo.org
SUMMARY:Mother’s Day Tea at the Libbey House
DESCRIPTION:Celebrate Mom with an elegant Mother’s Day Tea at the historic Libbey House on Sunday\, May 17. Hosted by the Libbey House Foundation in partnership with the Women of the Old West End\, this charming event offers a delightful way to spend time together in one of Toledo’s most beautiful historic homes. \nGuests will enjoy a traditional tea experience featuring a selection of fine teas\, tea sandwiches\, and delicious desserts\, served in the elegant surroundings of the Libbey House. The event features three 90-minute seatings at 11:00 AM\, 1:00 PM\, and 3:00 PM\, allowing guests to relax and savor a special afternoon celebration honoring mothers and loved ones. \nThis beloved seasonal event in Toledo’s historic Old West End is the perfect Mother’s Day outing or thoughtful gift\, combining great food\, historic ambiance\, and a meaningful cause. Proceeds from the event support the ongoing preservation and maintenance of the Libbey House and programs hosted by the Women of the Old West End. \nEvent Details: \nDate: Sunday\, May 17 \nSeatings: 11:00 AM\, 1:00 PM\, and 3:00 PM (90 minutes each) \nDoors Open: 10:45 AM for the first seating \nLocation: Libbey House \nTickets: $40 per person (available through May 13) \nSpace is limited\, and advance reservations are encouraged.
URL:https://visittoledo.org/event/mothers-day-tea-at-the-libbey-house
LOCATION:Libbey House\, 2008 Scottwood Ave\, Toledo\, OH\, 43620\, United States
CATEGORIES:history,holiday
ATTACH;FMTTYPE=image/png:https://visittoledo.org/wp-content/uploads/2026/03/libbey-house-mothers-day-tea-4x3-event-image.png
GEO:41.66053;-83.558605
X-APPLE-STRUCTURED-LOCATION;VALUE=URI;X-ADDRESS=Libbey House 2008 Scottwood Ave Toledo OH 43620 United States;X-APPLE-RADIUS=500;X-TITLE=2008 Scottwood Ave:geo:-83.558605,41.66053
END:VEVENT
END:VCALENDAR