BEGIN:VCALENDAR
VERSION:2.0
PRODID:-//Destination Toledo - ECPv6.15.20//NONSGML v1.0//EN
CALSCALE:GREGORIAN
METHOD:PUBLISH
X-ORIGINAL-URL:https://visittoledo.org
X-WR-CALDESC:Events for Destination Toledo
REFRESH-INTERVAL;VALUE=DURATION:PT1H
X-Robots-Tag:noindex
X-PUBLISHED-TTL:PT1H
BEGIN:VTIMEZONE
TZID:America/Detroit
BEGIN:DAYLIGHT
TZOFFSETFROM:-0500
TZOFFSETTO:-0400
TZNAME:EDT
DTSTART:20240310T070000
END:DAYLIGHT
BEGIN:STANDARD
TZOFFSETFROM:-0400
TZOFFSETTO:-0500
TZNAME:EST
DTSTART:20241103T060000
END:STANDARD
BEGIN:DAYLIGHT
TZOFFSETFROM:-0500
TZOFFSETTO:-0400
TZNAME:EDT
DTSTART:20250309T070000
END:DAYLIGHT
BEGIN:STANDARD
TZOFFSETFROM:-0400
TZOFFSETTO:-0500
TZNAME:EST
DTSTART:20251102T060000
END:STANDARD
BEGIN:DAYLIGHT
TZOFFSETFROM:-0500
TZOFFSETTO:-0400
TZNAME:EDT
DTSTART:20260308T070000
END:DAYLIGHT
BEGIN:STANDARD
TZOFFSETFROM:-0400
TZOFFSETTO:-0500
TZNAME:EST
DTSTART:20261101T060000
END:STANDARD
END:VTIMEZONE
BEGIN:VEVENT
DTSTART;TZID=America/Detroit:20250619T173000
DTEND;TZID=America/Detroit:20250619T200000
DTSTAMP:20260425T200409
CREATED:20250612T003910Z
LAST-MODIFIED:20260216T172835Z
UID:10007332-1750354200-1750363200@visittoledo.org
SUMMARY:Juneteenth 2.5 Mile Run
DESCRIPTION:Come out and celebrate freedom at Toledo’s only Juneteenth run/walk. Hosted for the 4th year by the Toledo Roadrunners Club\, join them for a free kids 1k and stay for the 2.5 run/walk at Glass City Metropark. \n  \n 
URL:https://visittoledo.org/event/juneteenth-2-5-mile-run/2025-06-19
LOCATION:Glass City Metropark\, 1505 Front St\, Toledo\, Ohio\, 43605\, United States
CATEGORIES:running,sports,wellness
ATTACH;FMTTYPE=image/png:https://visittoledo.org/wp-content/uploads/2025/05/image0-1.png
ORGANIZER;CN="The Toledo Roadrunners Club":MAILTO:vp@toledoroadrunners.org
GEO:41.6534145;-83.5196809
X-APPLE-STRUCTURED-LOCATION;VALUE=URI;X-ADDRESS=Glass City Metropark 1505 Front St Toledo Ohio 43605 United States;X-APPLE-RADIUS=500;X-TITLE=1505 Front St:geo:-83.5196809,41.6534145
END:VEVENT
BEGIN:VEVENT
DTSTART;TZID=America/Detroit:20250619T110000
DTEND;TZID=America/Detroit:20250619T170000
DTSTAMP:20260425T200409
CREATED:20250528T133939Z
LAST-MODIFIED:20250528T133939Z
UID:10007326-1750330800-1750352400@visittoledo.org
SUMMARY:Juneteenth Freedom Through Art: Emancipation to Expression
DESCRIPTION:Join the Toledo Museum of Art in honoring Juneteenth—a celebration of freedom\, resilience\, and creativity. Throughout the day\, the museum will host art-inspired experiences that uplift Black voices and explore the journey from emancipation to expression. Guests can expect a range of activities including live performances\, family-friendly art making\, guided tours\, wellness sessions\, and more. \nFrom galleries to gardens\, the day will highlight the power of art to connect\, heal\, and inspire. \nAll activities are free and open to the public with select events requiring registration. For a full schedule of events\, visit the Toledo Museum of Art’s website.
URL:https://visittoledo.org/event/juneteenth-freedom-through-art-emancipation-to-expression
CATEGORIES:art,educational,family friendly,history,wellness,yoga
ATTACH;FMTTYPE=image/png:https://visittoledo.org/wp-content/uploads/2025/05/TMA-4x3-event-image.png
END:VEVENT
END:VCALENDAR