BEGIN:VCALENDAR
VERSION:2.0
PRODID:-//Destination Toledo - ECPv6.15.20//NONSGML v1.0//EN
CALSCALE:GREGORIAN
METHOD:PUBLISH
X-WR-CALNAME:Destination Toledo
X-ORIGINAL-URL:https://visittoledo.org
X-WR-CALDESC:Events for Destination Toledo
REFRESH-INTERVAL;VALUE=DURATION:PT1H
X-Robots-Tag:noindex
X-PUBLISHED-TTL:PT1H
BEGIN:VTIMEZONE
TZID:America/Detroit
BEGIN:DAYLIGHT
TZOFFSETFROM:-0500
TZOFFSETTO:-0400
TZNAME:EDT
DTSTART:20250309T070000
END:DAYLIGHT
BEGIN:STANDARD
TZOFFSETFROM:-0400
TZOFFSETTO:-0500
TZNAME:EST
DTSTART:20251102T060000
END:STANDARD
BEGIN:DAYLIGHT
TZOFFSETFROM:-0500
TZOFFSETTO:-0400
TZNAME:EDT
DTSTART:20260308T070000
END:DAYLIGHT
BEGIN:STANDARD
TZOFFSETFROM:-0400
TZOFFSETTO:-0500
TZNAME:EST
DTSTART:20261101T060000
END:STANDARD
BEGIN:DAYLIGHT
TZOFFSETFROM:-0500
TZOFFSETTO:-0400
TZNAME:EDT
DTSTART:20270314T070000
END:DAYLIGHT
BEGIN:STANDARD
TZOFFSETFROM:-0400
TZOFFSETTO:-0500
TZNAME:EST
DTSTART:20271107T060000
END:STANDARD
END:VTIMEZONE
BEGIN:VEVENT
DTSTART;TZID=America/Detroit:20260429T200000
DTEND;TZID=America/Detroit:20260429T223000
DTSTAMP:20260425T211506
CREATED:20260421T153858Z
LAST-MODIFIED:20260421T153858Z
UID:10014867-1777492800-1777501800@visittoledo.org
SUMMARY:Walleye Playoffs Watch Party: Central Division Semifinals Game 4
DESCRIPTION:The 2026 postseason is here! Cheer on the Walleye during the Kelly Cup playoffs at Fleetwood’s Tap Room\, the official home for road playoff games.
URL:https://visittoledo.org/event/walleye-playoffs-watch-party-central-division-semifinals-game-4
LOCATION:Fleetwood’s Tap Room\, 28 N St. Clair St\, Toledo\, Ohio\, 43604\, United States
CATEGORIES:hockey,sports
ATTACH;FMTTYPE=image/png:https://visittoledo.org/wp-content/uploads/2026/04/kelly-cup-watch-party-walleye-4x3-event-image.png
GEO:41.6480718;-83.537202
X-APPLE-STRUCTURED-LOCATION;VALUE=URI;X-ADDRESS=Fleetwood’s Tap Room 28 N St. Clair St Toledo Ohio 43604 United States;X-APPLE-RADIUS=500;X-TITLE=28 N St. Clair St:geo:-83.537202,41.6480718
END:VEVENT
END:VCALENDAR