BEGIN:VCALENDAR
VERSION:2.0
PRODID:-//Destination Toledo - ECPv6.15.20//NONSGML v1.0//EN
CALSCALE:GREGORIAN
METHOD:PUBLISH
X-WR-CALNAME:Destination Toledo
X-ORIGINAL-URL:https://visittoledo.org
X-WR-CALDESC:Events for Destination Toledo
REFRESH-INTERVAL;VALUE=DURATION:PT1H
X-Robots-Tag:noindex
X-PUBLISHED-TTL:PT1H
BEGIN:VTIMEZONE
TZID:America/Detroit
BEGIN:DAYLIGHT
TZOFFSETFROM:-0500
TZOFFSETTO:-0400
TZNAME:EDT
DTSTART:20250309T070000
END:DAYLIGHT
BEGIN:STANDARD
TZOFFSETFROM:-0400
TZOFFSETTO:-0500
TZNAME:EST
DTSTART:20251102T060000
END:STANDARD
BEGIN:DAYLIGHT
TZOFFSETFROM:-0500
TZOFFSETTO:-0400
TZNAME:EDT
DTSTART:20260308T070000
END:DAYLIGHT
BEGIN:STANDARD
TZOFFSETFROM:-0400
TZOFFSETTO:-0500
TZNAME:EST
DTSTART:20261101T060000
END:STANDARD
BEGIN:DAYLIGHT
TZOFFSETFROM:-0500
TZOFFSETTO:-0400
TZNAME:EDT
DTSTART:20270314T070000
END:DAYLIGHT
BEGIN:STANDARD
TZOFFSETFROM:-0400
TZOFFSETTO:-0500
TZNAME:EST
DTSTART:20271107T060000
END:STANDARD
END:VTIMEZONE
BEGIN:VEVENT
DTSTART;TZID=America/Detroit:20260119T100000
DTEND;TZID=America/Detroit:20260119T130000
DTSTAMP:20260420T083355
CREATED:20260112T183404Z
LAST-MODIFIED:20260112T183404Z
UID:10011410-1768816800-1768827600@visittoledo.org
SUMMARY:Seed & Swap - A Day of Service
DESCRIPTION:The Wild Ones Oak Openings Region Chapter invites the community to take part in a Seed & Swap event on Monday\, January 19\, 2026\, from 10:00 a.m. to 1:00 p.m. at Olander Park’s Nederhouser Hall in Sylvania\, Ohio. This hands-on\, family-friendly gathering welcomes participants of all ages to help clean\, package\, and prepare native seeds collected for upcoming Seed Swap initiatives and Wild Ones conservation projects. \nNo prior experience is necessary\, making this event an accessible and educational opportunity for gardeners\, nature lovers\, and anyone interested in supporting local ecosystems. Volunteers will learn about the importance of native plants while contributing directly to efforts that promote biodiversity throughout northwest Ohio and southeast Michigan. \nFollowing the seed preparation activities\, attendees are invited to relax and connect over a shared meal featuring homemade soup and bread\, fostering a sense of community and collaboration. Hosted by Wild Ones Oak Openings Region Chapter—a local chapter of the national Wild Ones nonprofit—this event highlights the ecological significance of the Oak Openings Region\, a globally threatened ecosystem known for its diverse habitats\, migratory bird populations\, and proximity to Lake Erie\, the Maumee River\, and the Great Black Swamp.
URL:https://visittoledo.org/event/seed-swap-a-day-of-service
LOCATION:Olander Park\, 6930 Sylvania Ave\, Sylvania\, Ohio\, 43560\, United States
CATEGORIES:community,educational,nature
ATTACH;FMTTYPE=image/png:https://visittoledo.org/wp-content/uploads/2026/01/wild-ones-olander-4x3-event-image.png
GEO:41.6921924;-83.7089311
X-APPLE-STRUCTURED-LOCATION;VALUE=URI;X-ADDRESS=Olander Park 6930 Sylvania Ave Sylvania Ohio 43560 United States;X-APPLE-RADIUS=500;X-TITLE=6930 Sylvania Ave:geo:-83.7089311,41.6921924
END:VEVENT
END:VCALENDAR