BEGIN:VCALENDAR
VERSION:2.0
PRODID:-//Destination Toledo - ECPv6.15.20//NONSGML v1.0//EN
CALSCALE:GREGORIAN
METHOD:PUBLISH
X-WR-CALNAME:Destination Toledo
X-ORIGINAL-URL:https://visittoledo.org
X-WR-CALDESC:Events for Destination Toledo
REFRESH-INTERVAL;VALUE=DURATION:PT1H
X-Robots-Tag:noindex
X-PUBLISHED-TTL:PT1H
BEGIN:VTIMEZONE
TZID:America/Detroit
BEGIN:DAYLIGHT
TZOFFSETFROM:-0500
TZOFFSETTO:-0400
TZNAME:EDT
DTSTART:20250309T070000
END:DAYLIGHT
BEGIN:STANDARD
TZOFFSETFROM:-0400
TZOFFSETTO:-0500
TZNAME:EST
DTSTART:20251102T060000
END:STANDARD
BEGIN:DAYLIGHT
TZOFFSETFROM:-0500
TZOFFSETTO:-0400
TZNAME:EDT
DTSTART:20260308T070000
END:DAYLIGHT
BEGIN:STANDARD
TZOFFSETFROM:-0400
TZOFFSETTO:-0500
TZNAME:EST
DTSTART:20261101T060000
END:STANDARD
BEGIN:DAYLIGHT
TZOFFSETFROM:-0500
TZOFFSETTO:-0400
TZNAME:EDT
DTSTART:20270314T070000
END:DAYLIGHT
BEGIN:STANDARD
TZOFFSETFROM:-0400
TZOFFSETTO:-0500
TZNAME:EST
DTSTART:20271107T060000
END:STANDARD
END:VTIMEZONE
BEGIN:VEVENT
DTSTART;TZID=America/Detroit:20260420T180000
DTEND;TZID=America/Detroit:20260420T210000
DTSTAMP:20260424T165732
CREATED:20251218T155150Z
LAST-MODIFIED:20251218T155150Z
UID:10010820-1776708000-1776718800@visittoledo.org
SUMMARY:Open Mic Night at First Base Lounge
DESCRIPTION:Take the stage or enjoy live local talent at Open Mic Night at First Base Lounge\, a recurring Monday night music event in Downtown Toledo hosted by P3K Music. This weekly open mic gives musicians\, singers\, and performers the opportunity to showcase their talents in an inviting atmosphere in the heart of downtown. \nWhether you’re performing or just listening\, Open Mic Night pairs great music with great food and drinks. First Base Lounge is known for its Detroit-style pizza\, and Mondays are even better with half off specialty pizzas all night long. Guests can also enjoy expertly crafted cocktails\, local and regional beers\, and attentive service in a space that blends cosmopolitan style with cozy comfort. \nFirst Base Lounge has become a favorite spot for comfortable hangs and relaxed nightlife. Open Mic Night is the perfect way to start the week\, support local artists\, discover new sounds\, and enjoy one of Toledo’s best pizza-and-cocktail destinations.
URL:https://visittoledo.org/event/open-mic-night-at-first-base-lounge/2026-04-20
LOCATION:First Base Lounge\, 20 N St. Clair\, Toledo\, OH\, 43604\, United States
CATEGORIES:cocktails,food,live music
ATTACH;FMTTYPE=image/png:https://visittoledo.org/wp-content/uploads/2025/12/first-base-lounge-open-mic-4x3-event-image.png
GEO:41.6478751;-83.5375399
X-APPLE-STRUCTURED-LOCATION;VALUE=URI;X-ADDRESS=First Base Lounge 20 N St. Clair Toledo OH 43604 United States;X-APPLE-RADIUS=500;X-TITLE=20 N St. Clair:geo:-83.5375399,41.6478751
END:VEVENT
BEGIN:VEVENT
DTSTART;TZID=America/Detroit:20260424T180000
DTEND;TZID=America/Detroit:20260424T200000
DTSTAMP:20260424T165732
CREATED:20260413T194407Z
LAST-MODIFIED:20260413T195945Z
UID:10014432-1777053600-1777060800@visittoledo.org
SUMMARY:Spring Wine Tasting Series: Washington State at The Chop House
DESCRIPTION:You’re invited to The Chop House on Friday\, April 24\, 2026\, at 6 PM for an elegant evening celebrating the acclaimed wines of Washington State. Known for its bold reds\, vibrant acidity\, and diverse growing regions\, Washington takes center stage in this curated tasting experience. \nGuests will enjoy five thoughtfully selected wines from Columbia Valley and Horse Heaven Hills\, including Chardonnay\, Merlot\, and Cabernet Sauvignon\, each paired with light appetizers prepared by Chef Tim Childers. The evening will be guided by guest speakers Tim Bauer and Tara Kearns of Southern Glazer’s Wine & Spirits\, offering insight into the region and its standout varietals. \nThe tasting begins with a welcome pour of Domaine Ste. Michelle Brut NV\, followed by featured selections including Chateau Ste. Michelle Canoe Ridge Estate Chardonnay\, Northstar Polaris Merlot\, and two Columbia Valley Cabernet Sauvignons from Ethos and Epic. \nThis all-inclusive experience is priced at $79.99 per person. Reservations are required and can be made in advance.
URL:https://visittoledo.org/event/spring-wine-tasting-series-washington-state-at-the-chop-house
LOCATION:The Chop House Toledo\, 300 N Summit St\, Toledo\, OH\, 43604\, United States
CATEGORIES:downtown,food,wine
ATTACH;FMTTYPE=image/png:https://visittoledo.org/wp-content/uploads/2026/04/washington-state-spring-wine-tasting-series-chop-house-4x3-event-image.png
GEO:41.6511346;-83.532922
X-APPLE-STRUCTURED-LOCATION;VALUE=URI;X-ADDRESS=The Chop House Toledo 300 N Summit St Toledo OH 43604 United States;X-APPLE-RADIUS=500;X-TITLE=300 N Summit St:geo:-83.532922,41.6511346
END:VEVENT
BEGIN:VEVENT
DTSTART;TZID=America/Detroit:20260425T110000
DTEND;TZID=America/Detroit:20260425T190000
DTSTAMP:20260424T165732
CREATED:20260324T173032Z
LAST-MODIFIED:20260413T173831Z
UID:10012895-1777114800-1777143600@visittoledo.org
SUMMARY:Toledo Pickle Mania Fest
DESCRIPTION:Get ready for a one-of-a-kind celebration at Toledo Pickle Mania\, the city’s first-ever pickle festival happening April 25 from 11 a.m. to 7 p.m. This all-day event invites visitors to experience Toledo’s ultimate tribute to all things pickle. \nGuests can explore a wide variety of vendors offering creative pickle-inspired foods and drinks\, from pickle soda and cheese curds to unique specialty treats. With free admission\, live music throughout the day\, and a lively atmosphere\, it’s the perfect outing for food lovers and festival-goers alike. \nAttendees can also enjoy a full bar featuring ice-cold beer\, pickle backs\, and a signature Spicy Pickle Margarita\, making it easy to sip and savor the experience from start to finish.
URL:https://visittoledo.org/event/toledo-pickle-mania-fest
LOCATION:Downtown Toledo\, Toledo\, OH\, United States
CATEGORIES:downtown,Pickle
ATTACH;FMTTYPE=image/png:https://visittoledo.org/wp-content/uploads/2026/03/picklemania-2026-4x3-event-image.png
GEO:41.6528052;-83.5378674
END:VEVENT
BEGIN:VEVENT
DTSTART;TZID=America/Detroit:20260426T130000
DTEND;TZID=America/Detroit:20260426T170000
DTSTAMP:20260424T165732
CREATED:20260408T175553Z
LAST-MODIFIED:20260408T175553Z
UID:10014394-1777208400-1777222800@visittoledo.org
SUMMARY:High Tea: Woodland Wonder
DESCRIPTION:Celebrate the magic of early spring with a tea party inspired by the blooming forest. This month’s menu features springy sweets like honey cake with black currant jam\, and earthy savories like mushroom + sage tarts. Tickets are $40 per person and include premium looseleaf tea and a platter of handmade pastries to share with your party. See what’s on the menu\, then gather your friends for a relaxing afternoon!
URL:https://visittoledo.org/event/high-tea-woodland-wonder
LOCATION:Dollop Shop\, 3144 Markway Rd\, Toledo\, 43606\, United States
CATEGORIES:food
ATTACH;FMTTYPE=image/png:https://visittoledo.org/wp-content/uploads/2026/04/dollop-shop-high-tea-april-26-4x3-event-image.png
GEO:41.6767634;-83.6204512
X-APPLE-STRUCTURED-LOCATION;VALUE=URI;X-ADDRESS=Dollop Shop 3144 Markway Rd Toledo 43606 United States;X-APPLE-RADIUS=500;X-TITLE=3144 Markway Rd:geo:-83.6204512,41.6767634
END:VEVENT
BEGIN:VEVENT
DTSTART;TZID=America/Detroit:20260426T163000
DTEND;TZID=America/Detroit:20260426T193000
DTSTAMP:20260424T165732
CREATED:20260420T193844Z
LAST-MODIFIED:20260420T193844Z
UID:10014860-1777221000-1777231800@visittoledo.org
SUMMARY:Wine & Dine | European Wine Dinner
DESCRIPTION:Barr’s Public House invites guests to an unforgettable Spring European Wine Dinner\, a refined evening of flavor\, music\, and hospitality. This elevated experience features six thoughtfully selected wines paired with a five-course menu curated by Chef Gracie\, each course crafted to highlight the distinct character of its pairing. Guests will be taken on a guided culinary journey through some of Europe’s most celebrated wine regions\, all while enjoying the ambiance of live music by violinist Aaron Rutter. Priced at $60 per person\, plus tax and gratuity\, this special event offers a perfect opportunity for visitors to indulge in exceptional cuisine and a memorable night out.
URL:https://visittoledo.org/event/wine-dine-european-wine-dinner
LOCATION:Barr’s Public House\, 3355 Briarfield Blvd\, Maumee\, OH\, 43537\, United States
CATEGORIES:food,wine
ATTACH;FMTTYPE=image/png:https://visittoledo.org/wp-content/uploads/2026/04/wine-dine-Barrs-public-house-4x3-event-image.png
GEO:41.5802122;-83.6949283
X-APPLE-STRUCTURED-LOCATION;VALUE=URI;X-ADDRESS=Barr’s Public House 3355 Briarfield Blvd Maumee OH 43537 United States;X-APPLE-RADIUS=500;X-TITLE=3355 Briarfield Blvd:geo:-83.6949283,41.5802122
END:VEVENT
END:VCALENDAR