BEGIN:VCALENDAR
VERSION:2.0
PRODID:-//Destination Toledo - ECPv6.15.20//NONSGML v1.0//EN
CALSCALE:GREGORIAN
METHOD:PUBLISH
X-ORIGINAL-URL:https://visittoledo.org
X-WR-CALDESC:Events for Destination Toledo
REFRESH-INTERVAL;VALUE=DURATION:PT1H
X-Robots-Tag:noindex
X-PUBLISHED-TTL:PT1H
BEGIN:VTIMEZONE
TZID:America/Detroit
BEGIN:DAYLIGHT
TZOFFSETFROM:-0500
TZOFFSETTO:-0400
TZNAME:EDT
DTSTART:20250309T070000
END:DAYLIGHT
BEGIN:STANDARD
TZOFFSETFROM:-0400
TZOFFSETTO:-0500
TZNAME:EST
DTSTART:20251102T060000
END:STANDARD
BEGIN:DAYLIGHT
TZOFFSETFROM:-0500
TZOFFSETTO:-0400
TZNAME:EDT
DTSTART:20260308T070000
END:DAYLIGHT
BEGIN:STANDARD
TZOFFSETFROM:-0400
TZOFFSETTO:-0500
TZNAME:EST
DTSTART:20261101T060000
END:STANDARD
BEGIN:DAYLIGHT
TZOFFSETFROM:-0500
TZOFFSETTO:-0400
TZNAME:EDT
DTSTART:20270314T070000
END:DAYLIGHT
BEGIN:STANDARD
TZOFFSETFROM:-0400
TZOFFSETTO:-0500
TZNAME:EST
DTSTART:20271107T060000
END:STANDARD
END:VTIMEZONE
BEGIN:VEVENT
DTSTART;TZID=America/Detroit:20260330T180000
DTEND;TZID=America/Detroit:20260330T210000
DTSTAMP:20260424T223957
CREATED:20251218T155150Z
LAST-MODIFIED:20251218T155150Z
UID:10010817-1774893600-1774904400@visittoledo.org
SUMMARY:Open Mic Night at First Base Lounge
DESCRIPTION:Take the stage or enjoy live local talent at Open Mic Night at First Base Lounge\, a recurring Monday night music event in Downtown Toledo hosted by P3K Music. This weekly open mic gives musicians\, singers\, and performers the opportunity to showcase their talents in an inviting atmosphere in the heart of downtown. \nWhether you’re performing or just listening\, Open Mic Night pairs great music with great food and drinks. First Base Lounge is known for its Detroit-style pizza\, and Mondays are even better with half off specialty pizzas all night long. Guests can also enjoy expertly crafted cocktails\, local and regional beers\, and attentive service in a space that blends cosmopolitan style with cozy comfort. \nFirst Base Lounge has become a favorite spot for comfortable hangs and relaxed nightlife. Open Mic Night is the perfect way to start the week\, support local artists\, discover new sounds\, and enjoy one of Toledo’s best pizza-and-cocktail destinations.
URL:https://visittoledo.org/event/open-mic-night-at-first-base-lounge/2026-03-30
LOCATION:First Base Lounge\, 20 N St. Clair\, Toledo\, OH\, 43604\, United States
CATEGORIES:cocktails,food,live music
ATTACH;FMTTYPE=image/png:https://visittoledo.org/wp-content/uploads/2025/12/first-base-lounge-open-mic-4x3-event-image.png
GEO:41.6478751;-83.5375399
X-APPLE-STRUCTURED-LOCATION;VALUE=URI;X-ADDRESS=First Base Lounge 20 N St. Clair Toledo OH 43604 United States;X-APPLE-RADIUS=500;X-TITLE=20 N St. Clair:geo:-83.5375399,41.6478751
END:VEVENT
BEGIN:VEVENT
DTSTART;TZID=America/Detroit:20260401T180000
DTEND;TZID=America/Detroit:20260401T200000
DTSTAMP:20260424T223957
CREATED:20260320T172153Z
LAST-MODIFIED:20260320T172153Z
UID:10012885-1775066400-1775073600@visittoledo.org
SUMMARY:Real Seafood Company | Gallo Lux Wine Dinner
DESCRIPTION:Date & Time:April 1\, 2026 | 6 p.m.re \nEvent Description:Real Seafood Company invites guests to an unforgettable evening of exceptional wine and cuisine at its Gallo Lux Wine Dinner. This thoughtfully curated five-course pairing experience features premium selections from Lux Wines\, each paired with chef-crafted dishes designed to highlight the character of every pour. \nSpecial guest speaker Douglas Miller\, of Lux Wines\,  will guide guests through the evening\, sharing insights into the wines and the stories behind them. \nAdditional Information:Reservations required \nMake your Reservation here
URL:https://visittoledo.org/event/real-seafood-company-gallo-lux-wine-dinner
LOCATION:Real Seafood Company Toledo\, 22 Main St\, Toledo\, OH\, 43605\, United States
CATEGORIES:downtown,food
ATTACH;FMTTYPE=image/png:https://visittoledo.org/wp-content/uploads/2026/03/real-seafood-wine-dinner-4x3-event-image-Recovered.png
GEO:41.647806;-83.529426
X-APPLE-STRUCTURED-LOCATION;VALUE=URI;X-ADDRESS=Real Seafood Company Toledo 22 Main St Toledo OH 43605 United States;X-APPLE-RADIUS=500;X-TITLE=22 Main St:geo:-83.529426,41.647806
END:VEVENT
BEGIN:VEVENT
DTSTART;TZID=America/Detroit:20260405T100000
DTEND;TZID=America/Detroit:20260405T143000
DTSTAMP:20260424T223957
CREATED:20260305T185056Z
LAST-MODIFIED:20260305T185056Z
UID:10012319-1775383200-1775399400@visittoledo.org
SUMMARY:Easter at Heather Downs Country Club
DESCRIPTION:Celebrate Easter Sunday with a brunch tradition your family will love. Join Heather Downs Country Club for a chef-prepared spread of holiday favorites\, seasonal specialties\, and sweet treats — all served in an inviting setting perfect for gathering with loved ones. \nOpen to the Public \nSeating at 10am\, 10:30am OR 1:30pm\, 2:00pm \nOrder your tickets online and secure your table.\nEaster Brunch – Heather Downs Events
URL:https://visittoledo.org/event/easter-at-heather-downs-country-club
LOCATION:Heather Downs Country Club\, 3910 Heatherdowns Blvd\, Toledo\, OH\, 43614\, United States
CATEGORIES:food,holiday
ATTACH;FMTTYPE=image/png:https://visittoledo.org/wp-content/uploads/2026/03/heather-downs-cc-easter-4x3-event-image.png
ORGANIZER;CN="Adventus Climbing":MAILTO:info@adventusclimbing.com
GEO:41.5977398;-83.635921
X-APPLE-STRUCTURED-LOCATION;VALUE=URI;X-ADDRESS=Heather Downs Country Club 3910 Heatherdowns Blvd Toledo OH 43614 United States;X-APPLE-RADIUS=500;X-TITLE=3910 Heatherdowns Blvd:geo:-83.635921,41.5977398
END:VEVENT
BEGIN:VEVENT
DTSTART;TZID=America/Detroit:20260405T100000
DTEND;TZID=America/Detroit:20260405T150000
DTSTAMP:20260424T223957
CREATED:20260316T151436Z
LAST-MODIFIED:20260316T151436Z
UID:10012873-1775383200-1775401200@visittoledo.org
SUMMARY:Easter Brunch Buffet at Toledo Pickle Co.
DESCRIPTION:Celebrate Easter with family and friends at the Easter Brunch Buffet at Toledo Pickle Co. on Sunday\, April 5 from 10:00 AM to 3:00 PM. \nThis festive Easter celebration features a delicious brunch buffet\, coffee and juice bar\, and family-friendly activities\, making it a perfect holiday outing in the Toledo area. Guests can enjoy a wide variety of brunch favorites\, from sweet breakfast treats to savory carving stations and fresh seasonal sides. \nThe buffet includes French toast\, cinnamon swirl pancakes\, muffins\, honey biscuits\, croissants\, and pastries\, along with interactive stations featuring prime rib carving\, pork tenderloin carving\, and made-to-order omelets. Guests can also enjoy brunch classics like honey-cured bacon\, sausage patties\, fingerling potatoes\, roasted vegetables\, deviled eggs\, fresh salads\, and fruit. \nFamilies will love the free egg decorating activity for kids\, while adults can enhance their brunch with a Mimosa Bar available for purchase. \nWith something for every taste and a welcoming atmosphere\, Easter Brunch at Toledo Pickle Co. is a wonderful way to celebrate the holiday with great food and festive fun. \nEvent Details: \n\n\nDate: Sunday\, April 5 \n\n\nTime: 10:00 AM – 3:00 PM \n\n\nLocation: Toledo Pickle Co. \n\n\nAdults: $39.95 \n\n\nChildren (5–12): $12.95 \n\n\nChildren 4 & Under: Free \n\n\nIncludes: Brunch buffet\, coffee & juice bar\, and egg decorating for kids \n\n\nReservations are required and space is limited. The reservation deadline is April 1.
URL:https://visittoledo.org/event/easter-brunch-buffet-at-toledo-pickle-co
LOCATION:Toledo Pickle Co.\, 1030 Water Street 43604\, Toledo\, OH\, 43604
CATEGORIES:food,holiday
ATTACH;FMTTYPE=image/png:https://visittoledo.org/wp-content/uploads/2026/03/toledo-pickle-easter-brunch-4x3-event-image.png
GEO:41.6564663;-83.524244
X-APPLE-STRUCTURED-LOCATION;VALUE=URI;X-ADDRESS=Toledo Pickle Co. 1030 Water Street 43604 Toledo OH 43604;X-APPLE-RADIUS=500;X-TITLE=1030 Water Street 43604:geo:-83.524244,41.6564663
END:VEVENT
BEGIN:VEVENT
DTSTART;TZID=America/Detroit:20260405T100000
DTEND;TZID=America/Detroit:20260405T150000
DTSTAMP:20260424T223957
CREATED:20260325T193323Z
LAST-MODIFIED:20260325T193323Z
UID:10012903-1775383200-1775401200@visittoledo.org
SUMMARY:Easter Brunch at Brim House
DESCRIPTION:An all you can eat buffet with Easter inspired menu including salad bar\, cheese display\, breakfast fare\, carving station and more. \n$48.95 plus Gratuity and Tax per adult. $24.95 for kids 4-12\, kids 3 and under eat free. Reservations recommended.
URL:https://visittoledo.org/event/easter-brunch-at-brim-house
LOCATION:Brim House Restaurant\, 444 N. Summit St\, Toledo\, 43604
CATEGORIES:food,holiday
ATTACH;FMTTYPE=image/png:https://visittoledo.org/wp-content/uploads/2026/03/brim-house-easter-brunch-4x3-event-image.png
GEO:41.6655573;-83.520346
X-APPLE-STRUCTURED-LOCATION;VALUE=URI;X-ADDRESS=Brim House Restaurant 444 N. Summit St Toledo 43604;X-APPLE-RADIUS=500;X-TITLE=444 N. Summit St:geo:-83.520346,41.6655573
END:VEVENT
BEGIN:VEVENT
DTSTART;TZID=America/Detroit:20260405T110000
DTEND;TZID=America/Detroit:20260405T141500
DTSTAMP:20260424T223957
CREATED:20260320T144634Z
LAST-MODIFIED:20260320T144737Z
UID:10012883-1775386800-1775398500@visittoledo.org
SUMMARY:Ciao! Easter Brunch
DESCRIPTION:Celebrate Easter with a festive\, family-friendly brunch buffet featuring a delicious spread everyone will enjoy. Perfect for gathering with loved ones and making holiday memories. \nDate & Time:April 5\, 2026 | 11:00 AM – 2:15 PM \nPricing: \n\n$39.99 – Adults\n$17.99 – Kids (12 & under)Tax and gratuity not included\n\nAdditional Information:Reservations required. Make your Reservation Here
URL:https://visittoledo.org/event/ciao-easter-brunch
LOCATION:Ciao!\, 6064 Monroe St\, Sylvania\, Ohio\, 43560
CATEGORIES:downtown,food
ATTACH;FMTTYPE=image/png:https://visittoledo.org/wp-content/uploads/2026/03/ciao-easter-brunch-2026-4x3-event-image-Recovered.png
GEO:41.7157836;-83.6890754
X-APPLE-STRUCTURED-LOCATION;VALUE=URI;X-ADDRESS=Ciao! 6064 Monroe St Sylvania Ohio 43560;X-APPLE-RADIUS=500;X-TITLE=6064 Monroe St:geo:-83.6890754,41.7157836
END:VEVENT
BEGIN:VEVENT
DTSTART;TZID=America/Detroit:20260405T110000
DTEND;TZID=America/Detroit:20260405T170000
DTSTAMP:20260424T223957
CREATED:20260320T171327Z
LAST-MODIFIED:20260323T130022Z
UID:10012884-1775386800-1775408400@visittoledo.org
SUMMARY:The Chop House Easter Brunch
DESCRIPTION:Celebrate Easter with an elevated brunch experience featuring refined seasonal dishes\, premium carved specialties\, and exceptional service. Designed for those who appreciate fine dining and an atmosphere of understated luxury\, this curated experience delivers the signature excellence The Chop House is known for. \nDate & Time:April 5\, 2026 | 11:00 AM – 5:00 PM \nPricing: \n\n$79.99 per personTax and gratuity not included\n\nAdditional Information:Reservations required. Make yours here! 
URL:https://visittoledo.org/event/the-chop-house-easter-brunch
LOCATION:The Chop House Toledo\, 300 N Summit St\, Toledo\, OH\, 43604\, United States
CATEGORIES:downtown,food
ATTACH;FMTTYPE=image/png:https://visittoledo.org/wp-content/uploads/2026/03/the-chop-house-easter-brunch-2026-4x3-event-image-Recovered.png
GEO:41.6511346;-83.532922
X-APPLE-STRUCTURED-LOCATION;VALUE=URI;X-ADDRESS=The Chop House Toledo 300 N Summit St Toledo OH 43604 United States;X-APPLE-RADIUS=500;X-TITLE=300 N Summit St:geo:-83.532922,41.6511346
END:VEVENT
END:VCALENDAR