BEGIN:VCALENDAR
VERSION:2.0
PRODID:-//Destination Toledo - ECPv6.15.20//NONSGML v1.0//EN
CALSCALE:GREGORIAN
METHOD:PUBLISH
X-WR-CALNAME:Destination Toledo
X-ORIGINAL-URL:https://visittoledo.org
X-WR-CALDESC:Events for Destination Toledo
REFRESH-INTERVAL;VALUE=DURATION:PT1H
X-Robots-Tag:noindex
X-PUBLISHED-TTL:PT1H
BEGIN:VTIMEZONE
TZID:America/Detroit
BEGIN:DAYLIGHT
TZOFFSETFROM:-0500
TZOFFSETTO:-0400
TZNAME:EDT
DTSTART:20240310T070000
END:DAYLIGHT
BEGIN:STANDARD
TZOFFSETFROM:-0400
TZOFFSETTO:-0500
TZNAME:EST
DTSTART:20241103T060000
END:STANDARD
BEGIN:DAYLIGHT
TZOFFSETFROM:-0500
TZOFFSETTO:-0400
TZNAME:EDT
DTSTART:20250309T070000
END:DAYLIGHT
BEGIN:STANDARD
TZOFFSETFROM:-0400
TZOFFSETTO:-0500
TZNAME:EST
DTSTART:20251102T060000
END:STANDARD
BEGIN:DAYLIGHT
TZOFFSETFROM:-0500
TZOFFSETTO:-0400
TZNAME:EDT
DTSTART:20260308T070000
END:DAYLIGHT
BEGIN:STANDARD
TZOFFSETFROM:-0400
TZOFFSETTO:-0500
TZNAME:EST
DTSTART:20261101T060000
END:STANDARD
END:VTIMEZONE
BEGIN:VEVENT
DTSTART;TZID=America/Detroit:20250909T170000
DTEND;TZID=America/Detroit:20250909T200000
DTSTAMP:20260420T084839
CREATED:20250721T164251Z
LAST-MODIFIED:20250721T164251Z
UID:10008423-1757437200-1757448000@visittoledo.org
SUMMARY:Sylvania Summer Market
DESCRIPTION:Get ready for a season of vibrant colors\, fresh flavors\, and community spirit as The Sylvania Summer Market brings you an amazing outdoor market experience! Every Tuesday from 5:00 pm – 8:00 pm at Olander Park their program promises to celebrate local agriculture\, artisans\, and the great outdoors. \nHere’s a sneak peek into this summer’s market: \nFrom the Fields: Immerse yourself in produce from the fields of area growers. \nFood Truck Extravaganza: Savor the flavors of Sylvania with a diverse selection of food trucks offering everything from gourmet sandwiches to international cuisines. Enjoy a picnic in the park or grab a bite while you explore the market. \nArtisanal Delights: Indulge in the craftsmanship of their local artisans as they showcase their handmade cheeses\, bread\, jams\, and more. \nBlooming Beauties: Explore a garden of floral wonders at their flower market. Brighten up your home with stunning bouquets\, potted plants\, and seasonal arrangements. \nFamily-Friendly Fun: They have activities for the little ones too! From face painting to interactive workshops\, the market is a family-friendly destination where everyone can enjoy a day outdoors. \nLocal Artistry: The market will feature a  selection of handmade jewelry\, paintings\, ceramics\, and more. Support local talent and take home a piece of Sylvania’s artistic soul. \nLive Music & Entertainment: Soak in the lively atmosphere with  music performances\, and entertainment for the whole family. \nCome for the fresh produce\, stay for the community vibes\, and leave with a basket full of memories. See you at the market!
URL:https://visittoledo.org/event/sylvania-summer-market/2025-09-09
LOCATION:Olander Park\, 6930 Sylvania Ave\, Sylvania\, Ohio\, 43560\, United States
CATEGORIES:family friendly,live music,outdoors,shopping
ATTACH;FMTTYPE=image/png:https://visittoledo.org/wp-content/uploads/2025/07/sylvania-farmers-market-2025-4x3-event-image-Recovered.png
GEO:41.6921924;-83.7089311
X-APPLE-STRUCTURED-LOCATION;VALUE=URI;X-ADDRESS=Olander Park 6930 Sylvania Ave Sylvania Ohio 43560 United States;X-APPLE-RADIUS=500;X-TITLE=6930 Sylvania Ave:geo:-83.7089311,41.6921924
END:VEVENT
BEGIN:VEVENT
DTSTART;TZID=America/Detroit:20250910T080000
DTEND;TZID=America/Detroit:20250910T170000
DTSTAMP:20260420T084839
CREATED:20250910T162141Z
LAST-MODIFIED:20250910T162141Z
UID:10008688-1757491200-1757523600@visittoledo.org
SUMMARY:2025 International Festival
DESCRIPTION:Celebrate global culture at the 2025 International Festival\, presented by Toledo Sister Cities International\, Inc. Enjoy a vibrant day of cross-cultural performances\, international cuisine\, and unique market vendors from around the world. Bring the whole family for a one-of-a-kind experience that connects cultures and communities\, right in the heart of Downtown Toledo!
URL:https://visittoledo.org/event/2025-international-festival
LOCATION:Erie Street Market\, 201 S Erie St\, Toledo\, OH\, 43604\, United States
CATEGORIES:educational,entertainment,family friendly,Festival
ATTACH;FMTTYPE=image/png:https://visittoledo.org/wp-content/uploads/2025/09/International-Festival-2025-event-image.png
GEO:41.64567;-83.543606
X-APPLE-STRUCTURED-LOCATION;VALUE=URI;X-ADDRESS=Erie Street Market 201 S Erie St Toledo OH 43604 United States;X-APPLE-RADIUS=500;X-TITLE=201 S Erie St:geo:-83.543606,41.64567
END:VEVENT
BEGIN:VEVENT
DTSTART;TZID=America/Detroit:20250910T150000
DTEND;TZID=America/Detroit:20250910T190000
DTSTAMP:20260420T084839
CREATED:20250721T151116Z
LAST-MODIFIED:20250721T151313Z
UID:10008355-1757516400-1757530800@visittoledo.org
SUMMARY:Westgate Farmers' Market
DESCRIPTION:Check out the Westgate Farmers Market on Wednesdays from 3:00 pm – 7:00 pm featuring local produce & handmade products from local artisans in the Toledo Region May – October! \nYou can find the Westgate Farmers Market from the Expressway take I-475 to exit #17.  Turn south and proceed to Central Avenue\, Turn right on Central you will see the market on the right-hand side of the road across from COSTCO. Please be aware that this market is outdoors and is contingent on the weather. \nThe Farmers’ Market Association of Toledo (FMAT) goal is to provide a highly visible\, centralized location for area farmers and gardeners to market high-quality products directly to consumers. They support local small family farms\, agricultural producers\, and craftsmen\, whose continued existence depends on direct marketing opportunities.
URL:https://visittoledo.org/event/westgate-farmers-market/2025-09-10
LOCATION:Westgate Farmers Market\, 3408 West Central Avenue\, Toledo\, Ohio\, 43606
CATEGORIES:crafts,family friendly,food,outdoors,shopping
ATTACH;FMTTYPE=image/png:https://visittoledo.org/wp-content/uploads/2025/07/westgate-farmers-market-4x3-event-image-Recovered.png
GEO:41.6793215;-83.6261837
X-APPLE-STRUCTURED-LOCATION;VALUE=URI;X-ADDRESS=Westgate Farmers Market 3408 West Central Avenue Toledo Ohio 43606;X-APPLE-RADIUS=500;X-TITLE=3408 West Central Avenue:geo:-83.6261837,41.6793215
END:VEVENT
BEGIN:VEVENT
DTSTART;TZID=America/Detroit:20250911T113000
DTEND;TZID=America/Detroit:20250911T133000
DTSTAMP:20260420T084839
CREATED:20250502T191550Z
LAST-MODIFIED:20250502T192714Z
UID:10007211-1757590200-1757597400@visittoledo.org
SUMMARY:Lunch at Levis
DESCRIPTION:Join in the celebration of 20 years of Lunch at Levis! Enjoy live entertainment\, food vendors\, games and other activities! Grab lunch from one of the 17 local food trucks or get takeout from one of downtown Toledo’s restaurants and come join the fun.\n\nLevis Square Park – at the corner of Madison Avenue & St. Clair St.Every Thursday from June 5 – October 2 (11:30 a.m. – 1:30 p.m.)\n– June 5 | DJ Jon Zenz– June 12 | Michael Corwin– June 19 | Distant Cousinz– June 26 | Chris Knopp– July 3 | 4th of July Celebration with Shane Piasecki– July 10 | New Moon– July 17 | Ben DeLong– July 24 | Christmas in July event with Arctic Clam– July 31 | Chloe & the Steel Strings– August 7 | Mud Hens Hype Bash– August 14 | Chavar Dontae– August 21 | Tim Oehlers– August 28 | Water Street Band– September 4 | DJ Super Nathan– September 11 | Terry & Charlie– September 18 | Ora Pettaway– September 25 | Tony Salazar– October 2 | DJ Jon Zenz
URL:https://visittoledo.org/event/lunch-at-levis/2025-09-11
LOCATION:Levis Square\, 285 N St Clair St\, Toledo\, OH\, 43604\, United States
CATEGORIES:entertainment,food,live music,outdoors
ATTACH;FMTTYPE=image/png:https://visittoledo.org/wp-content/uploads/2025/05/lunch-at-levis-4x3-event-image.png
GEO:41.650892;-83.5354784
X-APPLE-STRUCTURED-LOCATION;VALUE=URI;X-ADDRESS=Levis Square 285 N St Clair St Toledo OH 43604 United States;X-APPLE-RADIUS=500;X-TITLE=285 N St Clair St:geo:-83.5354784,41.650892
END:VEVENT
BEGIN:VEVENT
DTSTART;TZID=America/Detroit:20250911T183000
DTEND;TZID=America/Detroit:20250911T203000
DTSTAMP:20260420T084839
CREATED:20250414T154703Z
LAST-MODIFIED:20250415T175322Z
UID:10006837-1757615400-1757622600@visittoledo.org
SUMMARY:Jazz In The Garden | Ariel Kaiser Quartet
DESCRIPTION:Toledo Botanical Garden\, Thursdays\, 6:30 p.m. from July 10 – September 11 \nWarm summer nights and cool Jazz in the Garden. This season\, once again\, features some of the best regional artists. \nThe Toledo Botanical Garden will have food trucks on site. Bring your friends/family and enjoy music in nature. Fee: $10. $5 for up to 2 tickets for Members. Please Note: kids 12 and under are Free. No reservation required. Cash only at gate. Gates open at 5:30 p.m. Bring a chair/blanket. \n\nJuly 10\, Toledo Jazz Orchestra\nJuly 17\, Gene Parker Quintet\nJuly 24\, Ramona Collins Group\nJuly 31\, Dr. Jim & Jazz Interns\nAugust 7\, Cake Walkin’ Jass Band\nAugust 14\, Tumbao Bravo\nAugust 21\, Jean Holden Group\nAugust 28\, 6th Edition\nSeptember 4\, April Varner Band\nSeptember 11\, Ariel Kaiser Quartet\n\nFor a complete line-up of performances visit MetroparksToledo.com/jazz. \nFor more information on the Toledo Metroparks visit Metroparks Toledo – Destination Toledo
URL:https://visittoledo.org/event/jazz-in-the-garden-ariel-kaiser-quartet
LOCATION:Toledo Botanical Garden\, 5403 Elmer Dr\, Toledo\, OH\, 43615\, United States
CATEGORIES:concert,entertainment,family friendly,food,live music
ATTACH;FMTTYPE=image/png:https://visittoledo.org/wp-content/uploads/2025/04/jazz-in-the-garden-4x3-event-image.png
GEO:41.6684698;-83.6711956
X-APPLE-STRUCTURED-LOCATION;VALUE=URI;X-ADDRESS=Toledo Botanical Garden 5403 Elmer Dr Toledo OH 43615 United States;X-APPLE-RADIUS=500;X-TITLE=5403 Elmer Dr:geo:-83.6711956,41.6684698
END:VEVENT
BEGIN:VEVENT
DTSTART;TZID=America/Detroit:20250913T090000
DTEND;TZID=America/Detroit:20250913T130000
DTSTAMP:20260420T084839
CREATED:20250408T152305Z
LAST-MODIFIED:20250408T152838Z
UID:10006000-1757754000-1757768400@visittoledo.org
SUMMARY:Toledo Farmers' Market
DESCRIPTION:The Toledo Farmers’ Market occurs every Saturday throughout the year\, featuring local produce & handmade products from local artisans in the Toledo Region.\n*Summer/Fall Hours (Outdoor Market)*8am – 2pm\n*Winter/Spring Hours (Indoor Market)*9am – 1pm\nThe Farmers’ Market Association of Toledo (FMAT) goal is to provide a highly visible\, centralized location for area farmers and gardeners to market high-quality products directly to consumers. They support local small family farms\, agricultural producers\, and craftsmen\, whose continued existence depends on direct marketing opportunities.
URL:https://visittoledo.org/event/toledo-farmers-market/2025-09-13
LOCATION:Toledo Farmers’ Market\, 525 Market St\,\, Toledo\, Ohio\, 43604\, United States
CATEGORIES:food,shopping
ATTACH;FMTTYPE=image/png:https://visittoledo.org/wp-content/uploads/2025/04/farmers-market-4x3-event-image.png
GEO:41.6456052;-83.542166
X-APPLE-STRUCTURED-LOCATION;VALUE=URI;X-ADDRESS=Toledo Farmers’ Market 525 Market St Toledo Ohio 43604 United States;X-APPLE-RADIUS=500;X-TITLE=525 Market St\,:geo:-83.542166,41.6456052
END:VEVENT
BEGIN:VEVENT
DTSTART;TZID=America/Detroit:20250913T150000
DTEND;TZID=America/Detroit:20250913T200000
DTSTAMP:20260420T084839
CREATED:20250725T201003Z
LAST-MODIFIED:20250811T153525Z
UID:10008520-1757775600-1757793600@visittoledo.org
SUMMARY:10th Annual TMA Block Party
DESCRIPTION:Join the Toledo Museum of Art (TMA) for its 10th annual Block Party! This vibrant celebration of art\, culture\, and community\, titled “Around the World in Art and Culture\,” will be held Saturday\, Sept. 13\, 2025\, from 3-8 p.m. \nCreate\, play\, and connect with hands-on art making\, family-friendly games\, face painting\, and special appearances by local mascots. Community partners like the Toledo Lucas County Public Library\, Imagination Station\, and Promedica will be on-site alongside local organizations\, safety partners\, and neighborhood resources. \nAll of Block Party’s events will take place outside of the Green Building and Glass Pavilion on Monroe Street\, which will be closed to traffic between Parkwood and Scottwood Avenues. Featured entertainment is set to include Toledo native DJ Jalen Tol\, DJ Tony Rios\, and student drumline My5tery Music. 13ABC’s Kristian Brown will act as the evening’s host\, and NBC’s The Voice Finalist Jan Dan\, along with the Toledo Symphony Orchestra\, will headline the event. \nThe full schedule of events is as follows:\n• My5tery Music Drumline\, 3-3:35 p.m.\, Monroe Street outside the Green Building.\n• Welcome from TMA Leadership and Introduction to Host Kristian Brown\, 3:35-3:50 p.m.\, Monroe Street outside the Green Building.\n• DJ Tony Rios\, 3:50-5 p.m.\, Monroe Street outside the Green Building.\n• AHA Dance Troup\, 5-5:30 p.m.\, Monroe Street outside the Green Building.\n• Key to the Museum Community Honor\, 5:30-5:45 p.m.\, Monroe Street outside the Green Building.\n• Toledo native DJ Jalen Tol\, 5:45-7 p.m.\, Monroe Street outside the Green Building.\n• Headliner: “The Voice” finalist Jan Dan with the Toledo Symphony Orchestra\, 7-8 p.m.\, Monroe Street outside the Green Building.\n• Closing Remarks\, 8 p.m.\, Monroe Street outside the Green Building.\n• Drone Light Show\, 8:15-8:30 p.m.\, Monroe Street outside the Green Building.
URL:https://visittoledo.org/event/9th-annual-tma-block-party
LOCATION:Toledo Museum of Art\, 2445 Monroe St\, Toledo\, OH\, 43620\, United States
CATEGORIES:art,entertainment,family friendly,food,live music,outdoors
ATTACH;FMTTYPE=image/jpeg:https://visittoledo.org/wp-content/uploads/2025/08/TMA_BlockParty_2024-28.jpg
GEO:41.6596851;-83.5580639
X-APPLE-STRUCTURED-LOCATION;VALUE=URI;X-ADDRESS=Toledo Museum of Art 2445 Monroe St Toledo OH 43620 United States;X-APPLE-RADIUS=500;X-TITLE=2445 Monroe St:geo:-83.5580639,41.6596851
END:VEVENT
BEGIN:VEVENT
DTSTART;TZID=America/Detroit:20250913T170000
DTEND;TZID=America/Detroit:20250913T230000
DTSTAMP:20260420T084839
CREATED:20250904T201505Z
LAST-MODIFIED:20250904T201505Z
UID:10008682-1757782800-1757804400@visittoledo.org
SUMMARY:Harvest Moon Cocktail Night
DESCRIPTION:Join the fun at Dollop Shop on Saturday\, September 13th for craft cocktails\, wine\, and sweet and savory bakes. Start your night there or make it your last date night stop. The Dollop Shop can’t wait to share the first tastes of fall with you! \nReservations are recommended but walk-ins are always welcome.
URL:https://visittoledo.org/event/harvest-moon-cocktail-night
LOCATION:Dollop Shop\, 3144 Markway Rd\, Toledo\, 43606\, United States
CATEGORIES:cocktails,food
ATTACH;FMTTYPE=image/png:https://visittoledo.org/wp-content/uploads/2025/09/dollop-shop-harvest-4x3-event-image.png
GEO:41.6767634;-83.6204512
X-APPLE-STRUCTURED-LOCATION;VALUE=URI;X-ADDRESS=Dollop Shop 3144 Markway Rd Toledo 43606 United States;X-APPLE-RADIUS=500;X-TITLE=3144 Markway Rd:geo:-83.6204512,41.6767634
END:VEVENT
END:VCALENDAR