BEGIN:VCALENDAR
VERSION:2.0
PRODID:-//Destination Toledo - ECPv6.15.20//NONSGML v1.0//EN
CALSCALE:GREGORIAN
METHOD:PUBLISH
X-ORIGINAL-URL:https://visittoledo.org
X-WR-CALDESC:Events for Destination Toledo
REFRESH-INTERVAL;VALUE=DURATION:PT1H
X-Robots-Tag:noindex
X-PUBLISHED-TTL:PT1H
BEGIN:VTIMEZONE
TZID:America/Detroit
BEGIN:DAYLIGHT
TZOFFSETFROM:-0500
TZOFFSETTO:-0400
TZNAME:EDT
DTSTART:20250309T070000
END:DAYLIGHT
BEGIN:STANDARD
TZOFFSETFROM:-0400
TZOFFSETTO:-0500
TZNAME:EST
DTSTART:20251102T060000
END:STANDARD
BEGIN:DAYLIGHT
TZOFFSETFROM:-0500
TZOFFSETTO:-0400
TZNAME:EDT
DTSTART:20260308T070000
END:DAYLIGHT
BEGIN:STANDARD
TZOFFSETFROM:-0400
TZOFFSETTO:-0500
TZNAME:EST
DTSTART:20261101T060000
END:STANDARD
BEGIN:DAYLIGHT
TZOFFSETFROM:-0500
TZOFFSETTO:-0400
TZNAME:EDT
DTSTART:20270314T070000
END:DAYLIGHT
BEGIN:STANDARD
TZOFFSETFROM:-0400
TZOFFSETTO:-0500
TZNAME:EST
DTSTART:20271107T060000
END:STANDARD
END:VTIMEZONE
BEGIN:VEVENT
DTSTART;TZID=America/Detroit:20260502T130000
DTEND;TZID=America/Detroit:20260531T150000
DTSTAMP:20260423T100227
CREATED:20260420T184935Z
LAST-MODIFIED:20260420T184935Z
UID:10014852-1777726800-1780239600@visittoledo.org
SUMMARY:Did an Asteroid Really Kill the Dinosaurs? | Ritter Planetarium and Brooks Observatory
DESCRIPTION:Astronomy and Dinosaurs\, what else could anyone want? \nOn Saturday afternoons at 1:00 PM from May 2 to May 30\, this program at Ritter Planetarium on The University of Toledo Main Campus examines the mystery of the great extinction some 65 million years ago. Travel with us as geologists roam the earth in search of clues that ultimately lead scientists to the massive impact from space in the Yucatan Peninsula that killed the dinosaurs. This is an exciting and entertaining program that answers the question\, “Did an Asteroid Really Kill the Dinosaurs?
URL:https://visittoledo.org/event/did-an-asteroid-really-kill-the-dinosaurs-ritter-planetarium-and-brooks-observatory/2026-05-02
LOCATION:Ritter Planetarium and Brooks Observatory\, 2855 W Bancroft Street\, Toledo\, OH\, 43606\, United States
CATEGORIES:educational,family friendly
ATTACH;FMTTYPE=image/png:https://visittoledo.org/wp-content/uploads/2026/04/events-template-3.png
GEO:41.6624252;-83.6122268
X-APPLE-STRUCTURED-LOCATION;VALUE=URI;X-ADDRESS=Ritter Planetarium and Brooks Observatory 2855 W Bancroft Street Toledo OH 43606 United States;X-APPLE-RADIUS=500;X-TITLE=2855 W Bancroft Street:geo:-83.6122268,41.6624252
END:VEVENT
BEGIN:VEVENT
DTSTART;TZID=America/Detroit:20260519T180000
DTEND;TZID=America/Detroit:20260519T203000
DTSTAMP:20260423T100227
CREATED:20260216T162836Z
LAST-MODIFIED:20260216T162836Z
UID:10011982-1779213600-1779222600@visittoledo.org
SUMMARY:Toledo Mud Hens vs. Indianapolis Indians
DESCRIPTION:From the first pitch to the final out\, Toledo Mud Hens baseball delivers nonstop excitement at Fifth Third Field in Downtown Toledo. \nThe Mud Hens welcome the Indianapolis Indians (Pittsburgh Pirates AAA affiliate) for a six game homestand. \nHens & Hounds\nBark by popular demand! Bring your pup to select Tuesday Mud Hens games this season. \n2026 Season Schedule\nGet ready for a season of world-famous fun at Fifth Third Field. The Toledo Mud Hens 2026 promotions schedule is packed with theme nights\, giveaways\, festivals\, fireworks\, and special ticket offers all spring and summer long. From Opening Day and holiday celebrations to fan-favorite nights and family-friendly Sundays\, there’s always something happening at the ballpark. For a full list of promotions\, bag policies\, and other FAQ visit Know Before You Go | Mud Hens
URL:https://visittoledo.org/event/toledo-mud-hens-vs-indianapolis-indians
LOCATION:Fifth Third Field\, 406 Washington St\, Toledo\, OH\, 43604
CATEGORIES:sports
ATTACH;FMTTYPE=image/jpeg:https://visittoledo.org/wp-content/uploads/2025/03/Mud-Hens-Events-Graphic.jpg
GEO:41.6477342;-83.5384538
X-APPLE-STRUCTURED-LOCATION;VALUE=URI;X-ADDRESS=Fifth Third Field 406 Washington St Toledo OH 43604;X-APPLE-RADIUS=500;X-TITLE=406 Washington St:geo:-83.5384538,41.6477342
END:VEVENT
BEGIN:VEVENT
DTSTART;TZID=America/Detroit:20260520T110000
DTEND;TZID=America/Detroit:20260520T133000
DTSTAMP:20260423T100227
CREATED:20260216T163833Z
LAST-MODIFIED:20260216T163833Z
UID:10011983-1779274800-1779283800@visittoledo.org
SUMMARY:Toledo Mud Hens vs. Indianapolis Indians
DESCRIPTION:From the first pitch to the final out\, Toledo Mud Hens baseball delivers nonstop excitement at Fifth Third Field in Downtown Toledo. \nThe Mud Hens welcome the Indianapolis Indians (Pittsburgh Pirates AAA affiliate) for a six game homestand. \nMay 20th’s home game is the second of three School Education days in 2026\, and the learning starts early with a School Fair at Hensville Park from 9—11am before each game. All students upon exit from School Education Day games this season will go home with a Mud Hens bookmark. \n2026 Season Schedule\nGet ready for a season of world-famous fun at Fifth Third Field. The Toledo Mud Hens 2026 promotions schedule is packed with theme nights\, giveaways\, festivals\, fireworks\, and special ticket offers all spring and summer long. From Opening Day and holiday celebrations to fan-favorite nights and family-friendly Sundays\, there’s always something happening at the ballpark. For a full list of promotions\, bag policies\, and other FAQ visit Know Before You Go | Mud Hens
URL:https://visittoledo.org/event/toledo-mud-hens-vs-indianapolis-indians-2
LOCATION:Fifth Third Field\, 406 Washington St\, Toledo\, OH\, 43604
CATEGORIES:sports
ATTACH;FMTTYPE=image/jpeg:https://visittoledo.org/wp-content/uploads/2025/03/Mud-Hens-Events-Graphic.jpg
GEO:41.6477342;-83.5384538
X-APPLE-STRUCTURED-LOCATION;VALUE=URI;X-ADDRESS=Fifth Third Field 406 Washington St Toledo OH 43604;X-APPLE-RADIUS=500;X-TITLE=406 Washington St:geo:-83.5384538,41.6477342
END:VEVENT
BEGIN:VEVENT
DTSTART;TZID=America/Detroit:20260520T190000
DTEND;TZID=America/Detroit:20260520T210000
DTSTAMP:20260423T100227
CREATED:20260421T165025Z
LAST-MODIFIED:20260421T165025Z
UID:10014870-1779303600-1779310800@visittoledo.org
SUMMARY:Toledo Villa Women vs. Dayton Dutch Lions
DESCRIPTION:Get ready for an exciting season of high-level competition as Toledo Villa FC Women’s Soccer returns to the pitch at Paul Hotmer Field. \nTaking place throughout the summer\, these USL-2 matches showcase talented collegiate players from around the country competing in a fast-paced environment. With a focus on player development and community pride\, Toledo Villa FC delivers an energetic matchday experience that keeps fans of all ages coming back all season long. \nSet on the campus of University of Toledo\, Paul Hotmer Field offers an intimate and engaging atmosphere where every play\, pass\, and goal feels close to the action. Whether you’re a dedicated soccer supporter or simply looking for a great local sporting event\, Toledo Villa FC matches are a perfect way to spend a summer evening. \n2026 Home Schedule\nMay 16 – vs. Indy Eleven (3 pm)\nMay 20 – vs. Dayton Dutch Lions (7 pm)\nMay 27 – vs. Dayton Dutch Lions (7 pm)\nJune 3 – vs. Indy Eleven (7 pm)\nJune 7 – vs. Racing Louisville (2:30 pm) \n\n\n\n\n\n\n\n\n\n\n 
URL:https://visittoledo.org/event/toledo-villa-women-vs-dayton-dutch-lions
LOCATION:University of Toledo\, 2801 W Bancroft St\, Toledo\, Ohio\, 43606\, United States
CATEGORIES:family friendly,sports
ATTACH;FMTTYPE=image/jpeg:https://visittoledo.org/wp-content/uploads/2025/05/Toledo-Villa-FC-Events-Graphic.jpg
GEO:41.6623201;-83.6170915
X-APPLE-STRUCTURED-LOCATION;VALUE=URI;X-ADDRESS=University of Toledo 2801 W Bancroft St Toledo Ohio 43606 United States;X-APPLE-RADIUS=500;X-TITLE=2801 W Bancroft St:geo:-83.6170915,41.6623201
END:VEVENT
BEGIN:VEVENT
DTSTART;TZID=America/Detroit:20260521T183000
DTEND;TZID=America/Detroit:20260521T210000
DTSTAMP:20260423T100227
CREATED:20260216T164032Z
LAST-MODIFIED:20260216T164032Z
UID:10011984-1779388200-1779397200@visittoledo.org
SUMMARY:Toledo Mud Hens vs. Indianapolis Indians
DESCRIPTION:From the first pitch to the final out\, Toledo Mud Hens baseball delivers nonstop excitement at Fifth Third Field in Downtown Toledo. \nThe Mud Hens welcome the Indianapolis Indians (Pittsburgh Pirates AAA affiliate) for a six game homestand. \nMental Health Awareness Night \nIt starts with a conversation. Join the Mud Hens as they recognize the importance of checking in on one another during Mental Health Awareness Night. \n2026 Season Schedule\nGet ready for a season of world-famous fun at Fifth Third Field. The Toledo Mud Hens 2026 promotions schedule is packed with theme nights\, giveaways\, festivals\, fireworks\, and special ticket offers all spring and summer long. From Opening Day and holiday celebrations to fan-favorite nights and family-friendly Sundays\, there’s always something happening at the ballpark. For a full list of promotions\, bag policies\, and other FAQ visit Know Before You Go | Mud Hens
URL:https://visittoledo.org/event/toledo-mud-hens-vs-indianapolis-indians-3
LOCATION:Fifth Third Field\, 406 Washington St\, Toledo\, OH\, 43604
CATEGORIES:sports
ATTACH;FMTTYPE=image/jpeg:https://visittoledo.org/wp-content/uploads/2025/03/Mud-Hens-Events-Graphic.jpg
GEO:41.6477342;-83.5384538
X-APPLE-STRUCTURED-LOCATION;VALUE=URI;X-ADDRESS=Fifth Third Field 406 Washington St Toledo OH 43604;X-APPLE-RADIUS=500;X-TITLE=406 Washington St:geo:-83.5384538,41.6477342
END:VEVENT
BEGIN:VEVENT
DTSTART;TZID=America/Detroit:20260522T190000
DTEND;TZID=America/Detroit:20260522T213000
DTSTAMP:20260423T100227
CREATED:20260216T164454Z
LAST-MODIFIED:20260413T175138Z
UID:10011985-1779476400-1779485400@visittoledo.org
SUMMARY:Toledo Mud Hens vs. Indianapolis Indians
DESCRIPTION:From the first pitch to the final out\, Toledo Mud Hens baseball delivers nonstop excitement at Fifth Third Field in Downtown Toledo. \nThe Mud Hens welcome the Indianapolis Indians (Pittsburgh Pirates AAA affiliate) for a six game homestand. \nMilitary Appreciation Night \nThe Mud Hens are honoring past and present of our military with a bobblehead giveaway\, specialty jersey\, and more. \n2026 Season Schedule\nGet ready for a season of world-famous fun at Fifth Third Field. The Toledo Mud Hens 2026 promotions schedule is packed with theme nights\, giveaways\, festivals\, fireworks\, and special ticket offers all spring and summer long. From Opening Day and holiday celebrations to fan-favorite nights and family-friendly Sundays\, there’s always something happening at the ballpark. For a full list of promotions\, bag policies\, and other FAQ visit Know Before You Go | Mud Hens
URL:https://visittoledo.org/event/toledo-mud-hens-vs-indianapolis-indians-4
LOCATION:Fifth Third Field\, 406 Washington St\, Toledo\, OH\, 43604
CATEGORIES:Memorial,sports
ATTACH;FMTTYPE=image/jpeg:https://visittoledo.org/wp-content/uploads/2025/03/Mud-Hens-Events-Graphic.jpg
GEO:41.6477342;-83.5384538
X-APPLE-STRUCTURED-LOCATION;VALUE=URI;X-ADDRESS=Fifth Third Field 406 Washington St Toledo OH 43604;X-APPLE-RADIUS=500;X-TITLE=406 Washington St:geo:-83.5384538,41.6477342
END:VEVENT
BEGIN:VEVENT
DTSTART;TZID=America/Detroit:20260523T130000
DTEND;TZID=America/Detroit:20260523T150000
DTSTAMP:20260423T100227
CREATED:20260420T184935Z
LAST-MODIFIED:20260420T184935Z
UID:10014855-1779541200-1779548400@visittoledo.org
SUMMARY:Did an Asteroid Really Kill the Dinosaurs? | Ritter Planetarium and Brooks Observatory
DESCRIPTION:Astronomy and Dinosaurs\, what else could anyone want? \nOn Saturday afternoons at 1:00 PM from May 2 to May 30\, this program at Ritter Planetarium on The University of Toledo Main Campus examines the mystery of the great extinction some 65 million years ago. Travel with us as geologists roam the earth in search of clues that ultimately lead scientists to the massive impact from space in the Yucatan Peninsula that killed the dinosaurs. This is an exciting and entertaining program that answers the question\, “Did an Asteroid Really Kill the Dinosaurs?
URL:https://visittoledo.org/event/did-an-asteroid-really-kill-the-dinosaurs-ritter-planetarium-and-brooks-observatory/2026-05-23
LOCATION:Ritter Planetarium and Brooks Observatory\, 2855 W Bancroft Street\, Toledo\, OH\, 43606\, United States
CATEGORIES:educational,family friendly
ATTACH;FMTTYPE=image/png:https://visittoledo.org/wp-content/uploads/2026/04/events-template-3.png
GEO:41.6624252;-83.6122268
X-APPLE-STRUCTURED-LOCATION;VALUE=URI;X-ADDRESS=Ritter Planetarium and Brooks Observatory 2855 W Bancroft Street Toledo OH 43606 United States;X-APPLE-RADIUS=500;X-TITLE=2855 W Bancroft Street:geo:-83.6122268,41.6624252
END:VEVENT
BEGIN:VEVENT
DTSTART;TZID=America/Detroit:20260523T190000
DTEND;TZID=America/Detroit:20260523T213000
DTSTAMP:20260423T100227
CREATED:20260216T183224Z
LAST-MODIFIED:20260413T175236Z
UID:10011986-1779562800-1779571800@visittoledo.org
SUMMARY:Toledo Mud Hens vs. Indianapolis Indians
DESCRIPTION:From the first pitch to the final out\, Toledo Mud Hens baseball delivers nonstop excitement at Fifth Third Field in Downtown Toledo. \nThe Mud Hens welcome the Indianapolis Indians (Pittsburgh Pirates AAA affiliate) for a six game homestand. \n“The Paper” Night\nCelebrate Toledo pride during “The Paper” Night with the Toledo Mud Hens. The ballpark comes alive with a special tribute to NBC’s Toledo-set sitcom The Paper\, featuring a special appearance by series star Oscar Nuñez for fan photos and autographs at Hensville Park. The night also includes a limited-edition Patriotic Muddy bobblehead ticket package and a postgame fireworks show. \n2026 Season Schedule\nGet ready for a season of world-famous fun at Fifth Third Field. The Toledo Mud Hens 2026 promotions schedule is packed with theme nights\, giveaways\, festivals\, fireworks\, and special ticket offers all spring and summer long. From Opening Day and holiday celebrations to fan-favorite nights and family-friendly Sundays\, there’s always something happening at the ballpark. For a full list of promotions\, bag policies\, and other FAQ visit Know Before You Go | Mud Hens
URL:https://visittoledo.org/event/toledo-mud-hens-vs-indianapolis-indians-5
LOCATION:Fifth Third Field\, 406 Washington St\, Toledo\, OH\, 43604
CATEGORIES:Memorial,sports
ATTACH;FMTTYPE=image/jpeg:https://visittoledo.org/wp-content/uploads/2025/03/Mud-Hens-Events-Graphic.jpg
GEO:41.6477342;-83.5384538
X-APPLE-STRUCTURED-LOCATION;VALUE=URI;X-ADDRESS=Fifth Third Field 406 Washington St Toledo OH 43604;X-APPLE-RADIUS=500;X-TITLE=406 Washington St:geo:-83.5384538,41.6477342
END:VEVENT
BEGIN:VEVENT
DTSTART;TZID=America/Detroit:20260524T173000
DTEND;TZID=America/Detroit:20260524T200000
DTSTAMP:20260423T100227
CREATED:20260216T183651Z
LAST-MODIFIED:20260413T175329Z
UID:10011994-1779643800-1779652800@visittoledo.org
SUMMARY:Toledo Mud Hens vs. Indianapolis Indians
DESCRIPTION:From the first pitch to the final out\, Toledo Mud Hens baseball delivers nonstop excitement at Fifth Third Field in Downtown Toledo. \nThe Mud Hens welcome the Indianapolis Indians (Pittsburgh Pirates AAA affiliate) for a six game homestand. \nKids Takeover Night\nKids rule the ballpark during Kids Takeover Night with the Toledo Mud Hens. Families can enjoy a special appearance by Bluey and Bingo\, themed ticket packages\, and postgame Kids Run the Bases\, where children 12 and under can take the field after the final out for a fun-filled Sunday at the ballpark. \n2026 Season Schedule\nGet ready for a season of world-famous fun at Fifth Third Field. The Toledo Mud Hens 2026 promotions schedule is packed with theme nights\, giveaways\, festivals\, fireworks\, and special ticket offers all spring and summer long. From Opening Day and holiday celebrations to fan-favorite nights and family-friendly Sundays\, there’s always something happening at the ballpark. For a full list of promotions\, bag policies\, and other FAQ visit Know Before You Go | Mud Hens
URL:https://visittoledo.org/event/toledo-mud-hens-vs-indianapolis-indians-6
LOCATION:Fifth Third Field\, 406 Washington St\, Toledo\, OH\, 43604
CATEGORIES:Memorial,sports
ATTACH;FMTTYPE=image/jpeg:https://visittoledo.org/wp-content/uploads/2025/03/Mud-Hens-Events-Graphic.jpg
GEO:41.6477342;-83.5384538
X-APPLE-STRUCTURED-LOCATION;VALUE=URI;X-ADDRESS=Fifth Third Field 406 Washington St Toledo OH 43604;X-APPLE-RADIUS=500;X-TITLE=406 Washington St:geo:-83.5384538,41.6477342
END:VEVENT
END:VCALENDAR