BEGIN:VCALENDAR
VERSION:2.0
PRODID:-//Destination Toledo - ECPv6.15.20//NONSGML v1.0//EN
CALSCALE:GREGORIAN
METHOD:PUBLISH
X-WR-CALNAME:Destination Toledo
X-ORIGINAL-URL:https://visittoledo.org
X-WR-CALDESC:Events for Destination Toledo
REFRESH-INTERVAL;VALUE=DURATION:PT1H
X-Robots-Tag:noindex
X-PUBLISHED-TTL:PT1H
BEGIN:VTIMEZONE
TZID:America/Detroit
BEGIN:DAYLIGHT
TZOFFSETFROM:-0500
TZOFFSETTO:-0400
TZNAME:EDT
DTSTART:20250309T070000
END:DAYLIGHT
BEGIN:STANDARD
TZOFFSETFROM:-0400
TZOFFSETTO:-0500
TZNAME:EST
DTSTART:20251102T060000
END:STANDARD
BEGIN:DAYLIGHT
TZOFFSETFROM:-0500
TZOFFSETTO:-0400
TZNAME:EDT
DTSTART:20260308T070000
END:DAYLIGHT
BEGIN:STANDARD
TZOFFSETFROM:-0400
TZOFFSETTO:-0500
TZNAME:EST
DTSTART:20261101T060000
END:STANDARD
BEGIN:DAYLIGHT
TZOFFSETFROM:-0500
TZOFFSETTO:-0400
TZNAME:EDT
DTSTART:20270314T070000
END:DAYLIGHT
BEGIN:STANDARD
TZOFFSETFROM:-0400
TZOFFSETTO:-0500
TZNAME:EST
DTSTART:20271107T060000
END:STANDARD
END:VTIMEZONE
BEGIN:VEVENT
DTSTART;TZID=America/Detroit:20260130T000000
DTEND;TZID=America/Detroit:20260426T235959
DTSTAMP:20260423T104726
CREATED:20260130T162834Z
LAST-MODIFIED:20260130T163050Z
UID:10011563-1769731200-1777247999@visittoledo.org
SUMMARY:TUTANKHAMUN: "Wonderful Things" Treasures from the Pharaoh's Tomb
DESCRIPTION:Take a step back in time—3\,300 years ago to be exact—to the Valley of Kings where King Tutankhamun was laid to rest. \nDiscover the rich history of the 18th Dynasty in Ancient Egypt and see what historian Howard Carter saw when he uncovered the tomb\, the most extraordinary archaeological find of all time. \nExhibit is free with admission. \nImagination Station is closed on Mondays.
URL:https://visittoledo.org/event/tutankhamun-wonderful-things-treasures-from-the-pharaohs-tomb
LOCATION:Imagination Station\, 1 Discovery Way\, Toledo\, OH\, 43604
CATEGORIES:family friendly,museum
ATTACH;FMTTYPE=image/png:https://visittoledo.org/wp-content/uploads/2026/01/king-tut-imagination-station-4x3-event-image.png
GEO:41.6520001;-83.5317562
X-APPLE-STRUCTURED-LOCATION;VALUE=URI;X-ADDRESS=Imagination Station 1 Discovery Way Toledo OH 43604;X-APPLE-RADIUS=500;X-TITLE=1 Discovery Way:geo:-83.5317562,41.6520001
END:VEVENT
BEGIN:VEVENT
DTSTART;TZID=America/Detroit:20260421T183000
DTEND;TZID=America/Detroit:20260421T210000
DTSTAMP:20260423T104726
CREATED:20260213T212740Z
LAST-MODIFIED:20260213T212740Z
UID:10011964-1776796200-1776805200@visittoledo.org
SUMMARY:Toledo Mud Hens vs. Omaha Storm Chasers
DESCRIPTION:From the first pitch to the final out\, Toledo Mud Hens baseball delivers nonstop excitement at Fifth Third Field in Downtown Toledo. \nThe Mud Hens welcome the Omaha Storm Chasers (Kansas City Royals AAA affiliate) for a six game homestand. \n2026 Season Schedule\nGet ready for a season of world-famous fun at Fifth Third Field. The Toledo Mud Hens 2026 promotions schedule is packed with theme nights\, giveaways\, festivals\, fireworks\, and special ticket offers all spring and summer long. From Opening Day and holiday celebrations to fan-favorite nights and family-friendly Sundays\, there’s always something happening at the ballpark. For a full list of promotions\, bag policies\, and other FAQ visit Know Before You Go | Mud Hens
URL:https://visittoledo.org/event/toledo-mud-hens-vs-omaha-storm-chasers
LOCATION:Fifth Third Field\, 406 Washington St\, Toledo\, OH\, 43604
CATEGORIES:sports
ATTACH;FMTTYPE=image/jpeg:https://visittoledo.org/wp-content/uploads/2025/03/Mud-Hens-Events-Graphic.jpg
GEO:41.6477342;-83.5384538
X-APPLE-STRUCTURED-LOCATION;VALUE=URI;X-ADDRESS=Fifth Third Field 406 Washington St Toledo OH 43604;X-APPLE-RADIUS=500;X-TITLE=406 Washington St:geo:-83.5384538,41.6477342
END:VEVENT
BEGIN:VEVENT
DTSTART;TZID=America/Detroit:20260422T183000
DTEND;TZID=America/Detroit:20260422T210000
DTSTAMP:20260423T104726
CREATED:20260213T212832Z
LAST-MODIFIED:20260213T212832Z
UID:10011965-1776882600-1776891600@visittoledo.org
SUMMARY:Toledo Mud Hens vs. Omaha Storm Chasers
DESCRIPTION:From the first pitch to the final out\, Toledo Mud Hens baseball delivers nonstop excitement at Fifth Third Field in Downtown Toledo. \nThe Mud Hens welcome the Omaha Storm Chasers (Kansas City Royals AAA affiliate) for a six game homestand. \n2026 Season Schedule\nGet ready for a season of world-famous fun at Fifth Third Field. The Toledo Mud Hens 2026 promotions schedule is packed with theme nights\, giveaways\, festivals\, fireworks\, and special ticket offers all spring and summer long. From Opening Day and holiday celebrations to fan-favorite nights and family-friendly Sundays\, there’s always something happening at the ballpark. For a full list of promotions\, bag policies\, and other FAQ visit Know Before You Go | Mud Hens
URL:https://visittoledo.org/event/toledo-mud-hens-vs-omaha-storm-chasers-2
LOCATION:Fifth Third Field\, 406 Washington St\, Toledo\, OH\, 43604
CATEGORIES:sports
ATTACH;FMTTYPE=image/jpeg:https://visittoledo.org/wp-content/uploads/2025/03/Mud-Hens-Events-Graphic.jpg
GEO:41.6477342;-83.5384538
X-APPLE-STRUCTURED-LOCATION;VALUE=URI;X-ADDRESS=Fifth Third Field 406 Washington St Toledo OH 43604;X-APPLE-RADIUS=500;X-TITLE=406 Washington St:geo:-83.5384538,41.6477342
END:VEVENT
BEGIN:VEVENT
DTSTART;TZID=America/Detroit:20260423T183000
DTEND;TZID=America/Detroit:20260423T210000
DTSTAMP:20260423T104726
CREATED:20260213T212947Z
LAST-MODIFIED:20260213T212947Z
UID:10011966-1776969000-1776978000@visittoledo.org
SUMMARY:Toledo Mud Hens vs. Omaha Storm Chasers
DESCRIPTION:From the first pitch to the final out\, Toledo Mud Hens baseball delivers nonstop excitement at Fifth Third Field in Downtown Toledo. \nThe Mud Hens welcome the Omaha Storm Chasers (Kansas City Royals AAA affiliate) for a six game homestand. \n2026 Season Schedule\nGet ready for a season of world-famous fun at Fifth Third Field. The Toledo Mud Hens 2026 promotions schedule is packed with theme nights\, giveaways\, festivals\, fireworks\, and special ticket offers all spring and summer long. From Opening Day and holiday celebrations to fan-favorite nights and family-friendly Sundays\, there’s always something happening at the ballpark. For a full list of promotions\, bag policies\, and other FAQ visit Know Before You Go | Mud Hens
URL:https://visittoledo.org/event/toledo-mud-hens-vs-omaha-storm-chasers-3
LOCATION:Fifth Third Field\, 406 Washington St\, Toledo\, OH\, 43604
CATEGORIES:sports
ATTACH;FMTTYPE=image/jpeg:https://visittoledo.org/wp-content/uploads/2025/03/Mud-Hens-Events-Graphic.jpg
GEO:41.6477342;-83.5384538
X-APPLE-STRUCTURED-LOCATION;VALUE=URI;X-ADDRESS=Fifth Third Field 406 Washington St Toledo OH 43604;X-APPLE-RADIUS=500;X-TITLE=406 Washington St:geo:-83.5384538,41.6477342
END:VEVENT
BEGIN:VEVENT
DTSTART;TZID=America/Detroit:20260424T190000
DTEND;TZID=America/Detroit:20260424T213000
DTSTAMP:20260423T104726
CREATED:20260216T134925Z
LAST-MODIFIED:20260413T174026Z
UID:10011967-1777057200-1777066200@visittoledo.org
SUMMARY:Toledo Mud Hens vs. Omaha Storm Chasers
DESCRIPTION:From the first pitch to the final out\, Toledo Mud Hens baseball delivers nonstop excitement at Fifth Third Field in Downtown Toledo. \nThe Mud Hens welcome the Omaha Storm Chasers (Kansas City Royals AAA affiliate) for a six game homestand. \n2026 Season Schedule\nGet ready for a season of world-famous fun at Fifth Third Field. The Toledo Mud Hens 2026 promotions schedule is packed with theme nights\, giveaways\, festivals\, fireworks\, and special ticket offers all spring and summer long. From Opening Day and holiday celebrations to fan-favorite nights and family-friendly Sundays\, there’s always something happening at the ballpark. For a full list of promotions\, bag policies\, and other FAQ visit Know Before You Go | Mud Hens
URL:https://visittoledo.org/event/toledo-mud-hens-vs-omaha-storm-chasers-4
LOCATION:Fifth Third Field\, 406 Washington St\, Toledo\, OH\, 43604
CATEGORIES:Pickle,sports
ATTACH;FMTTYPE=image/jpeg:https://visittoledo.org/wp-content/uploads/2025/03/Mud-Hens-Events-Graphic.jpg
GEO:41.6477342;-83.5384538
X-APPLE-STRUCTURED-LOCATION;VALUE=URI;X-ADDRESS=Fifth Third Field 406 Washington St Toledo OH 43604;X-APPLE-RADIUS=500;X-TITLE=406 Washington St:geo:-83.5384538,41.6477342
END:VEVENT
BEGIN:VEVENT
DTSTART;TZID=America/Detroit:20260425T100000
DTEND;TZID=America/Detroit:20260425T133000
DTSTAMP:20260423T104726
CREATED:20260331T161240Z
LAST-MODIFIED:20260331T161240Z
UID:10013994-1777111200-1777123800@visittoledo.org
SUMMARY:Eugene’s Baby Bash at the Toledo Zoo
DESCRIPTION:Celebrate the newest addition to the herd at Eugene’s Baby Bash on April 25 at the Toledo Zoo. \nHead to the Africa! Overlook to meet Eugene\, the Zoo’s newest baby giraffe\, and enjoy a day filled with giraffe-themed fun. Guests can take part in keeper talks\, crafts\, and family-friendly activities while learning more about giraffes and Eugene’s early days. Special themed treats and merchandise will also be available for purchase. \nFor a closer look\, the giraffe feed deck will be reserved for Eugene viewing until noon\, with Zoo staff guiding small groups for an up-close experience. While Eugene isn’t tall enough for feedings just yet\, visitors can still spot him alongside the herd on exhibit. \nThis event is included with Zoo admission (free for members)\, making it an easy and memorable way to spend the day. Guests can also support Eugene and the giraffe herd through the Zoo PAL program or by contributing to his registry.
URL:https://visittoledo.org/event/eugenes-baby-bash-at-the-toledo-zoo
LOCATION:Toledo Zoo & Aquarium\, Hippo Way 2\, Toledo\, OH\, 43609\, United States
CATEGORIES:animals,family friendly,nature
ATTACH;FMTTYPE=image/png:https://visittoledo.org/wp-content/uploads/2026/03/eugene-birthday-bash-toledo-zoo-4x3-event-image.png
GEO:41.6215829;-83.5825321
X-APPLE-STRUCTURED-LOCATION;VALUE=URI;X-ADDRESS=Toledo Zoo & Aquarium Hippo Way 2 Toledo OH 43609 United States;X-APPLE-RADIUS=500;X-TITLE=Hippo Way 2:geo:-83.5825321,41.6215829
END:VEVENT
BEGIN:VEVENT
DTSTART;TZID=America/Detroit:20260425T110000
DTEND;TZID=America/Detroit:20260425T190000
DTSTAMP:20260423T104726
CREATED:20260324T173032Z
LAST-MODIFIED:20260413T173831Z
UID:10012895-1777114800-1777143600@visittoledo.org
SUMMARY:Toledo Pickle Mania Fest
DESCRIPTION:Get ready for a one-of-a-kind celebration at Toledo Pickle Mania\, the city’s first-ever pickle festival happening April 25 from 11 a.m. to 7 p.m. This all-day event invites visitors to experience Toledo’s ultimate tribute to all things pickle. \nGuests can explore a wide variety of vendors offering creative pickle-inspired foods and drinks\, from pickle soda and cheese curds to unique specialty treats. With free admission\, live music throughout the day\, and a lively atmosphere\, it’s the perfect outing for food lovers and festival-goers alike. \nAttendees can also enjoy a full bar featuring ice-cold beer\, pickle backs\, and a signature Spicy Pickle Margarita\, making it easy to sip and savor the experience from start to finish.
URL:https://visittoledo.org/event/toledo-pickle-mania-fest
LOCATION:Downtown Toledo\, Toledo\, OH\, United States
CATEGORIES:downtown,Pickle
ATTACH;FMTTYPE=image/png:https://visittoledo.org/wp-content/uploads/2026/03/picklemania-2026-4x3-event-image.png
GEO:41.6528052;-83.5378674
END:VEVENT
BEGIN:VEVENT
DTSTART;TZID=America/Detroit:20260425T130000
DTEND;TZID=America/Detroit:20260425T150000
DTSTAMP:20260423T104726
CREATED:20260420T191646Z
LAST-MODIFIED:20260420T191737Z
UID:10014578-1777122000-1777129200@visittoledo.org
SUMMARY:Zula Patrol: Under the Weather | Ritter Planetarium and Brooks Observatory
DESCRIPTION:Saturday April 25 at 1:00PM at the Ritter Planetarium and Brooks Observatory\, The Zula Patrol follows a team of stalwart heroes on an expedition to collect weather samples for scientist Multo’s research. When the group accidentally hurts their loyal pet Gorga’s feelings\, he leaves Zula in search of a new planet to call home. Along the way\, the villain Dark Truder deceives Gorga into assisting with a scheme to rule the universe. The Zula Patrollers set out to rescue their friend\, and in the process\, audiences learn about weather on Earth and across the planets of the solar system.
URL:https://visittoledo.org/event/zula-patrol-under-the-weather-ritter-planetarium-and-brooks-observatory
LOCATION:Ritter Planetarium and Brooks Observatory\, 2855 W Bancroft Street\, Toledo\, OH\, 43606\, United States
CATEGORIES:educational,family friendly
ATTACH;FMTTYPE=image/png:https://visittoledo.org/wp-content/uploads/2026/04/events-template-1.png
GEO:41.6624252;-83.6122268
X-APPLE-STRUCTURED-LOCATION;VALUE=URI;X-ADDRESS=Ritter Planetarium and Brooks Observatory 2855 W Bancroft Street Toledo OH 43606 United States;X-APPLE-RADIUS=500;X-TITLE=2855 W Bancroft Street:geo:-83.6122268,41.6624252
END:VEVENT
BEGIN:VEVENT
DTSTART;TZID=America/Detroit:20260425T170000
DTEND;TZID=America/Detroit:20260425T193000
DTSTAMP:20260423T104726
CREATED:20260216T135706Z
LAST-MODIFIED:20260413T174006Z
UID:10011968-1777136400-1777145400@visittoledo.org
SUMMARY:Toledo Mud Hens vs. Omaha Storm Chasers
DESCRIPTION:From the first pitch to the final out\, Toledo Mud Hens baseball delivers nonstop excitement at Fifth Third Field in Downtown Toledo. \nThe Mud Hens welcome the Omaha Storm Chasers (Kansas City Royals AAA affiliate) for a six game homestand. \n2026 Season Schedule\nGet ready for a season of world-famous fun at Fifth Third Field. The Toledo Mud Hens 2026 promotions schedule is packed with theme nights\, giveaways\, festivals\, fireworks\, and special ticket offers all spring and summer long. From Opening Day and holiday celebrations to fan-favorite nights and family-friendly Sundays\, there’s always something happening at the ballpark. For a full list of promotions\, bag policies\, and other FAQ visit Know Before You Go | Mud Hens
URL:https://visittoledo.org/event/toledo-mud-hens-vs-omaha-storm-chasers-5
LOCATION:Fifth Third Field\, 406 Washington St\, Toledo\, OH\, 43604
CATEGORIES:Pickle,sports
ATTACH;FMTTYPE=image/jpeg:https://visittoledo.org/wp-content/uploads/2025/03/Mud-Hens-Events-Graphic.jpg
GEO:41.6477342;-83.5384538
X-APPLE-STRUCTURED-LOCATION;VALUE=URI;X-ADDRESS=Fifth Third Field 406 Washington St Toledo OH 43604;X-APPLE-RADIUS=500;X-TITLE=406 Washington St:geo:-83.5384538,41.6477342
END:VEVENT
BEGIN:VEVENT
DTSTART;TZID=America/Detroit:20260426T120000
DTEND;TZID=America/Detroit:20260426T150000
DTSTAMP:20260423T104726
CREATED:20260408T181156Z
LAST-MODIFIED:20260408T181156Z
UID:10014396-1777204800-1777215600@visittoledo.org
SUMMARY:The Bob Ross Painting Experience at Copper Moon
DESCRIPTION:Step into the world of “happy little trees” at The Bob Ross Painting Experience at Copper Moon! This guided oil painting class invites you to relax\, unwind\, and create your own stunning mountain landscape inspired by one of Bob Ross’s most beloved scenes. \nLed by Certified Bob Ross Instructor Nate Miller of Extravagant Works Studio\, this immersive 2–3 hour session is perfect for beginners and experienced artists alike. With step-by-step instruction and encouragement throughout\, you’ll learn foundational oil painting techniques while discovering just how easy—and fun—it can be to tap into your creativity. \nAll materials are provided\, including a 12×16 canvas\, paints\, and brushes\, so you can simply show up ready to paint. By the end of the session\, you’ll leave with your very own completed masterpiece. (Please note: paintings will still be wet and will require several weeks to fully dry.) \nThis experience is open to ages 14 and up\, making it a great outing for teens\, adults\, or anyone looking for a creative escape. \n🖌 Event Details:• Sunday\, April 26 | 12:00 PM – 3:00 PM• $60 per person• All supplies included• Ages 14+ \nReservations are required\, and space is limited. Refunds are available with at least 72 hours’ notice\, and tickets may be transferred if plans change within that window. A minimum number of participants is required for the class to run. \nWhether you’re a lifelong Bob Ross fan or just looking to try something new\, this joyful painting experience is the perfect way to spend a creative afternoon.
URL:https://visittoledo.org/event/the-bob-ross-painting-experience-at-copper-moon
LOCATION:Copper Moon Studio\, 8007 Airport Hwy\, Holland\, OH\, 43528\, United States
CATEGORIES:art,crafts,educational,holiday
ATTACH;FMTTYPE=image/png:https://visittoledo.org/wp-content/uploads/2026/04/bob-ross-experience-copper-moon-4x3-event-image.png
GEO:41.6099994;-83.732797
X-APPLE-STRUCTURED-LOCATION;VALUE=URI;X-ADDRESS=Copper Moon Studio 8007 Airport Hwy Holland OH 43528 United States;X-APPLE-RADIUS=500;X-TITLE=8007 Airport Hwy:geo:-83.732797,41.6099994
END:VEVENT
BEGIN:VEVENT
DTSTART;TZID=America/Detroit:20260426T140000
DTEND;TZID=America/Detroit:20260426T163000
DTSTAMP:20260423T104726
CREATED:20260216T135839Z
LAST-MODIFIED:20260216T135839Z
UID:10011969-1777212000-1777221000@visittoledo.org
SUMMARY:Toledo Mud Hens vs. Omaha Storm Chasers
DESCRIPTION:From the first pitch to the final out\, Toledo Mud Hens baseball delivers nonstop excitement at Fifth Third Field in Downtown Toledo. \nThe Mud Hens welcome the Omaha Storm Chasers (Kansas City Royals AAA affiliate) for a six game homestand. \n2026 Season Schedule\nGet ready for a season of world-famous fun at Fifth Third Field. The Toledo Mud Hens 2026 promotions schedule is packed with theme nights\, giveaways\, festivals\, fireworks\, and special ticket offers all spring and summer long. From Opening Day and holiday celebrations to fan-favorite nights and family-friendly Sundays\, there’s always something happening at the ballpark. For a full list of promotions\, bag policies\, and other FAQ visit Know Before You Go | Mud Hens
URL:https://visittoledo.org/event/toledo-mud-hens-vs-omaha-storm-chasers-6
LOCATION:Fifth Third Field\, 406 Washington St\, Toledo\, OH\, 43604
CATEGORIES:sports
ATTACH;FMTTYPE=image/jpeg:https://visittoledo.org/wp-content/uploads/2025/03/Mud-Hens-Events-Graphic.jpg
GEO:41.6477342;-83.5384538
X-APPLE-STRUCTURED-LOCATION;VALUE=URI;X-ADDRESS=Fifth Third Field 406 Washington St Toledo OH 43604;X-APPLE-RADIUS=500;X-TITLE=406 Washington St:geo:-83.5384538,41.6477342
END:VEVENT
END:VCALENDAR