BEGIN:VCALENDAR
VERSION:2.0
PRODID:-//Destination Toledo - ECPv6.15.20//NONSGML v1.0//EN
CALSCALE:GREGORIAN
METHOD:PUBLISH
X-ORIGINAL-URL:https://visittoledo.org
X-WR-CALDESC:Events for Destination Toledo
REFRESH-INTERVAL;VALUE=DURATION:PT1H
X-Robots-Tag:noindex
X-PUBLISHED-TTL:PT1H
BEGIN:VTIMEZONE
TZID:America/Detroit
BEGIN:DAYLIGHT
TZOFFSETFROM:-0500
TZOFFSETTO:-0400
TZNAME:EDT
DTSTART:20250309T070000
END:DAYLIGHT
BEGIN:STANDARD
TZOFFSETFROM:-0400
TZOFFSETTO:-0500
TZNAME:EST
DTSTART:20251102T060000
END:STANDARD
BEGIN:DAYLIGHT
TZOFFSETFROM:-0500
TZOFFSETTO:-0400
TZNAME:EDT
DTSTART:20260308T070000
END:DAYLIGHT
BEGIN:STANDARD
TZOFFSETFROM:-0400
TZOFFSETTO:-0500
TZNAME:EST
DTSTART:20261101T060000
END:STANDARD
BEGIN:DAYLIGHT
TZOFFSETFROM:-0500
TZOFFSETTO:-0400
TZNAME:EDT
DTSTART:20270314T070000
END:DAYLIGHT
BEGIN:STANDARD
TZOFFSETFROM:-0400
TZOFFSETTO:-0500
TZNAME:EST
DTSTART:20271107T060000
END:STANDARD
END:VTIMEZONE
BEGIN:VEVENT
DTSTART;TZID=America/Detroit:20260502T130000
DTEND;TZID=America/Detroit:20260531T150000
DTSTAMP:20260422T083406
CREATED:20260420T184935Z
LAST-MODIFIED:20260420T184935Z
UID:10014852-1777726800-1780239600@visittoledo.org
SUMMARY:Did an Asteroid Really Kill the Dinosaurs? | Ritter Planetarium and Brooks Observatory
DESCRIPTION:Astronomy and Dinosaurs\, what else could anyone want? \nOn Saturday afternoons at 1:00 PM from May 2 to May 30\, this program at Ritter Planetarium on The University of Toledo Main Campus examines the mystery of the great extinction some 65 million years ago. Travel with us as geologists roam the earth in search of clues that ultimately lead scientists to the massive impact from space in the Yucatan Peninsula that killed the dinosaurs. This is an exciting and entertaining program that answers the question\, “Did an Asteroid Really Kill the Dinosaurs?
URL:https://visittoledo.org/event/did-an-asteroid-really-kill-the-dinosaurs-ritter-planetarium-and-brooks-observatory/2026-05-02
LOCATION:Ritter Planetarium and Brooks Observatory\, 2855 W Bancroft Street\, Toledo\, OH\, 43606\, United States
CATEGORIES:educational,family friendly
ATTACH;FMTTYPE=image/png:https://visittoledo.org/wp-content/uploads/2026/04/events-template-3.png
GEO:41.6624252;-83.6122268
X-APPLE-STRUCTURED-LOCATION;VALUE=URI;X-ADDRESS=Ritter Planetarium and Brooks Observatory 2855 W Bancroft Street Toledo OH 43606 United States;X-APPLE-RADIUS=500;X-TITLE=2855 W Bancroft Street:geo:-83.6122268,41.6624252
END:VEVENT
BEGIN:VEVENT
DTSTART;TZID=America/Detroit:20260529T190000
DTEND;TZID=America/Detroit:20260529T213000
DTSTAMP:20260422T083406
CREATED:20260217T182820Z
LAST-MODIFIED:20260217T182931Z
UID:10012189-1780081200-1780090200@visittoledo.org
SUMMARY:Toledo Mud Hens vs. Columbus Clippers
DESCRIPTION:From the first pitch to the final out\, Toledo Mud Hens baseball delivers nonstop excitement at Fifth Third Field in Downtown Toledo. \nThe Mud Hens welcome the Columbus Clippers (Cleveland Guardians AAA affiliate) for a six game homestand. \nBoots & Baseball Weekend\nBoots & Baseball Weekend brings country flair to the ballpark\, featuring country music\, and a cowboy hat giveaway. \n2026 Season Schedule\nGet ready for a season of world-famous fun at Fifth Third Field. The Toledo Mud Hens 2026 promotions schedule is packed with theme nights\, giveaways\, festivals\, fireworks\, and special ticket offers all spring and summer long. From Opening Day and holiday celebrations to fan-favorite nights and family-friendly Sundays\, there’s always something happening at the ballpark. For a full list of promotions\, bag policies\, and other FAQ visit Know Before You Go | Mud Hens
URL:https://visittoledo.org/event/toledo-mud-hens-vs-columbus-clippers-4
LOCATION:Fifth Third Field\, 406 Washington St\, Toledo\, OH\, 43604
CATEGORIES:sports
ATTACH;FMTTYPE=image/jpeg:https://visittoledo.org/wp-content/uploads/2025/03/Mud-Hens-Events-Graphic.jpg
GEO:41.6477342;-83.5384538
X-APPLE-STRUCTURED-LOCATION;VALUE=URI;X-ADDRESS=Fifth Third Field 406 Washington St Toledo OH 43604;X-APPLE-RADIUS=500;X-TITLE=406 Washington St:geo:-83.5384538,41.6477342
END:VEVENT
END:VCALENDAR