BEGIN:VCALENDAR
VERSION:2.0
PRODID:-//Destination Toledo - ECPv6.15.20//NONSGML v1.0//EN
CALSCALE:GREGORIAN
METHOD:PUBLISH
X-WR-CALNAME:Destination Toledo
X-ORIGINAL-URL:https://visittoledo.org
X-WR-CALDESC:Events for Destination Toledo
REFRESH-INTERVAL;VALUE=DURATION:PT1H
X-Robots-Tag:noindex
X-PUBLISHED-TTL:PT1H
BEGIN:VTIMEZONE
TZID:America/Detroit
BEGIN:DAYLIGHT
TZOFFSETFROM:-0500
TZOFFSETTO:-0400
TZNAME:EDT
DTSTART:20250309T070000
END:DAYLIGHT
BEGIN:STANDARD
TZOFFSETFROM:-0400
TZOFFSETTO:-0500
TZNAME:EST
DTSTART:20251102T060000
END:STANDARD
BEGIN:DAYLIGHT
TZOFFSETFROM:-0500
TZOFFSETTO:-0400
TZNAME:EDT
DTSTART:20260308T070000
END:DAYLIGHT
BEGIN:STANDARD
TZOFFSETFROM:-0400
TZOFFSETTO:-0500
TZNAME:EST
DTSTART:20261101T060000
END:STANDARD
BEGIN:DAYLIGHT
TZOFFSETFROM:-0500
TZOFFSETTO:-0400
TZNAME:EDT
DTSTART:20270314T070000
END:DAYLIGHT
BEGIN:STANDARD
TZOFFSETFROM:-0400
TZOFFSETTO:-0500
TZNAME:EST
DTSTART:20271107T060000
END:STANDARD
END:VTIMEZONE
BEGIN:VEVENT
DTSTART;TZID=America/Detroit:20260502T100000
DTEND;TZID=America/Detroit:20260502T140000
DTSTAMP:20260425T230725
CREATED:20260415T152836Z
LAST-MODIFIED:20260415T153558Z
UID:10014485-1777716000-1777730400@visittoledo.org
SUMMARY:Chuffed Home's European Antiques Warehouse Event
DESCRIPTION:Discover one-of-a-kind treasures at Chuffed Home’s Warehouse Open House No. 2\, happening Saturday\, May 2 in Toledo. \nFollowing the excitement of their first event\, Chuffed Home is opening the doors once again to showcase a curated collection of antiques and vintage goods sourced directly from Europe. After filling a 40-foot container with unique finds and hosting a highly successful first open house\, this second event offers another chance to shop the remaining pieces—each with its own story and character. \nFrom timeless furniture to distinctive décor\, guests can explore a warehouse filled with carefully selected items that bring European charm and history into modern spaces. Whether you’re a collector\, decorator\, or simply love discovering something unexpected\, this open house is a must-visit. \n🪑 Event Details:• Saturday\, May 2• 10:00 AM – 2:00 PM• Location: 1808 Adams Street\, Toledo\, OH \n✨ What to Expect:• European antiques and vintage goods• Unique furniture and home décor• Warehouse-style shopping experience• Limited availability items—once they’re gone\, they’re gone \nDon’t miss this opportunity to browse a thoughtfully curated collection and find something truly special to take home.
URL:https://visittoledo.org/event/chuffed-homes-european-antiques-warehouse-event-2
LOCATION:Chuffed Home\, 1808 Adams St.\, Toledo\, OH\, 43604\, United States
CATEGORIES:shopping
ATTACH;FMTTYPE=image/png:https://visittoledo.org/wp-content/uploads/2026/03/chuffed-home-4x3-event-image.png
GEO:41.6587562;-83.5462853
X-APPLE-STRUCTURED-LOCATION;VALUE=URI;X-ADDRESS=Chuffed Home 1808 Adams St. Toledo OH 43604 United States;X-APPLE-RADIUS=500;X-TITLE=1808 Adams St.:geo:-83.5462853,41.6587562
END:VEVENT
END:VCALENDAR