BEGIN:VCALENDAR
VERSION:2.0
PRODID:-//Destination Toledo - ECPv6.15.20//NONSGML v1.0//EN
CALSCALE:GREGORIAN
METHOD:PUBLISH
X-ORIGINAL-URL:https://visittoledo.org
X-WR-CALDESC:Events for Destination Toledo
REFRESH-INTERVAL;VALUE=DURATION:PT1H
X-Robots-Tag:noindex
X-PUBLISHED-TTL:PT1H
BEGIN:VTIMEZONE
TZID:America/Detroit
BEGIN:DAYLIGHT
TZOFFSETFROM:-0500
TZOFFSETTO:-0400
TZNAME:EDT
DTSTART:20250309T070000
END:DAYLIGHT
BEGIN:STANDARD
TZOFFSETFROM:-0400
TZOFFSETTO:-0500
TZNAME:EST
DTSTART:20251102T060000
END:STANDARD
BEGIN:DAYLIGHT
TZOFFSETFROM:-0500
TZOFFSETTO:-0400
TZNAME:EDT
DTSTART:20260308T070000
END:DAYLIGHT
BEGIN:STANDARD
TZOFFSETFROM:-0400
TZOFFSETTO:-0500
TZNAME:EST
DTSTART:20261101T060000
END:STANDARD
BEGIN:DAYLIGHT
TZOFFSETFROM:-0500
TZOFFSETTO:-0400
TZNAME:EDT
DTSTART:20270314T070000
END:DAYLIGHT
BEGIN:STANDARD
TZOFFSETFROM:-0400
TZOFFSETTO:-0500
TZNAME:EST
DTSTART:20271107T060000
END:STANDARD
END:VTIMEZONE
BEGIN:VEVENT
DTSTART;TZID=America/Detroit:20260515T200000
DTEND;TZID=America/Detroit:20260515T220000
DTSTAMP:20260424T181849
CREATED:20260422T200120Z
LAST-MODIFIED:20260422T200120Z
UID:10015087-1778875200-1778882400@visittoledo.org
SUMMARY:Come From Away - Maumee Indoor Theater
DESCRIPTION:Local theatre company 3B Productions presents Come From Away\, a critically acclaimed\, Tony-winning musical that tells the true story of 7\,000 airline passengers stranded in Gander\, Newfoundland\, after the 9/11 attacks. \n 
URL:https://visittoledo.org/event/come-from-away-maumee-indoor-theater/2026-05-15
LOCATION:Maumee Indoor Theater\, 601 Conant St\, Maumee\, OH\, 43537\, United States
CATEGORIES:musical
ATTACH;FMTTYPE=image/png:https://visittoledo.org/wp-content/uploads/2026/04/come-from-away-maumee-indoor-4x3-event-image.png
GEO:41.5648151;-83.6552701
X-APPLE-STRUCTURED-LOCATION;VALUE=URI;X-ADDRESS=Maumee Indoor Theater 601 Conant St Maumee OH 43537 United States;X-APPLE-RADIUS=500;X-TITLE=601 Conant St:geo:-83.6552701,41.5648151
END:VEVENT
BEGIN:VEVENT
DTSTART;TZID=America/Detroit:20260516T200000
DTEND;TZID=America/Detroit:20260516T220000
DTSTAMP:20260424T181849
CREATED:20260422T200120Z
LAST-MODIFIED:20260422T200120Z
UID:10015088-1778961600-1778968800@visittoledo.org
SUMMARY:Come From Away - Maumee Indoor Theater
DESCRIPTION:Local theatre company 3B Productions presents Come From Away\, a critically acclaimed\, Tony-winning musical that tells the true story of 7\,000 airline passengers stranded in Gander\, Newfoundland\, after the 9/11 attacks. \n 
URL:https://visittoledo.org/event/come-from-away-maumee-indoor-theater/2026-05-16
LOCATION:Maumee Indoor Theater\, 601 Conant St\, Maumee\, OH\, 43537\, United States
CATEGORIES:musical
ATTACH;FMTTYPE=image/png:https://visittoledo.org/wp-content/uploads/2026/04/come-from-away-maumee-indoor-4x3-event-image.png
GEO:41.5648151;-83.6552701
X-APPLE-STRUCTURED-LOCATION;VALUE=URI;X-ADDRESS=Maumee Indoor Theater 601 Conant St Maumee OH 43537 United States;X-APPLE-RADIUS=500;X-TITLE=601 Conant St:geo:-83.6552701,41.5648151
END:VEVENT
BEGIN:VEVENT
DTSTART;TZID=America/Detroit:20260517T143000
DTEND;TZID=America/Detroit:20260517T163000
DTSTAMP:20260424T181849
CREATED:20260422T200120Z
LAST-MODIFIED:20260422T200120Z
UID:10015089-1779028200-1779035400@visittoledo.org
SUMMARY:Come From Away - Maumee Indoor Theater
DESCRIPTION:Local theatre company 3B Productions presents Come From Away\, a critically acclaimed\, Tony-winning musical that tells the true story of 7\,000 airline passengers stranded in Gander\, Newfoundland\, after the 9/11 attacks. \n 
URL:https://visittoledo.org/event/come-from-away-maumee-indoor-theater/2026-05-17
LOCATION:Maumee Indoor Theater\, 601 Conant St\, Maumee\, OH\, 43537\, United States
CATEGORIES:musical
ATTACH;FMTTYPE=image/png:https://visittoledo.org/wp-content/uploads/2026/04/come-from-away-maumee-indoor-4x3-event-image.png
GEO:41.5648151;-83.6552701
X-APPLE-STRUCTURED-LOCATION;VALUE=URI;X-ADDRESS=Maumee Indoor Theater 601 Conant St Maumee OH 43537 United States;X-APPLE-RADIUS=500;X-TITLE=601 Conant St:geo:-83.6552701,41.5648151
END:VEVENT
END:VCALENDAR