BEGIN:VCALENDAR
VERSION:2.0
PRODID:-//Destination Toledo - ECPv6.15.20//NONSGML v1.0//EN
CALSCALE:GREGORIAN
METHOD:PUBLISH
X-WR-CALNAME:Destination Toledo
X-ORIGINAL-URL:https://visittoledo.org
X-WR-CALDESC:Events for Destination Toledo
REFRESH-INTERVAL;VALUE=DURATION:PT1H
X-Robots-Tag:noindex
X-PUBLISHED-TTL:PT1H
BEGIN:VTIMEZONE
TZID:America/Detroit
BEGIN:DAYLIGHT
TZOFFSETFROM:-0500
TZOFFSETTO:-0400
TZNAME:EDT
DTSTART:20250309T070000
END:DAYLIGHT
BEGIN:STANDARD
TZOFFSETFROM:-0400
TZOFFSETTO:-0500
TZNAME:EST
DTSTART:20251102T060000
END:STANDARD
BEGIN:DAYLIGHT
TZOFFSETFROM:-0500
TZOFFSETTO:-0400
TZNAME:EDT
DTSTART:20260308T070000
END:DAYLIGHT
BEGIN:STANDARD
TZOFFSETFROM:-0400
TZOFFSETTO:-0500
TZNAME:EST
DTSTART:20261101T060000
END:STANDARD
BEGIN:DAYLIGHT
TZOFFSETFROM:-0500
TZOFFSETTO:-0400
TZNAME:EDT
DTSTART:20270314T070000
END:DAYLIGHT
BEGIN:STANDARD
TZOFFSETFROM:-0400
TZOFFSETTO:-0500
TZNAME:EST
DTSTART:20271107T060000
END:STANDARD
END:VTIMEZONE
BEGIN:VEVENT
DTSTART;TZID=America/Detroit:20260614T090000
DTEND;TZID=America/Detroit:20260614T120000
DTSTAMP:20260419T213354
CREATED:20260325T202915Z
LAST-MODIFIED:20260413T181742Z
UID:10013393-1781427600-1781438400@visittoledo.org
SUMMARY:BRB Run Club 5K
DESCRIPTION:Celebrate the final day of Watershed Weekend with the BRB Run Club 5K along the Glass City Riverwalk. \nThe BRB Run Club has grown into a thriving community with hundreds of participants joining weekly runs throughout downtown Toledo and along the expanding Glass City Riverwalk. During Watershed Weekend\, BRB Run Club will host their first-ever 5K race along the same scenic riverfront paths that helped inspire the club’s growth. \nBRB Run Club is a community-focused running group dedicated to making running accessible\, welcoming and fun for everyone. Whether you’re taking your first steps into running or building your pace and endurance\, runners of all experience levels are encouraged to participate. \nRun\, cheer or simply enjoy the energy as hundreds of runners take to the trail to close out Watershed Weekend. \nWatershed Weekend Full Schedule:\nThursday\, June 11:  \nFreighter Golf: Around the Great Lakes | \nCelebrate Great Lakes history and have some fun on the green at National Museum of the Great Lakes\, held aboard the historic Col. James M. Schoonmaker Museum Ship. \nArt Loop: Starburst  \nThe Arts Commission invites the community to Art Loop: Starburst\, an evening celebrating public art\, creativity and connection along the Glass City Riverwalk. \nPaddle & Groove \nBlack Swamp Conservancy hosts Paddle & Groove\, a concert on the Maumee River\, with kayaks launching at the newly restored International Cove at Glass City Metropark – Upriver. \nFriday\, June 12 \nFreighter Golf: Around the Great Lakes \nCelebrate Great Lakes history and have some fun on the green at National Museum of the Great Lakes Held aboard the historic Col. James M. Schoonmaker Museum Ship. \nArt Loop: Starburst\nThe Arts Commission invites the community to Art Loop: Starburst\, an evening celebrating public art\, creativity and connection along the Glass City Riverwalk. \nRetro Skate 4 with Eric Chase \nRoll back the clock and hit The Ribbon roller trail for a night of music\, roller skates and retro vibes. \nParty in the Park | Metroparks Takeover & Hot Air Balloon Glow  \nParty in the Park expands along the Glass City Riverwalk during Watershed Weekend\, featuring Metroparks-led activities and live music from Madison Ave. Band and Chloe and the Steel Strings. \nSaturday\, June 13 \nFreighter Golf: Around the Great Lakes \nCelebrate Great Lakes history and have some fun on the green at National Museum of the Great Lakes Held aboard the historic Col. James M. Schoonmaker Museum Ship. \nArt Loop: Starburst \nThe Arts Commission invites the community to Art Loop: Starburst\, an evening celebrating public art\, creativity and connection along the Glass City Riverwalk. \nWellness by the Boat: Tai Chi \nThis free wellness session invites participants to enjoy a gentle\, guided Tai Chi class in the scenic Cliffs Great Lakes Maritime Park beside the historic Col. James M. Schoonmaker Museum Ship.\n\nYoga & Community Connection\nEnjoy a free beginner-friendly Yoga and Mindfulness Meditation session led by Toledo Mindfulness Institute in partnership with Metroparks Toledo \nRiver Crossing Outdoor Expo \nRiver Crossing Day transforms the Martin Luther King Jr. bridge into an Open Streets style celebration of outdoor recreation\, movement and community connection.\nTECHLEDO \nExperience The Ribbon at Glass City Metropark like never before as TECHLEDO transforms the Toledo riverfront into an immersive electronic music festival during Watershed Weekend. \nSunday\, June 14 \nFreighter Golf: Around the Great Lakes\nCelebrate Great Lakes history and have some fun on the green at National Museum of the Great Lakes\, held aboard the historic Col. James M. Schoonmaker Museum Ship. \nArt Loop: Starburst \nThe Arts Commission invites the community to Art Loop: Starburst\, an evening celebrating public art\, creativity and connection along the Glass City Riverwalk. \nBRB Run Club 5K \nCelebrate the final day of Watershed Weekend with the BRB Run Club 5K along the Glass City Riverwalk. \nSensory Friendly Weekends at National Museum of  the Great Lakes\nGuests are invited to experience the museum in a calm\, accommodating setting during its Sensory Friendly Weekends\, thoughtfully designed for comfort and enjoyment.
URL:https://visittoledo.org/event/brb-run-club-5k
LOCATION:Glass City Metropark\, 1505 Front St\, Toledo\, Ohio\, 43605\, United States
CATEGORIES:downtown,running,Watershed
ATTACH;FMTTYPE=image/jpeg:https://visittoledo.org/wp-content/uploads/2026/03/BRB-Run-Club-5K-watershed-weekend-2026.jpg
GEO:41.6534145;-83.5196809
X-APPLE-STRUCTURED-LOCATION;VALUE=URI;X-ADDRESS=Glass City Metropark 1505 Front St Toledo Ohio 43605 United States;X-APPLE-RADIUS=500;X-TITLE=1505 Front St:geo:-83.5196809,41.6534145
END:VEVENT
END:VCALENDAR