BEGIN:VCALENDAR
VERSION:2.0
PRODID:-//Destination Toledo - ECPv6.15.20//NONSGML v1.0//EN
CALSCALE:GREGORIAN
METHOD:PUBLISH
X-WR-CALNAME:Destination Toledo
X-ORIGINAL-URL:https://visittoledo.org
X-WR-CALDESC:Events for Destination Toledo
REFRESH-INTERVAL;VALUE=DURATION:PT1H
X-Robots-Tag:noindex
X-PUBLISHED-TTL:PT1H
BEGIN:VTIMEZONE
TZID:America/Detroit
BEGIN:DAYLIGHT
TZOFFSETFROM:-0500
TZOFFSETTO:-0400
TZNAME:EDT
DTSTART:20250309T070000
END:DAYLIGHT
BEGIN:STANDARD
TZOFFSETFROM:-0400
TZOFFSETTO:-0500
TZNAME:EST
DTSTART:20251102T060000
END:STANDARD
BEGIN:DAYLIGHT
TZOFFSETFROM:-0500
TZOFFSETTO:-0400
TZNAME:EDT
DTSTART:20260308T070000
END:DAYLIGHT
BEGIN:STANDARD
TZOFFSETFROM:-0400
TZOFFSETTO:-0500
TZNAME:EST
DTSTART:20261101T060000
END:STANDARD
BEGIN:DAYLIGHT
TZOFFSETFROM:-0500
TZOFFSETTO:-0400
TZNAME:EDT
DTSTART:20270314T070000
END:DAYLIGHT
BEGIN:STANDARD
TZOFFSETFROM:-0400
TZOFFSETTO:-0500
TZNAME:EST
DTSTART:20271107T060000
END:STANDARD
END:VTIMEZONE
BEGIN:VEVENT
DTSTART;TZID=America/Detroit:20260421T080000
DTEND;TZID=America/Detroit:20260421T170000
DTSTAMP:20260424T125348
CREATED:20260421T180923Z
LAST-MODIFIED:20260421T180923Z
UID:10014882-1776758400-1776790800@visittoledo.org
SUMMARY:5K Beer Run x Brewing Green | 2026 Ohio Brewery Running Series
DESCRIPTION:The Ohio Brewery Running Series invites visitors to kick off Oktoberfest festivities with a scenic and social 5K at Brewing Green in Bowling Green on Saturday\, September 19th\, 2026. Starting at 11am from the taproom\, this untimed fun run takes participants through the streets of Bowling Green\, offering a relaxed course designed for runners\, walkers\, and joggers of all levels. \nThe experience blends fitness\, community\, and celebration as participants cross the finish line and are rewarded with a complimentary craft brew from Brewing Green. Each guest also receives a choice of a collector’s pint glass or seasonal Brewery Running Series swag\, along with chances to win door prizes including merchandise and beer to take home. \nMore than just a run\, this event supports a meaningful cause. A portion of proceeds benefits local nonprofits\, including the Brown Bag Food Project\, helping strengthen the community with every registration. The course is open and not closed to traffic\, with clearly marked directions\, and participants are encouraged to follow all traffic laws. Dogs and strollers are welcome\, making it a family-friendly outing\, and non-alcoholic options are available for underage participants. \nWith limited registration\, this Oktoberfest kickoff offers a fun\, active\, and rewarding way to enjoy local craft beer\, support community impact\, and celebrate the season in Bowling Green.
URL:https://visittoledo.org/event/5k-beer-run-x-brewing-green-2026-ohio-brewery-running-series
LOCATION:Brewing Green\, 322 N Grove St\, Bowling Green\, 43402\, United States
CATEGORIES:Beer,exercise,running
ATTACH;FMTTYPE=image/jpeg:https://visittoledo.org/wp-content/uploads/2026/04/brewinggreenohiobreweryseries.jpg
GEO:41.3775256;-83.6532543
X-APPLE-STRUCTURED-LOCATION;VALUE=URI;X-ADDRESS=Brewing Green 322 N Grove St Bowling Green 43402 United States;X-APPLE-RADIUS=500;X-TITLE=322 N Grove St:geo:-83.6532543,41.3775256
END:VEVENT
BEGIN:VEVENT
DTSTART;TZID=America/Detroit:20260426T063000
DTEND;TZID=America/Detroit:20260426T130000
DTSTAMP:20260424T125348
CREATED:20250519T193424Z
LAST-MODIFIED:20260416T133727Z
UID:10007272-1777185000-1777208400@visittoledo.org
SUMMARY:Glass City Marathon
DESCRIPTION:Run faster at the Toledo Roadrunners Club’s 49th annual Mercy Health Glass City Marathon in Toledo\, Ohio on April 26\, 2026! \nRun faster at the Toledo Roadrunners Club’s 48th annual Mercy Health Glass City Marathon in Toledo\, Ohio! A field of up to 2\,000 runners will compete on the fast and flat 26.2 mile\, marathon course. Our springtime marathon regularly shows in the top 25 fastest races\, with over a third of the field punching their ticket to run on Patriot’s Day with a Boston Marathon qualifying time. Runners wind their way through some of the area’s most scenic spots before ending at the finish line inside the University of Toledo Glass Bowl Stadium. With all the race has to offer runners from around the country and around the globe\, plan to book an extended stay and explore all of Toledo\, Ohio’s renowned attractions to complete your Glass City experience. \nStay tuned for more details or visit the Glass City Marathon website! 
URL:https://visittoledo.org/event/glass-city-marathon-2
LOCATION:University of Toledo\, 2801 W Bancroft St\, Toledo\, Ohio\, 43606\, United States
CATEGORIES:exercise,Pickle,running,sports
ATTACH;FMTTYPE=image/png:https://visittoledo.org/wp-content/uploads/2025/03/glass-city-marathon-4x3-event-image.png
GEO:41.6623201;-83.6170915
X-APPLE-STRUCTURED-LOCATION;VALUE=URI;X-ADDRESS=University of Toledo 2801 W Bancroft St Toledo Ohio 43606 United States;X-APPLE-RADIUS=500;X-TITLE=2801 W Bancroft St:geo:-83.6170915,41.6623201
END:VEVENT
END:VCALENDAR