BEGIN:VCALENDAR
VERSION:2.0
PRODID:-//Destination Toledo - ECPv6.15.20//NONSGML v1.0//EN
CALSCALE:GREGORIAN
METHOD:PUBLISH
X-WR-CALNAME:Destination Toledo
X-ORIGINAL-URL:https://visittoledo.org
X-WR-CALDESC:Events for Destination Toledo
REFRESH-INTERVAL;VALUE=DURATION:PT1H
X-Robots-Tag:noindex
X-PUBLISHED-TTL:PT1H
BEGIN:VTIMEZONE
TZID:America/Detroit
BEGIN:DAYLIGHT
TZOFFSETFROM:-0500
TZOFFSETTO:-0400
TZNAME:EDT
DTSTART:20250309T070000
END:DAYLIGHT
BEGIN:STANDARD
TZOFFSETFROM:-0400
TZOFFSETTO:-0500
TZNAME:EST
DTSTART:20251102T060000
END:STANDARD
BEGIN:DAYLIGHT
TZOFFSETFROM:-0500
TZOFFSETTO:-0400
TZNAME:EDT
DTSTART:20260308T070000
END:DAYLIGHT
BEGIN:STANDARD
TZOFFSETFROM:-0400
TZOFFSETTO:-0500
TZNAME:EST
DTSTART:20261101T060000
END:STANDARD
BEGIN:DAYLIGHT
TZOFFSETFROM:-0500
TZOFFSETTO:-0400
TZNAME:EDT
DTSTART:20270314T070000
END:DAYLIGHT
BEGIN:STANDARD
TZOFFSETFROM:-0400
TZOFFSETTO:-0500
TZNAME:EST
DTSTART:20271107T060000
END:STANDARD
END:VTIMEZONE
BEGIN:VEVENT
DTSTART;TZID=America/Detroit:20260227T080000
DTEND;TZID=America/Detroit:20260227T170000
DTSTAMP:20260419T230216
CREATED:20260227T190545Z
LAST-MODIFIED:20260227T190545Z
UID:10012311-1772179200-1772211600@visittoledo.org
SUMMARY:Toledo Mini Marathon
DESCRIPTION:Get ready for Toledo’s next Running Chapter!! The Toledo Mini Marathon is a scenic point-to-point half marathon starting in the uptown district of Maumee\, Ohio\, voted the best hometown in Ohio. Run through residential Historic Maumee homes\, past the Toledo Country Club\, the Toledo Zoo\, and into downtown Toledo along the new\, expanding Glass City Riverwalk\, which is slated to reach 50% completion in 2026. Runners get an exclusive first-look preview of sections opening in June 2026. Finish at the acclaimed Ribbon at the Glass City Metropark\, with a post-race celebration at The Garden by Poco Piatti.
URL:https://visittoledo.org/event/toledo-mini-marathon
LOCATION:The Ribbon at Glass City Metropark\, 1521 Front St\, Toledo\, OH\, 43605\, United States
CATEGORIES:exercise,running,sports
ATTACH;FMTTYPE=image/png:https://visittoledo.org/wp-content/uploads/2026/02/toledo-mini-marathon-2026-4x3-event-image.png
GEO:41.6549826;-83.5168161
X-APPLE-STRUCTURED-LOCATION;VALUE=URI;X-ADDRESS=The Ribbon at Glass City Metropark 1521 Front St Toledo OH 43605 United States;X-APPLE-RADIUS=500;X-TITLE=1521 Front St:geo:-83.5168161,41.6549826
END:VEVENT
END:VCALENDAR