BEGIN:VCALENDAR
VERSION:2.0
PRODID:-//Destination Toledo - ECPv6.15.20//NONSGML v1.0//EN
CALSCALE:GREGORIAN
METHOD:PUBLISH
X-WR-CALNAME:Destination Toledo
X-ORIGINAL-URL:https://visittoledo.org
X-WR-CALDESC:Events for Destination Toledo
REFRESH-INTERVAL;VALUE=DURATION:PT1H
X-Robots-Tag:noindex
X-PUBLISHED-TTL:PT1H
BEGIN:VTIMEZONE
TZID:America/Detroit
BEGIN:DAYLIGHT
TZOFFSETFROM:-0500
TZOFFSETTO:-0400
TZNAME:EDT
DTSTART:20250309T070000
END:DAYLIGHT
BEGIN:STANDARD
TZOFFSETFROM:-0400
TZOFFSETTO:-0500
TZNAME:EST
DTSTART:20251102T060000
END:STANDARD
BEGIN:DAYLIGHT
TZOFFSETFROM:-0500
TZOFFSETTO:-0400
TZNAME:EDT
DTSTART:20260308T070000
END:DAYLIGHT
BEGIN:STANDARD
TZOFFSETFROM:-0400
TZOFFSETTO:-0500
TZNAME:EST
DTSTART:20261101T060000
END:STANDARD
BEGIN:DAYLIGHT
TZOFFSETFROM:-0500
TZOFFSETTO:-0400
TZNAME:EDT
DTSTART:20270314T070000
END:DAYLIGHT
BEGIN:STANDARD
TZOFFSETFROM:-0400
TZOFFSETTO:-0500
TZNAME:EST
DTSTART:20271107T060000
END:STANDARD
END:VTIMEZONE
BEGIN:VEVENT
DTSTART;TZID=America/Detroit:20260314T200000
DTEND;TZID=America/Detroit:20260314T210000
DTSTAMP:20260419T200711
CREATED:20260225T204105Z
LAST-MODIFIED:20260225T204105Z
UID:10012305-1773518400-1773522000@visittoledo.org
SUMMARY:Shamrock Shuffle
DESCRIPTION:Get ready for the ultimate St. Patrick’s Day weekend adventure! Grab your friends and light up the night in this electrifying 3-mile run/walk\, kicking off at 8:00 PM!
URL:https://visittoledo.org/event/shamrock-shuffle
LOCATION:Hensville Park\, Monroe St & N St Clair St\, Toledo\, OH\, 43604\, United States
CATEGORIES:running
ATTACH;FMTTYPE=image/png:https://visittoledo.org/wp-content/uploads/2026/02/shamrock-shuffle-2026-4x3-event-image.png
GEO:41.6487304;-83.5370241
X-APPLE-STRUCTURED-LOCATION;VALUE=URI;X-ADDRESS=Hensville Park Monroe St & N St Clair St Toledo OH 43604 United States;X-APPLE-RADIUS=500;X-TITLE=Monroe St & N St Clair St:geo:-83.5370241,41.6487304
END:VEVENT
BEGIN:VEVENT
DTSTART;TZID=America/Detroit:20260321T080000
DTEND;TZID=America/Detroit:20260321T120000
DTSTAMP:20260419T200711
CREATED:20260312T200418Z
LAST-MODIFIED:20260312T200418Z
UID:10012849-1774080000-1774094400@visittoledo.org
SUMMARY:Toledo Mini Marathon
DESCRIPTION:Get ready for Toledo’s next Running Chapter!! The Toledo Mini Marathon is a scenic point-to-point half marathon starting in the uptown district of Maumee\, Ohio\, voted the best hometown in Ohio. Run through residential Historic Maumee homes\, past the Toledo Country Club\, the Toledo Zoo\, and into downtown Toledo along the new\, expanding Glass City Riverwalk\, which is slated to reach 50% completion in 2026. Runners get an exclusive first-look preview of sections opening in June 2026. Finish at the acclaimed Ribbon at the Glass City Metropark\, with a post-race celebration at The Garden by Poco Piatti.
URL:https://visittoledo.org/event/toledo-mini-marathon-2
LOCATION:Downtown Maumee\, Maumee\, Ohio
CATEGORIES:running
ATTACH;FMTTYPE=image/png:https://visittoledo.org/wp-content/uploads/2026/03/toledo-mini-marathon-2026-4x3-event-image.png
GEO:41.5628294;-83.6538244
END:VEVENT
BEGIN:VEVENT
DTSTART;TZID=America/Detroit:20260328T080000
DTEND;TZID=America/Detroit:20260328T120000
DTSTAMP:20260419T200711
CREATED:20260217T184818Z
LAST-MODIFIED:20260217T184818Z
UID:10011992-1774684800-1774699200@visittoledo.org
SUMMARY:Great Black Swamp Festival of Races
DESCRIPTION:The Great Black Swamp Festival of Races returns to Whitehouse on March 28\, presented by the Toledo Roadrunners Club. This community-focused running festival features race distances for all ages and abilities\, including a 25K\, 15.2K\, 10K\, 5K\, and a free Kids 1K\, along with virtual race options. The event also serves as a key training run for the Glass City Marathon\, making it a spring favorite for runners across Northwest Ohio. \nFallen Timbers Middle School is located at 6119 Finzel Road\, Whitehouse\, Oh 43571 \nPACKET PICK UP: Saturday March 21st Second Sole Perrysburg\, Times TBA \nRACE DAY PACKET PICK UP & REGISTRATION: starting at 6:45am at Fallen Timbers Middle School \n(The 15k is a little bit long and coming in at exactly 15.2k) \nAWARDS: 25K\, 15K – Overall\, Masters\, Grandmasters Winners in the 25K & 15K. 5k only overall male and female \nNew race start times!\nThe 25K and 15K start at 8:00 a.m. The 10k and 5K races start at 8:05 a.m. Kids at 7:40am
URL:https://visittoledo.org/event/great-black-swamp-festival-of-races
LOCATION:Fallen Timbers Middle School\, 6119 Finzel Road\, Whitehouse\, 43571
CATEGORIES:running,sports
ATTACH;FMTTYPE=image/png:https://visittoledo.org/wp-content/uploads/2026/02/Medal-Design.png
ORGANIZER;CN="The Toledo Roadrunners Club":MAILTO:vp@toledoroadrunners.org
GEO:41.5296258;-83.7795645
X-APPLE-STRUCTURED-LOCATION;VALUE=URI;X-ADDRESS=Fallen Timbers Middle School 6119 Finzel Road Whitehouse 43571;X-APPLE-RADIUS=500;X-TITLE=6119 Finzel Road:geo:-83.7795645,41.5296258
END:VEVENT
END:VCALENDAR