BEGIN:VCALENDAR
VERSION:2.0
PRODID:-//Destination Toledo - ECPv6.15.20//NONSGML v1.0//EN
CALSCALE:GREGORIAN
METHOD:PUBLISH
X-ORIGINAL-URL:https://visittoledo.org
X-WR-CALDESC:Events for Destination Toledo
REFRESH-INTERVAL;VALUE=DURATION:PT1H
X-Robots-Tag:noindex
X-PUBLISHED-TTL:PT1H
BEGIN:VTIMEZONE
TZID:America/Detroit
BEGIN:DAYLIGHT
TZOFFSETFROM:-0500
TZOFFSETTO:-0400
TZNAME:EDT
DTSTART:20250309T070000
END:DAYLIGHT
BEGIN:STANDARD
TZOFFSETFROM:-0400
TZOFFSETTO:-0500
TZNAME:EST
DTSTART:20251102T060000
END:STANDARD
BEGIN:DAYLIGHT
TZOFFSETFROM:-0500
TZOFFSETTO:-0400
TZNAME:EDT
DTSTART:20260308T070000
END:DAYLIGHT
BEGIN:STANDARD
TZOFFSETFROM:-0400
TZOFFSETTO:-0500
TZNAME:EST
DTSTART:20261101T060000
END:STANDARD
BEGIN:DAYLIGHT
TZOFFSETFROM:-0500
TZOFFSETTO:-0400
TZNAME:EDT
DTSTART:20270314T070000
END:DAYLIGHT
BEGIN:STANDARD
TZOFFSETFROM:-0400
TZOFFSETTO:-0500
TZNAME:EST
DTSTART:20271107T060000
END:STANDARD
END:VTIMEZONE
BEGIN:VEVENT
DTSTART;TZID=America/Detroit:20260719T100000
DTEND;TZID=America/Detroit:20260719T170000
DTSTAMP:20260424T162704
CREATED:20260422T191506Z
LAST-MODIFIED:20260422T191506Z
UID:10015005-1784455200-1784480400@visittoledo.org
SUMMARY:Currents of Change: The Living History of the Great Lakes
DESCRIPTION:Currents of Change: The Living History of the Great Lakes\, presented by the John and Virginia Hankison Foundation\, invites visitors to explore the ever-evolving relationship between people and our freshwaters. \nFrom beavers that shaped early Great Lakes economies to invasive species and harmful algae blooms that challenge us today\, this immersive exhibit traces the powerful forces that have transformed our region. Visitors will experience pivotal turning points in Great Lakes history while discovering how science\, conservation\, and community action continue to influence the lakes’ future. \nThis exhibit is included with regular museum admission and located in the Temporary Exhibit Gallery. \nNote: Sunday hours at NMGL are 12 pm to 5 pm
URL:https://visittoledo.org/event/currents-of-change-the-living-history-of-the-great-lakes/2026-07-19
LOCATION:National Museum of the Great Lakes\, 1701 Front St\, Toledo\, OH\, 43605\, United States
CATEGORIES:educational,museum
ATTACH;FMTTYPE=image/png:https://visittoledo.org/wp-content/uploads/2026/04/currents-of-change-nmgl-4x3-event-image.png
GEO:41.6566127;-83.5150568
X-APPLE-STRUCTURED-LOCATION;VALUE=URI;X-ADDRESS=National Museum of the Great Lakes 1701 Front St Toledo OH 43605 United States;X-APPLE-RADIUS=500;X-TITLE=1701 Front St:geo:-83.5150568,41.6566127
END:VEVENT
END:VCALENDAR