BEGIN:VCALENDAR
VERSION:2.0
PRODID:-//Destination Toledo - ECPv6.15.20//NONSGML v1.0//EN
CALSCALE:GREGORIAN
METHOD:PUBLISH
X-WR-CALNAME:Destination Toledo
X-ORIGINAL-URL:https://visittoledo.org
X-WR-CALDESC:Events for Destination Toledo
REFRESH-INTERVAL;VALUE=DURATION:PT1H
X-Robots-Tag:noindex
X-PUBLISHED-TTL:PT1H
BEGIN:VTIMEZONE
TZID:America/Detroit
BEGIN:DAYLIGHT
TZOFFSETFROM:-0500
TZOFFSETTO:-0400
TZNAME:EDT
DTSTART:20250309T070000
END:DAYLIGHT
BEGIN:STANDARD
TZOFFSETFROM:-0400
TZOFFSETTO:-0500
TZNAME:EST
DTSTART:20251102T060000
END:STANDARD
BEGIN:DAYLIGHT
TZOFFSETFROM:-0500
TZOFFSETTO:-0400
TZNAME:EDT
DTSTART:20260308T070000
END:DAYLIGHT
BEGIN:STANDARD
TZOFFSETFROM:-0400
TZOFFSETTO:-0500
TZNAME:EST
DTSTART:20261101T060000
END:STANDARD
BEGIN:DAYLIGHT
TZOFFSETFROM:-0500
TZOFFSETTO:-0400
TZNAME:EDT
DTSTART:20270314T070000
END:DAYLIGHT
BEGIN:STANDARD
TZOFFSETFROM:-0400
TZOFFSETTO:-0500
TZNAME:EST
DTSTART:20271107T060000
END:STANDARD
BEGIN:DAYLIGHT
TZOFFSETFROM:-0500
TZOFFSETTO:-0400
TZNAME:EDT
DTSTART:20280312T070000
END:DAYLIGHT
BEGIN:STANDARD
TZOFFSETFROM:-0400
TZOFFSETTO:-0500
TZNAME:EST
DTSTART:20281105T060000
END:STANDARD
BEGIN:DAYLIGHT
TZOFFSETFROM:-0500
TZOFFSETTO:-0400
TZNAME:EDT
DTSTART:20290311T070000
END:DAYLIGHT
BEGIN:STANDARD
TZOFFSETFROM:-0400
TZOFFSETTO:-0500
TZNAME:EST
DTSTART:20291104T060000
END:STANDARD
BEGIN:DAYLIGHT
TZOFFSETFROM:-0500
TZOFFSETTO:-0400
TZNAME:EDT
DTSTART:20300310T070000
END:DAYLIGHT
BEGIN:STANDARD
TZOFFSETFROM:-0400
TZOFFSETTO:-0500
TZNAME:EST
DTSTART:20301103T060000
END:STANDARD
BEGIN:DAYLIGHT
TZOFFSETFROM:-0500
TZOFFSETTO:-0400
TZNAME:EDT
DTSTART:20310309T070000
END:DAYLIGHT
BEGIN:STANDARD
TZOFFSETFROM:-0400
TZOFFSETTO:-0500
TZNAME:EST
DTSTART:20311102T060000
END:STANDARD
END:VTIMEZONE
BEGIN:VEVENT
DTSTART;TZID=America/Detroit:20261016T190000
DTEND;TZID=America/Detroit:20261016T210000
DTSTAMP:20260423T180247
CREATED:20250904T172732Z
LAST-MODIFIED:20260110T142439Z
UID:10011391-1792177200-1792184400@visittoledo.org
SUMMARY:Garrison Ghost Walk
DESCRIPTION:Each summer during Fort Meigs’ living history encampments\, strange lights and sounds\, along with the appearance of soldiers long dead have been reported by staff\, volunteers\, and visiting re-enactors. These phenomenal occurrences have never been accounted for or explained… \nGuided by lantern light\, experience ghostly tales around campfires within the walls of this historic fortification. \nCost: \nAdults 18+ – $17\nSeniors (60+): $15\nChildren (6-17): $12* \nNote: This program is not suitable for children 5 and under \nAdditional Notes: \n– Advanced tickets to this event are required. Please have your email confirmation with you when you arrive. Tickets are not sold at the door.\n– This event is not appropriate for children age 5 and under.\n– Doors open at 6:30pm. Please arrive 10-15 minutes prior to your tour time. Tours leave promptly every 15 minutes.\n– Tour lasts approximately 90 minutes\n– Dress for the weather! Ghost Walk takes place outdoors\, rain or shine\, and over varying terrain. If severe weather develops\, the event may be postponed or cancelled. Those affected by any changes will be notified the day of the event and issued a refund.\n-Flashlights and other illuminating devices are not permitted.\n– No refunds (unless the event is cancelled) or exchanges\n– The 8:30pm\, 8:45pm and 9:00pm tours are reserved for Adults 18+ & Seniors\, 60+. \n* Rain contingency plans are in effect. If severe weather develops\, event planners may postpone or cancel an evening’s activities. Those affected by any changes will be notified by phone on the day of the event. \nThis event is a fundraiser for the Old Northwest Military History Association (ONMHA). ONMHA was organized in 1993 to support Fort Meigs Historic Site. The 501(c)3 non-profit volunteer organization assists Fort Meigs staff with group tours\, special events\, and other historical activities. Additionally\, ONMHA helps create\, purchase\, and maintain the historical reproductions used at Fort Meigs and co-sponsors and coordinates living history events at the historical site. Members of the organization also travel to other War of 1812 sites around North America in order to participate in reenactments and events\, spreading their knowledge to the public. Visit www.onmha.org for more information.
URL:https://visittoledo.org/event/garrison-ghost-walk/2026-10-16
LOCATION:Fort Meigs: Ohio’s War of 1812 Battlefield\, 29100 W. River Rd.\, Perrysburg\, OH\, 43551\, United States
CATEGORIES:history,holiday,outdoors
ATTACH;FMTTYPE=image/jpeg:https://visittoledo.org/wp-content/uploads/2025/09/ggw-event-page-banner-1.jpg
GEO:41.5509127;-83.653135
X-APPLE-STRUCTURED-LOCATION;VALUE=URI;X-ADDRESS=Fort Meigs: Ohio’s War of 1812 Battlefield 29100 W. River Rd. Perrysburg OH 43551 United States;X-APPLE-RADIUS=500;X-TITLE=29100 W. River Rd.:geo:-83.653135,41.5509127
END:VEVENT
BEGIN:VEVENT
DTSTART;TZID=America/Detroit:20261017T190000
DTEND;TZID=America/Detroit:20261017T210000
DTSTAMP:20260423T180247
CREATED:20250904T172732Z
LAST-MODIFIED:20260110T142439Z
UID:10011392-1792263600-1792270800@visittoledo.org
SUMMARY:Garrison Ghost Walk
DESCRIPTION:Each summer during Fort Meigs’ living history encampments\, strange lights and sounds\, along with the appearance of soldiers long dead have been reported by staff\, volunteers\, and visiting re-enactors. These phenomenal occurrences have never been accounted for or explained… \nGuided by lantern light\, experience ghostly tales around campfires within the walls of this historic fortification. \nCost: \nAdults 18+ – $17\nSeniors (60+): $15\nChildren (6-17): $12* \nNote: This program is not suitable for children 5 and under \nAdditional Notes: \n– Advanced tickets to this event are required. Please have your email confirmation with you when you arrive. Tickets are not sold at the door.\n– This event is not appropriate for children age 5 and under.\n– Doors open at 6:30pm. Please arrive 10-15 minutes prior to your tour time. Tours leave promptly every 15 minutes.\n– Tour lasts approximately 90 minutes\n– Dress for the weather! Ghost Walk takes place outdoors\, rain or shine\, and over varying terrain. If severe weather develops\, the event may be postponed or cancelled. Those affected by any changes will be notified the day of the event and issued a refund.\n-Flashlights and other illuminating devices are not permitted.\n– No refunds (unless the event is cancelled) or exchanges\n– The 8:30pm\, 8:45pm and 9:00pm tours are reserved for Adults 18+ & Seniors\, 60+. \n* Rain contingency plans are in effect. If severe weather develops\, event planners may postpone or cancel an evening’s activities. Those affected by any changes will be notified by phone on the day of the event. \nThis event is a fundraiser for the Old Northwest Military History Association (ONMHA). ONMHA was organized in 1993 to support Fort Meigs Historic Site. The 501(c)3 non-profit volunteer organization assists Fort Meigs staff with group tours\, special events\, and other historical activities. Additionally\, ONMHA helps create\, purchase\, and maintain the historical reproductions used at Fort Meigs and co-sponsors and coordinates living history events at the historical site. Members of the organization also travel to other War of 1812 sites around North America in order to participate in reenactments and events\, spreading their knowledge to the public. Visit www.onmha.org for more information.
URL:https://visittoledo.org/event/garrison-ghost-walk/2026-10-17
LOCATION:Fort Meigs: Ohio’s War of 1812 Battlefield\, 29100 W. River Rd.\, Perrysburg\, OH\, 43551\, United States
CATEGORIES:history,holiday,outdoors
ATTACH;FMTTYPE=image/jpeg:https://visittoledo.org/wp-content/uploads/2025/09/ggw-event-page-banner-1.jpg
GEO:41.5509127;-83.653135
X-APPLE-STRUCTURED-LOCATION;VALUE=URI;X-ADDRESS=Fort Meigs: Ohio’s War of 1812 Battlefield 29100 W. River Rd. Perrysburg OH 43551 United States;X-APPLE-RADIUS=500;X-TITLE=29100 W. River Rd.:geo:-83.653135,41.5509127
END:VEVENT
BEGIN:VEVENT
DTSTART;TZID=America/Detroit:20261023T190000
DTEND;TZID=America/Detroit:20261023T210000
DTSTAMP:20260423T180247
CREATED:20250904T172732Z
LAST-MODIFIED:20260110T142439Z
UID:10011393-1792782000-1792789200@visittoledo.org
SUMMARY:Garrison Ghost Walk
DESCRIPTION:Each summer during Fort Meigs’ living history encampments\, strange lights and sounds\, along with the appearance of soldiers long dead have been reported by staff\, volunteers\, and visiting re-enactors. These phenomenal occurrences have never been accounted for or explained… \nGuided by lantern light\, experience ghostly tales around campfires within the walls of this historic fortification. \nCost: \nAdults 18+ – $17\nSeniors (60+): $15\nChildren (6-17): $12* \nNote: This program is not suitable for children 5 and under \nAdditional Notes: \n– Advanced tickets to this event are required. Please have your email confirmation with you when you arrive. Tickets are not sold at the door.\n– This event is not appropriate for children age 5 and under.\n– Doors open at 6:30pm. Please arrive 10-15 minutes prior to your tour time. Tours leave promptly every 15 minutes.\n– Tour lasts approximately 90 minutes\n– Dress for the weather! Ghost Walk takes place outdoors\, rain or shine\, and over varying terrain. If severe weather develops\, the event may be postponed or cancelled. Those affected by any changes will be notified the day of the event and issued a refund.\n-Flashlights and other illuminating devices are not permitted.\n– No refunds (unless the event is cancelled) or exchanges\n– The 8:30pm\, 8:45pm and 9:00pm tours are reserved for Adults 18+ & Seniors\, 60+. \n* Rain contingency plans are in effect. If severe weather develops\, event planners may postpone or cancel an evening’s activities. Those affected by any changes will be notified by phone on the day of the event. \nThis event is a fundraiser for the Old Northwest Military History Association (ONMHA). ONMHA was organized in 1993 to support Fort Meigs Historic Site. The 501(c)3 non-profit volunteer organization assists Fort Meigs staff with group tours\, special events\, and other historical activities. Additionally\, ONMHA helps create\, purchase\, and maintain the historical reproductions used at Fort Meigs and co-sponsors and coordinates living history events at the historical site. Members of the organization also travel to other War of 1812 sites around North America in order to participate in reenactments and events\, spreading their knowledge to the public. Visit www.onmha.org for more information.
URL:https://visittoledo.org/event/garrison-ghost-walk/2026-10-23
LOCATION:Fort Meigs: Ohio’s War of 1812 Battlefield\, 29100 W. River Rd.\, Perrysburg\, OH\, 43551\, United States
CATEGORIES:history,holiday,outdoors
ATTACH;FMTTYPE=image/jpeg:https://visittoledo.org/wp-content/uploads/2025/09/ggw-event-page-banner-1.jpg
GEO:41.5509127;-83.653135
X-APPLE-STRUCTURED-LOCATION;VALUE=URI;X-ADDRESS=Fort Meigs: Ohio’s War of 1812 Battlefield 29100 W. River Rd. Perrysburg OH 43551 United States;X-APPLE-RADIUS=500;X-TITLE=29100 W. River Rd.:geo:-83.653135,41.5509127
END:VEVENT
BEGIN:VEVENT
DTSTART;TZID=America/Detroit:20261024T190000
DTEND;TZID=America/Detroit:20261024T210000
DTSTAMP:20260423T180247
CREATED:20250904T172732Z
LAST-MODIFIED:20260110T142439Z
UID:10011394-1792868400-1792875600@visittoledo.org
SUMMARY:Garrison Ghost Walk
DESCRIPTION:Each summer during Fort Meigs’ living history encampments\, strange lights and sounds\, along with the appearance of soldiers long dead have been reported by staff\, volunteers\, and visiting re-enactors. These phenomenal occurrences have never been accounted for or explained… \nGuided by lantern light\, experience ghostly tales around campfires within the walls of this historic fortification. \nCost: \nAdults 18+ – $17\nSeniors (60+): $15\nChildren (6-17): $12* \nNote: This program is not suitable for children 5 and under \nAdditional Notes: \n– Advanced tickets to this event are required. Please have your email confirmation with you when you arrive. Tickets are not sold at the door.\n– This event is not appropriate for children age 5 and under.\n– Doors open at 6:30pm. Please arrive 10-15 minutes prior to your tour time. Tours leave promptly every 15 minutes.\n– Tour lasts approximately 90 minutes\n– Dress for the weather! Ghost Walk takes place outdoors\, rain or shine\, and over varying terrain. If severe weather develops\, the event may be postponed or cancelled. Those affected by any changes will be notified the day of the event and issued a refund.\n-Flashlights and other illuminating devices are not permitted.\n– No refunds (unless the event is cancelled) or exchanges\n– The 8:30pm\, 8:45pm and 9:00pm tours are reserved for Adults 18+ & Seniors\, 60+. \n* Rain contingency plans are in effect. If severe weather develops\, event planners may postpone or cancel an evening’s activities. Those affected by any changes will be notified by phone on the day of the event. \nThis event is a fundraiser for the Old Northwest Military History Association (ONMHA). ONMHA was organized in 1993 to support Fort Meigs Historic Site. The 501(c)3 non-profit volunteer organization assists Fort Meigs staff with group tours\, special events\, and other historical activities. Additionally\, ONMHA helps create\, purchase\, and maintain the historical reproductions used at Fort Meigs and co-sponsors and coordinates living history events at the historical site. Members of the organization also travel to other War of 1812 sites around North America in order to participate in reenactments and events\, spreading their knowledge to the public. Visit www.onmha.org for more information.
URL:https://visittoledo.org/event/garrison-ghost-walk/2026-10-24
LOCATION:Fort Meigs: Ohio’s War of 1812 Battlefield\, 29100 W. River Rd.\, Perrysburg\, OH\, 43551\, United States
CATEGORIES:history,holiday,outdoors
ATTACH;FMTTYPE=image/jpeg:https://visittoledo.org/wp-content/uploads/2025/09/ggw-event-page-banner-1.jpg
GEO:41.5509127;-83.653135
X-APPLE-STRUCTURED-LOCATION;VALUE=URI;X-ADDRESS=Fort Meigs: Ohio’s War of 1812 Battlefield 29100 W. River Rd. Perrysburg OH 43551 United States;X-APPLE-RADIUS=500;X-TITLE=29100 W. River Rd.:geo:-83.653135,41.5509127
END:VEVENT
BEGIN:VEVENT
DTSTART;TZID=America/Detroit:20261114T000000
DTEND;TZID=America/Detroit:20261114T235959
DTSTAMP:20260423T180247
CREATED:20260130T195658Z
LAST-MODIFIED:20260312T152426Z
UID:10011569-1794614400-1794700799@visittoledo.org
SUMMARY:The Blade Holiday Parade
DESCRIPTION:Don’t miss out on the annual Blade Holiday Parade in downtown Toledo on Nov. 14! \nBring the family down and enjoy Santa’s debut for the season as well as the Distinguished Clown Corps\, Giant Balloons\, local marching bands\, horses\, floats and more.
URL:https://visittoledo.org/event/the-blade-holiday-parade-2
LOCATION:Downtown Toledo\, Toledo\, OH\, United States
CATEGORIES:downtown,family friendly,holiday,outdoors
ATTACH;FMTTYPE=image/png:https://visittoledo.org/wp-content/uploads/2025/10/blade-holiday-parade-4x3-event-image.png
GEO:41.6528052;-83.5378674
END:VEVENT
BEGIN:VEVENT
DTSTART;TZID=America/Detroit:20261126T000000
DTEND;TZID=America/Detroit:20261126T235959
DTSTAMP:20260423T180247
CREATED:20260130T195034Z
LAST-MODIFIED:20260312T152358Z
UID:10011568-1795651200-1795737599@visittoledo.org
SUMMARY:Dave’s Turkey Chase 5K
DESCRIPTION:The annual Dave’s Turkey Chase 5K\, presented by First Solar is the ideal Thanksgiving day family fun run/walk. The event also includes a one mile walk\, a kids run — all to benefit Cherry Street Mission Ministries. \nThe 5K and 1 Mile events start outside the Glass City Center at Summit St./ Jefferson\, heads past 5/3 Field\, onto Huron St. passing by the Huntington Center and continues across Cherry St\, then back onto Summit St. to the finish in front of Promenade Park.
URL:https://visittoledo.org/event/daves-turkey-chase-5k
LOCATION:Downtown Toledo\, Toledo\, OH\, United States
CATEGORIES:downtown,holiday,racing,running
ATTACH;FMTTYPE=image/png:https://visittoledo.org/wp-content/uploads/2025/11/turkey-chase-4x3-event-image.png
GEO:41.6528052;-83.5378674
END:VEVENT
BEGIN:VEVENT
DTSTART;TZID=America/Detroit:20270101T110000
DTEND;TZID=America/Detroit:20270101T123000
DTSTAMP:20260423T180247
CREATED:20251210T150249Z
LAST-MODIFIED:20251210T150249Z
UID:10010742-1798801200-1798806600@visittoledo.org
SUMMARY:Hangover Classic 5K
DESCRIPTION:HANGOVER CLASSIC 2026 \nKick off the new year with a fun\, family-friendly 5K at the annual Hangover Classic. Festive pajamas and robes are encouraged\, so feel free to get creative. \nLocation: Monclova Community Center \nStart Times:• 1K Kids Race at 11:15 am• 5K Run and Walk at 11:45 am \nCourse: Flat out and back route with mile markers. This is not a closed course\, so watch for cars and stay alert. \nRegistration:• $20 for non Toledo Road Runners Club members• $15 for Toledo Road Runners Club membersChip timing is included. Please arrive early to pick up your bib. \nRefreshments: Water\, hot chocolate\, and food remaining from the Midnight Special. Participants may bring their own food and drinks.
URL:https://visittoledo.org/event/hangover-classic-5k/2027-01-01
LOCATION:Monclova Community Center\, 8115 Monclova Rd.\, Monclova\, 43528
CATEGORIES:exercise,family friendly,food,holiday
ATTACH;FMTTYPE=image/png:https://visittoledo.org/wp-content/uploads/2025/11/TRRC-hangover-classic-4x3-event-image.png
ORGANIZER;CN="The Toledo Roadrunners Club":MAILTO:vp@toledoroadrunners.org
GEO:41.5582982;-83.7351923
X-APPLE-STRUCTURED-LOCATION;VALUE=URI;X-ADDRESS=Monclova Community Center 8115 Monclova Rd. Monclova 43528;X-APPLE-RADIUS=500;X-TITLE=8115 Monclova Rd.:geo:-83.7351923,41.5582982
END:VEVENT
BEGIN:VEVENT
DTSTART;TZID=America/Detroit:20280101T110000
DTEND;TZID=America/Detroit:20280101T123000
DTSTAMP:20260423T180247
CREATED:20251210T150249Z
LAST-MODIFIED:20251210T150249Z
UID:10010743-1830337200-1830342600@visittoledo.org
SUMMARY:Hangover Classic 5K
DESCRIPTION:HANGOVER CLASSIC 2026 \nKick off the new year with a fun\, family-friendly 5K at the annual Hangover Classic. Festive pajamas and robes are encouraged\, so feel free to get creative. \nLocation: Monclova Community Center \nStart Times:• 1K Kids Race at 11:15 am• 5K Run and Walk at 11:45 am \nCourse: Flat out and back route with mile markers. This is not a closed course\, so watch for cars and stay alert. \nRegistration:• $20 for non Toledo Road Runners Club members• $15 for Toledo Road Runners Club membersChip timing is included. Please arrive early to pick up your bib. \nRefreshments: Water\, hot chocolate\, and food remaining from the Midnight Special. Participants may bring their own food and drinks.
URL:https://visittoledo.org/event/hangover-classic-5k/2028-01-01
LOCATION:Monclova Community Center\, 8115 Monclova Rd.\, Monclova\, 43528
CATEGORIES:exercise,family friendly,food,holiday
ATTACH;FMTTYPE=image/png:https://visittoledo.org/wp-content/uploads/2025/11/TRRC-hangover-classic-4x3-event-image.png
ORGANIZER;CN="The Toledo Roadrunners Club":MAILTO:vp@toledoroadrunners.org
GEO:41.5582982;-83.7351923
X-APPLE-STRUCTURED-LOCATION;VALUE=URI;X-ADDRESS=Monclova Community Center 8115 Monclova Rd. Monclova 43528;X-APPLE-RADIUS=500;X-TITLE=8115 Monclova Rd.:geo:-83.7351923,41.5582982
END:VEVENT
BEGIN:VEVENT
DTSTART;TZID=America/Detroit:20290101T110000
DTEND;TZID=America/Detroit:20290101T123000
DTSTAMP:20260423T180247
CREATED:20251210T150249Z
LAST-MODIFIED:20251210T150249Z
UID:10010744-1861959600-1861965000@visittoledo.org
SUMMARY:Hangover Classic 5K
DESCRIPTION:HANGOVER CLASSIC 2026 \nKick off the new year with a fun\, family-friendly 5K at the annual Hangover Classic. Festive pajamas and robes are encouraged\, so feel free to get creative. \nLocation: Monclova Community Center \nStart Times:• 1K Kids Race at 11:15 am• 5K Run and Walk at 11:45 am \nCourse: Flat out and back route with mile markers. This is not a closed course\, so watch for cars and stay alert. \nRegistration:• $20 for non Toledo Road Runners Club members• $15 for Toledo Road Runners Club membersChip timing is included. Please arrive early to pick up your bib. \nRefreshments: Water\, hot chocolate\, and food remaining from the Midnight Special. Participants may bring their own food and drinks.
URL:https://visittoledo.org/event/hangover-classic-5k/2029-01-01
LOCATION:Monclova Community Center\, 8115 Monclova Rd.\, Monclova\, 43528
CATEGORIES:exercise,family friendly,food,holiday
ATTACH;FMTTYPE=image/png:https://visittoledo.org/wp-content/uploads/2025/11/TRRC-hangover-classic-4x3-event-image.png
ORGANIZER;CN="The Toledo Roadrunners Club":MAILTO:vp@toledoroadrunners.org
GEO:41.5582982;-83.7351923
X-APPLE-STRUCTURED-LOCATION;VALUE=URI;X-ADDRESS=Monclova Community Center 8115 Monclova Rd. Monclova 43528;X-APPLE-RADIUS=500;X-TITLE=8115 Monclova Rd.:geo:-83.7351923,41.5582982
END:VEVENT
BEGIN:VEVENT
DTSTART;TZID=America/Detroit:20300101T110000
DTEND;TZID=America/Detroit:20300101T123000
DTSTAMP:20260423T180247
CREATED:20251210T150249Z
LAST-MODIFIED:20251210T150249Z
UID:10010745-1893495600-1893501000@visittoledo.org
SUMMARY:Hangover Classic 5K
DESCRIPTION:HANGOVER CLASSIC 2026 \nKick off the new year with a fun\, family-friendly 5K at the annual Hangover Classic. Festive pajamas and robes are encouraged\, so feel free to get creative. \nLocation: Monclova Community Center \nStart Times:• 1K Kids Race at 11:15 am• 5K Run and Walk at 11:45 am \nCourse: Flat out and back route with mile markers. This is not a closed course\, so watch for cars and stay alert. \nRegistration:• $20 for non Toledo Road Runners Club members• $15 for Toledo Road Runners Club membersChip timing is included. Please arrive early to pick up your bib. \nRefreshments: Water\, hot chocolate\, and food remaining from the Midnight Special. Participants may bring their own food and drinks.
URL:https://visittoledo.org/event/hangover-classic-5k/2030-01-01
LOCATION:Monclova Community Center\, 8115 Monclova Rd.\, Monclova\, 43528
CATEGORIES:exercise,family friendly,food,holiday
ATTACH;FMTTYPE=image/png:https://visittoledo.org/wp-content/uploads/2025/11/TRRC-hangover-classic-4x3-event-image.png
ORGANIZER;CN="The Toledo Roadrunners Club":MAILTO:vp@toledoroadrunners.org
GEO:41.5582982;-83.7351923
X-APPLE-STRUCTURED-LOCATION;VALUE=URI;X-ADDRESS=Monclova Community Center 8115 Monclova Rd. Monclova 43528;X-APPLE-RADIUS=500;X-TITLE=8115 Monclova Rd.:geo:-83.7351923,41.5582982
END:VEVENT
END:VCALENDAR