BEGIN:VCALENDAR
VERSION:2.0
PRODID:-//Destination Toledo - ECPv6.15.20//NONSGML v1.0//EN
CALSCALE:GREGORIAN
METHOD:PUBLISH
X-WR-CALNAME:Destination Toledo
X-ORIGINAL-URL:https://visittoledo.org
X-WR-CALDESC:Events for Destination Toledo
REFRESH-INTERVAL;VALUE=DURATION:PT1H
X-Robots-Tag:noindex
X-PUBLISHED-TTL:PT1H
BEGIN:VTIMEZONE
TZID:America/Detroit
BEGIN:DAYLIGHT
TZOFFSETFROM:-0500
TZOFFSETTO:-0400
TZNAME:EDT
DTSTART:20240310T070000
END:DAYLIGHT
BEGIN:STANDARD
TZOFFSETFROM:-0400
TZOFFSETTO:-0500
TZNAME:EST
DTSTART:20241103T060000
END:STANDARD
BEGIN:DAYLIGHT
TZOFFSETFROM:-0500
TZOFFSETTO:-0400
TZNAME:EDT
DTSTART:20250309T070000
END:DAYLIGHT
BEGIN:STANDARD
TZOFFSETFROM:-0400
TZOFFSETTO:-0500
TZNAME:EST
DTSTART:20251102T060000
END:STANDARD
BEGIN:DAYLIGHT
TZOFFSETFROM:-0500
TZOFFSETTO:-0400
TZNAME:EDT
DTSTART:20260308T070000
END:DAYLIGHT
BEGIN:STANDARD
TZOFFSETFROM:-0400
TZOFFSETTO:-0500
TZNAME:EST
DTSTART:20261101T060000
END:STANDARD
END:VTIMEZONE
BEGIN:VEVENT
DTSTART;TZID=America/Detroit:20251126T120000
DTEND;TZID=America/Detroit:20251126T160000
DTSTAMP:20260424T014357
CREATED:20251118T200445Z
LAST-MODIFIED:20251118T201954Z
UID:10010711-1764158400-1764172800@visittoledo.org
SUMMARY:The Big Game Showdown
DESCRIPTION:The Big Game Showdown returns for another year of rivalry excitement at Jim White Honda on Wednesday\, November 26\, from 12–4 PM. Fans can meet OSU football legends Braxton Miller and Ted Ginn Jr.\, enjoy free autographs courtesy of Marsha’s Homemade Buckeyes\, and grab delicious game-day bites from the SmashDawgz food truck along with sweet treats and drinks from Nate’s Sweet Café. \nGuests are also encouraged to help tackle hunger in the community by bringing canned goods or non-perishable items to support the Toledo Northwestern Ohio Food Bank. Donations can be made with a simple drive-up drop-off\, no need to leave the car. This family-friendly celebration offers food\, fun\, and Buckeye pride for fans of all ages.
URL:https://visittoledo.org/event/the-big-game-showdown
LOCATION:Jim White Honda\, 119 W Dussel Dr\, Maumee\, OH\, 43537\, United States
CATEGORIES:football,sports
ATTACH;FMTTYPE=image/png:https://visittoledo.org/wp-content/uploads/2025/11/big-game-showdown-jim-white-honda-4x3-event-image.png
GEO:41.585457;-83.6649264
X-APPLE-STRUCTURED-LOCATION;VALUE=URI;X-ADDRESS=Jim White Honda 119 W Dussel Dr Maumee OH 43537 United States;X-APPLE-RADIUS=500;X-TITLE=119 W Dussel Dr:geo:-83.6649264,41.585457
END:VEVENT
BEGIN:VEVENT
DTSTART;TZID=America/Detroit:20251122T140000
DTEND;TZID=America/Detroit:20251122T170000
DTSTAMP:20260424T014357
CREATED:20250813T175608Z
LAST-MODIFIED:20251118T202512Z
UID:10008609-1763820000-1763830800@visittoledo.org
SUMMARY:Toledo Rockets Football vs. Ball State
DESCRIPTION:Fans can expect a dynamic clash when the Toledo Rockets football team host their MAC rivals\, the Ball State Cardinals at the University of Toledo Glass Bowl on November 22\, 2025. \nBuilding off of an impressive 2024 campaign that saw the Rockets defeat two power conference schools\, Toledo brings back 52 letterwinners\, including four All-Mid-American Conference selections. Add another talented recruiting class and a group of experienced transfers and Jason Candle’s Rockets are poised for another big season with MAC Championship aspirations. \nToledo Rockets football schedule:\n \nAug 30 (Sat) @ Kentucky 12:45 p.m. \nSep 6 (Sat) vs. Western Kentucky 7:00 p.m.\n“Biggest Party in Toledo” \nSep 13 (Sat) vs. Morgan State 3:30 p.m. \nSep 20 (Sat) @ Western Michigan TBA \nSep 27 (Sat) vs. Akron 3:30 PM\nHomecoming \nOct 11 (Sat) @ Bowling Green TBA \nOct 18 (Sat) vs. Kent State TBA \nOct 25 (Sat) @ Washington State 3:30 p.m. \nNov 5 (Wed) vs. Northern Illinois TBA \nNov 12 (Wed) @ Miami 7:00 p.m. \nNov 22 (Sat) vs. Ball State TBA \nNov 29 (Sat) vs. Central Michigan TBA \nCatch every touchdown\, game highlight\, and insider update at the official Toledo Rockets Football website. Stay in the know with schedules\, tickets\, and exclusive team content. \n 
URL:https://visittoledo.org/event/toledo-rockets-football-vs-ball-state-2025
LOCATION:Glass Bowl Stadium\, 1745 Stadium Dr\, Toledo\, 43606
CATEGORIES:football,sports
ATTACH;FMTTYPE=image/png:https://visittoledo.org/wp-content/uploads/2025/08/ut-football-team-4x3-event-image.png
GEO:41.6579674;-83.6125699
X-APPLE-STRUCTURED-LOCATION;VALUE=URI;X-ADDRESS=Glass Bowl Stadium 1745 Stadium Dr Toledo 43606;X-APPLE-RADIUS=500;X-TITLE=1745 Stadium Dr:geo:-83.6125699,41.6579674
END:VEVENT
BEGIN:VEVENT
DTSTART;TZID=America/Detroit:20251105T000000
DTEND;TZID=America/Detroit:20251105T235959
DTSTAMP:20260424T014357
CREATED:20250813T173912Z
LAST-MODIFIED:20250919T165147Z
UID:10008608-1762300800-1762387199@visittoledo.org
SUMMARY:Toledo Rockets Football vs. Northern Illinois (Time TBA)
DESCRIPTION:Weeknight MACtion returns to the University of Toledo Glass Bowl when the Toledo Rockets football team hosts the rival Northern Illinois Huskies on November 5\, 2025. \nBuilding off of an impressive 2024 campaign that saw the Rockets defeat two power conference schools\, Toledo brings back 52 letterwinners\, including four All-Mid-American Conference selections. Add another talented recruiting class and a group of experienced transfers and Jason Candle’s Rockets are poised for another big season with MAC Championship aspirations. \nToledo Rockets football schedule:\n \nAug 30 (Sat) @ Kentucky 12:45 p.m. \nSep 6 (Sat) vs. Western Kentucky 7:00 p.m.\n“Biggest Party in Toledo” \nSep 13 (Sat) vs. Morgan State 3:30 p.m. \nSep 20 (Sat) @ Western Michigan TBA \nSep 27 (Sat) vs. Akron 3:30 PM\nHomecoming \nOct 11 (Sat) @ Bowling Green TBA \nOct 18 (Sat) vs. Kent State TBA \nOct 25 (Sat) @ Washington State 3:30 p.m. \nNov 5 (Wed) vs. Northern Illinois TBA \nNov 12 (Wed) @ Miami 7:00 p.m. \nNov 22 (Sat) vs. Ball State TBA \nNov 29 (Sat) vs. Central Michigan TBA \nCatch every touchdown\, game highlight\, and insider update at the official Toledo Rockets Football website. Stay in the know with schedules\, tickets\, and exclusive team content. \n 
URL:https://visittoledo.org/event/toledo-rockets-football-vs-northern-illinois-2025
LOCATION:Glass Bowl Stadium\, 1745 Stadium Dr\, Toledo\, 43606
CATEGORIES:football,sports
ATTACH;FMTTYPE=image/png:https://visittoledo.org/wp-content/uploads/2025/08/ut-football-team-4x3-event-image.png
GEO:41.6579674;-83.6125699
X-APPLE-STRUCTURED-LOCATION;VALUE=URI;X-ADDRESS=Glass Bowl Stadium 1745 Stadium Dr Toledo 43606;X-APPLE-RADIUS=500;X-TITLE=1745 Stadium Dr:geo:-83.6125699,41.6579674
END:VEVENT
BEGIN:VEVENT
DTSTART;TZID=America/Detroit:20251018T000000
DTEND;TZID=America/Detroit:20251018T235959
DTSTAMP:20260424T014357
CREATED:20250813T172907Z
LAST-MODIFIED:20251010T144712Z
UID:10008607-1760745600-1760831999@visittoledo.org
SUMMARY:Toledo Rockets Football vs. Kent State
DESCRIPTION:Fans can expect an exciting battle between MAC rivals when the Toledo Rockets football team hosts the Kent State Golden Flashes at the University of Toledo Glass Bowl on October 18\, 2025. \nBuilding off of an impressive 2024 campaign that saw the Rockets defeat two power conference schools\, Toledo brings back 52 letterwinners\, including four All-Mid-American Conference selections. Add another talented recruiting class and a group of experienced transfers\, and Jason Candle’s Rockets are poised for another big season with MAC Championship aspirations. \nToledo Rockets football schedule:\n \nAug 30 (Sat) @ Kentucky / 12:45 p.m. \nSep 6 (Sat) vs. Western Kentucky/  7:00 p.m.\n“Biggest Party in Toledo” \nSep 13 (Sat) vs. Morgan State / 3:30 p.m. \nSep 20 (Sat) @ Western Michigan / 3:30 pm \nSep 27 (Sat) vs. Akron / 3:30 PM\nHomecoming \nOct 11 (Sat) @ Bowling Green / Noon \nOct 18 (Sat) vs. Kent State / 2:00 pm \nOct 25 (Sat) @ Washington State / 3:30 p.m. \nNov 5 (Wed) vs. Northern Illinois TBA \nNov 12 (Wed) @ Miami / 7:00 p.m. \nNov 22 (Sat) vs. Ball State TBA \nNov 29 (Sat) vs. Central Michigan TBA \nCatch every touchdown\, game highlight\, and insider update at the official Toledo Rockets Football website. Stay in the know with schedules\, tickets\, and exclusive team content. \n 
URL:https://visittoledo.org/event/toledo-rockets-football-vs-kent-state-2025
LOCATION:Glass Bowl Stadium\, 1745 Stadium Dr\, Toledo\, 43606
CATEGORIES:football,sports
ATTACH;FMTTYPE=image/png:https://visittoledo.org/wp-content/uploads/2025/08/ut-football-team-4x3-event-image.png
GEO:41.6579674;-83.6125699
X-APPLE-STRUCTURED-LOCATION;VALUE=URI;X-ADDRESS=Glass Bowl Stadium 1745 Stadium Dr Toledo 43606;X-APPLE-RADIUS=500;X-TITLE=1745 Stadium Dr:geo:-83.6125699,41.6579674
END:VEVENT
BEGIN:VEVENT
DTSTART;TZID=America/Detroit:20250927T153000
DTEND;TZID=America/Detroit:20250927T183000
DTSTAMP:20260424T014357
CREATED:20250813T154927Z
LAST-MODIFIED:20250919T165349Z
UID:10008606-1758987000-1758997800@visittoledo.org
SUMMARY:Toledo Rockets Football vs. Akron | Homecoming
DESCRIPTION:Join Rocket fans and alumni at the Glass Bowl for the Homecoming Game on September 27\, 2025 at 3:30 p.m. as the Toledo Rockets take on the Akron Zips. Celebrate tradition\, reconnect with fellow alumni\, and experience the electric atmosphere as the Rockets aim for victory in this high-stakes MAC showdown. \nBuilding off of an impressive 2024 campaign that saw the Rockets defeat two power conference schools\, Toledo brings back 52 letterwinners\, including four All-Mid-American Conference selections. Add another talented recruiting class and a group of experienced transfers and Jason Candle’s Rockets are poised for another big season with MAC Championship aspirations. \nToledo Rockets football schedule:\n \nAug 30 (Sat) @ Kentucky 12:45 p.m. \nSep 6 (Sat) vs. Western Kentucky 7:00 p.m.\n“Biggest Party in Toledo” \nSep 13 (Sat) vs. Morgan State 3:30 p.m. \nSep 20 (Sat) @ Western Michigan TBA \nSep 27 (Sat) vs. Akron 3:30 PM\nHomecoming \nOct 11 (Sat) @ Bowling Green TBA \nOct 18 (Sat) vs. Kent State TBA \nOct 25 (Sat) @ Washington State 3:30 p.m. \nNov 5 (Wed) vs. Northern Illinois TBA \nNov 12 (Wed) @ Miami 7:00 p.m. \nNov 22 (Sat) vs. Ball State TBA \nNov 29 (Sat) vs. Central Michigan TBA \nCatch every touchdown\, game highlight\, and insider update at the official Toledo Rockets Football website. Stay in the know with schedules\, tickets\, and exclusive team content. \n 
URL:https://visittoledo.org/event/toledo-rockets-football-vs-akron-homecoming-2025
LOCATION:Glass Bowl Stadium\, 1745 Stadium Dr\, Toledo\, 43606
CATEGORIES:football,sports
ATTACH;FMTTYPE=image/png:https://visittoledo.org/wp-content/uploads/2025/08/ut-football-team-4x3-event-image.png
GEO:41.6579674;-83.6125699
X-APPLE-STRUCTURED-LOCATION;VALUE=URI;X-ADDRESS=Glass Bowl Stadium 1745 Stadium Dr Toledo 43606;X-APPLE-RADIUS=500;X-TITLE=1745 Stadium Dr:geo:-83.6125699,41.6579674
END:VEVENT
BEGIN:VEVENT
DTSTART;TZID=America/Detroit:20250926T000000
DTEND;TZID=America/Detroit:20250926T235959
DTSTAMP:20260424T014357
CREATED:20250709T130454Z
LAST-MODIFIED:20260130T193134Z
UID:10007737-1758844800-1758931199@visittoledo.org
SUMMARY:University of Toledo Homecoming Parade
DESCRIPTION:Celebrate Rocket Pride and join the Toledo Rockets football team as they play against the Akron Zips\, following the annual Homecoming Parade! \nEdward C. and Helen G. Schmakel parade \nGet into the spirit as you watch floats\, dignitaries\, alumni\, honorees\, Rocket Marching Band\, Rocky and Rocksy\, and more take to the streets of Old Orchard with the annual Edward C. and Helen G. Schmakel Homecoming Parade. Presented by Blue Key National Honor Society and supported by the Office of Student Engagement and the Office of Alumni Engagement. \nFor more information about the UT Homecoming football game and parade\, visit the UToledo website! 
URL:https://visittoledo.org/event/homecoming-the-university-of-toledo
LOCATION:University of Toledo\, 2801 W Bancroft St\, Toledo\, Ohio\, 43606\, United States
CATEGORIES:family friendly,football,outdoors
ATTACH;FMTTYPE=image/png:https://visittoledo.org/wp-content/uploads/2025/07/university-of-toledo-4x3-event-image.png
GEO:41.6623201;-83.6170915
X-APPLE-STRUCTURED-LOCATION;VALUE=URI;X-ADDRESS=University of Toledo 2801 W Bancroft St Toledo Ohio 43606 United States;X-APPLE-RADIUS=500;X-TITLE=2801 W Bancroft St:geo:-83.6170915,41.6623201
END:VEVENT
BEGIN:VEVENT
DTSTART;TZID=America/Detroit:20250913T153000
DTEND;TZID=America/Detroit:20250913T183000
DTSTAMP:20260424T014357
CREATED:20250813T151803Z
LAST-MODIFIED:20250813T180217Z
UID:10008605-1757777400-1757788200@visittoledo.org
SUMMARY:Toledo Rockets Football vs. Morgan State
DESCRIPTION:Fans can expect a dynamic clash when the Toledo Rockets football team hosts the Morgan State Bears at the University of Toledo Glass Bowl on September 13\, 2025 at 3:30 p.m. \nBuilding off of an impressive 2024 campaign that saw the Rockets defeat two power conference schools\, Toledo brings back 52 letterwinners\, including four All-Mid-American Conference selections. Add another talented recruiting class and a group of experienced transfers and Jason Candle’s Rockets are poised for another big season with MAC Championship aspirations. \nToledo Rockets football schedule:\n \nAug 30 (Sat) @ Kentucky 12:45 p.m. \nSep 6 (Sat) vs. Western Kentucky 7:00 p.m.\n“Biggest Party in Toledo” \nSep 13 (Sat) vs. Morgan State 3:30 p.m. \nSep 20 (Sat) @ Western Michigan TBA \nSep 27 (Sat) vs. Akron 3:30 PM\nHomecoming \nOct 11 (Sat) @ Bowling Green TBA \nOct 18 (Sat) vs. Kent State TBA \nOct 25 (Sat) @ Washington State 3:30 p.m. \nNov 5 (Wed) vs. Northern Illinois TBA \nNov 12 (Wed) @ Miami 7:00 p.m. \nNov 22 (Sat) vs. Ball State TBA \nNov 29 (Sat) at Central Michigan TBA \nCatch every touchdown\, game highlight\, and insider update at the official Toledo Rockets Football website. Stay in the know with schedules\, tickets\, and exclusive team content. \n 
URL:https://visittoledo.org/event/toledo-rockets-football-vs-morgan-state-2025
LOCATION:Glass Bowl Stadium\, 1745 Stadium Dr\, Toledo\, 43606
CATEGORIES:football,sports
ATTACH;FMTTYPE=image/png:https://visittoledo.org/wp-content/uploads/2025/08/ut-football-team-4x3-event-image.png
GEO:41.6579674;-83.6125699
X-APPLE-STRUCTURED-LOCATION;VALUE=URI;X-ADDRESS=Glass Bowl Stadium 1745 Stadium Dr Toledo 43606;X-APPLE-RADIUS=500;X-TITLE=1745 Stadium Dr:geo:-83.6125699,41.6579674
END:VEVENT
BEGIN:VEVENT
DTSTART;TZID=America/Detroit:20250906T190000
DTEND;TZID=America/Detroit:20250906T220000
DTSTAMP:20260424T014357
CREATED:20250813T145926Z
LAST-MODIFIED:20250813T145926Z
UID:10008604-1757185200-1757196000@visittoledo.org
SUMMARY:Toledo Rockets Football vs. Western Kentucky
DESCRIPTION:Get ready for take-off! Toledo Rockets kick-off their 2025 home schedule when they host the Western Kentucky Hilltoppers at the University of Toledo Glass Bowl on September 6\, 2025 at 7 p.m. \nBuilding off of an impressive 2024 campaign that saw the Rockets defeat two power conference schools\, Toledo brings back 52 letterwinners\, including four All-Mid-American Conference selections. Add another talented recruiting class and a group of experienced transfers and Jason Candle’s Rockets are poised for another big season with MAC Championship aspirations. \nToledo Rockets football schedule:\n \nAug 30 (Sat) @ Kentucky 12:45 p.m. \nSep 6 (Sat) vs. Western Kentucky 7:00 p.m.\n“Biggest Party in Toledo” \nSep 13 (Sat) vs. Morgan State 3:30 p.m. \nSep 20 (Sat) @ Western Michigan TBA \nSep 27 (Sat) vs. Akron 3:30 PM\nHomecoming \nOct 11 (Sat) @ Bowling Green TBA \nOct 18 (Sat) vs. Kent State TBA \nOct 25 (Sat) @ Washington State 3:30 p.m. \nNov 5 (Wed) vs. Northern Illinois TBA \nNov 12 (Wed) @ Miami 7:00 p.m. \nNov 22 (Sat) vs. Ball State TBA \nNov 29 (Sat) vs. Central Michigan TBA \nCatch every touchdown\, game highlight\, and insider update at the official Toledo Rockets Football website. Stay in the know with schedules\, tickets\, and exclusive team content. \n\n 
URL:https://visittoledo.org/event/toledo-rockets-football-vs-western-kentucky-2025
LOCATION:Glass Bowl Stadium\, 1745 Stadium Dr\, Toledo\, 43606
CATEGORIES:football,sports
ATTACH;FMTTYPE=image/png:https://visittoledo.org/wp-content/uploads/2025/08/ut-football-team-4x3-event-image.png
GEO:41.6579674;-83.6125699
X-APPLE-STRUCTURED-LOCATION;VALUE=URI;X-ADDRESS=Glass Bowl Stadium 1745 Stadium Dr Toledo 43606;X-APPLE-RADIUS=500;X-TITLE=1745 Stadium Dr:geo:-83.6125699,41.6579674
END:VEVENT
BEGIN:VEVENT
DTSTART;TZID=America/Detroit:20250628T150000
DTEND;TZID=America/Detroit:20250628T190000
DTSTAMP:20260424T014357
CREATED:20250327T201427Z
LAST-MODIFIED:20250528T191537Z
UID:10005019-1751122800-1751137200@visittoledo.org
SUMMARY:Italian Bowl 2025
DESCRIPTION:Get ready\, Toledo! The excitement of Italian American football is coming back as the 44th Italian Bowl takes place at the University of Toledo’s Glass Bowl Stadium on Saturday\, June 28\, 2025. This championship game will feature the top teams from the Italian Football League (IFL) competing for the prestigious Gionni Colombo Trophy.​ \nGame Day Schedule: \n12 – 3 p.m.: Tailgating festivities in Lot 6\, featuring food trucks and live entertainment by the Skittlebots. Lot 6. Appearance by SpongeBob SquarePants.​\n3 p.m.: Kickoff for the Italian Bowl XLIV. During halftime\, the winners of the People’s Choice and Judge’s Choice restaurant competitions will be honored.​ \nPre-Game Events:\nLeading up to the big game\, immerse yourself in a series of Italian-themed events: \nTaste of Italy Restaurant Weeks (June 15–28): Savor the region’s finest Italian cuisine and vote for your favorite dishes.\nMayor’s Cup Competition (June 14\, 2:00 PM): Watch local mayors from Northwest Ohio and Southeast Michigan compete in a punt\, pass\, and kick contest at St. Francis de Sales High School.\n​Youth Football Camp (June 27\, 10:00 AM): Young athletes aged 8–14 can participate in specialized football sessions at Start High School.​ \nDon’t miss this unique blend of cultural festivities and top-tier American football action.
URL:https://visittoledo.org/event/italian-bowl-2025
LOCATION:University of Toledo\, 2801 W Bancroft St\, Toledo\, Ohio\, 43606\, United States
CATEGORIES:football,sports
ATTACH;FMTTYPE=image/png:https://visittoledo.org/wp-content/uploads/2025/03/italian-bowl-4x3-event-image.png
GEO:41.6623201;-83.6170915
X-APPLE-STRUCTURED-LOCATION;VALUE=URI;X-ADDRESS=University of Toledo 2801 W Bancroft St Toledo Ohio 43606 United States;X-APPLE-RADIUS=500;X-TITLE=2801 W Bancroft St:geo:-83.6170915,41.6623201
END:VEVENT
BEGIN:VEVENT
DTSTART;TZID=America/Detroit:20250419T190000
DTEND;TZID=America/Detroit:20250419T210000
DTSTAMP:20260424T014357
CREATED:20250401T194548Z
LAST-MODIFIED:20250401T194548Z
UID:10005037-1745089200-1745096400@visittoledo.org
SUMMARY:Bernie Kosar at Maumee Indoor Theater
DESCRIPTION:Bernie Kosar played college football for the Miami Hurricanes\, leading the team to a national championship in 1983. Kosar played in the NFL for the Cleveland Browns from 1985 to 1993 and then finished his career with the Dallas Cowboys and the Miami Dolphins. Over his professional career\, Bernie threw for 23\,301 yards and 124 touchdowns. Come hear him tell stories about his fabulous career followed by a Q&A session.
URL:https://visittoledo.org/event/bernie-kosar-at-maumee-indoor-theater
LOCATION:Maumee Indoor Theater\, 601 Conant St\, Maumee\, OH\, 43537\, United States
CATEGORIES:football,sports
ATTACH;FMTTYPE=image/png:https://visittoledo.org/wp-content/uploads/2025/04/bernie-kosar-4x3-event-image.png
GEO:41.5648151;-83.6552701
X-APPLE-STRUCTURED-LOCATION;VALUE=URI;X-ADDRESS=Maumee Indoor Theater 601 Conant St Maumee OH 43537 United States;X-APPLE-RADIUS=500;X-TITLE=601 Conant St:geo:-83.6552701,41.5648151
END:VEVENT
END:VCALENDAR