BEGIN:VCALENDAR
VERSION:2.0
PRODID:-//Destination Toledo - ECPv6.15.20//NONSGML v1.0//EN
CALSCALE:GREGORIAN
METHOD:PUBLISH
X-WR-CALNAME:Destination Toledo
X-ORIGINAL-URL:https://visittoledo.org
X-WR-CALDESC:Events for Destination Toledo
REFRESH-INTERVAL;VALUE=DURATION:PT1H
X-Robots-Tag:noindex
X-PUBLISHED-TTL:PT1H
BEGIN:VTIMEZONE
TZID:America/Detroit
BEGIN:DAYLIGHT
TZOFFSETFROM:-0500
TZOFFSETTO:-0400
TZNAME:EDT
DTSTART:20250309T070000
END:DAYLIGHT
BEGIN:STANDARD
TZOFFSETFROM:-0400
TZOFFSETTO:-0500
TZNAME:EST
DTSTART:20251102T060000
END:STANDARD
BEGIN:DAYLIGHT
TZOFFSETFROM:-0500
TZOFFSETTO:-0400
TZNAME:EDT
DTSTART:20260308T070000
END:DAYLIGHT
BEGIN:STANDARD
TZOFFSETFROM:-0400
TZOFFSETTO:-0500
TZNAME:EST
DTSTART:20261101T060000
END:STANDARD
BEGIN:DAYLIGHT
TZOFFSETFROM:-0500
TZOFFSETTO:-0400
TZNAME:EDT
DTSTART:20270314T070000
END:DAYLIGHT
BEGIN:STANDARD
TZOFFSETFROM:-0400
TZOFFSETTO:-0500
TZNAME:EST
DTSTART:20271107T060000
END:STANDARD
END:VTIMEZONE
BEGIN:VEVENT
DTSTART;TZID=America/Detroit:20260130T000000
DTEND;TZID=America/Detroit:20260426T235959
DTSTAMP:20260424T131138
CREATED:20260130T162834Z
LAST-MODIFIED:20260130T163050Z
UID:10011563-1769731200-1777247999@visittoledo.org
SUMMARY:TUTANKHAMUN: "Wonderful Things" Treasures from the Pharaoh's Tomb
DESCRIPTION:Take a step back in time—3\,300 years ago to be exact—to the Valley of Kings where King Tutankhamun was laid to rest. \nDiscover the rich history of the 18th Dynasty in Ancient Egypt and see what historian Howard Carter saw when he uncovered the tomb\, the most extraordinary archaeological find of all time. \nExhibit is free with admission. \nImagination Station is closed on Mondays.
URL:https://visittoledo.org/event/tutankhamun-wonderful-things-treasures-from-the-pharaohs-tomb
LOCATION:Imagination Station\, 1 Discovery Way\, Toledo\, OH\, 43604
CATEGORIES:family friendly,museum
ATTACH;FMTTYPE=image/png:https://visittoledo.org/wp-content/uploads/2026/01/king-tut-imagination-station-4x3-event-image.png
GEO:41.6520001;-83.5317562
X-APPLE-STRUCTURED-LOCATION;VALUE=URI;X-ADDRESS=Imagination Station 1 Discovery Way Toledo OH 43604;X-APPLE-RADIUS=500;X-TITLE=1 Discovery Way:geo:-83.5317562,41.6520001
END:VEVENT
BEGIN:VEVENT
DTSTART;TZID=America/Detroit:20260323T110000
DTEND;TZID=America/Detroit:20260323T190000
DTSTAMP:20260424T131138
CREATED:20260312T182837Z
LAST-MODIFIED:20260312T182837Z
UID:10012829-1774263600-1774292400@visittoledo.org
SUMMARY:Visit the Easter Bunny at Franklin Park Mall
DESCRIPTION:Make this Easter egg-stra special with a visit to the Bunny at Franklin Park Mall! Gather your loved ones and create a memory filled with smiles and joy. \nVisit the Easter Bunny in Center Court daily. \nEaster Bunny Hours:  \nFriday\, March 13 \n\n1 pm to 4 pm\n\nMarch 14 – April 4 \n\nMonday – Saturday | 11 am – 7 pm\nSunday | 12 pm – 6 pm\n\nDon’t miss this cherished tradition where smiles bloom and memories last a lifetime!
URL:https://visittoledo.org/event/visit-the-easter-bunny-at-franklin-park-mall-2/2026-03-23
LOCATION:Franklin Park Mall\, 5001 Monroe St\, Toledo\, 43623\, United States
CATEGORIES:family friendly
ATTACH;FMTTYPE=image/png:https://visittoledo.org/wp-content/uploads/2026/03/franklin-park-mall-easter-bunny-4x3-event-image.png
GEO:41.6928604;-83.6384176
X-APPLE-STRUCTURED-LOCATION;VALUE=URI;X-ADDRESS=Franklin Park Mall 5001 Monroe St Toledo 43623 United States;X-APPLE-RADIUS=500;X-TITLE=5001 Monroe St:geo:-83.6384176,41.6928604
END:VEVENT
BEGIN:VEVENT
DTSTART;TZID=America/Detroit:20260324T110000
DTEND;TZID=America/Detroit:20260324T190000
DTSTAMP:20260424T131138
CREATED:20260312T182837Z
LAST-MODIFIED:20260312T182837Z
UID:10012830-1774350000-1774378800@visittoledo.org
SUMMARY:Visit the Easter Bunny at Franklin Park Mall
DESCRIPTION:Make this Easter egg-stra special with a visit to the Bunny at Franklin Park Mall! Gather your loved ones and create a memory filled with smiles and joy. \nVisit the Easter Bunny in Center Court daily. \nEaster Bunny Hours:  \nFriday\, March 13 \n\n1 pm to 4 pm\n\nMarch 14 – April 4 \n\nMonday – Saturday | 11 am – 7 pm\nSunday | 12 pm – 6 pm\n\nDon’t miss this cherished tradition where smiles bloom and memories last a lifetime!
URL:https://visittoledo.org/event/visit-the-easter-bunny-at-franklin-park-mall-2/2026-03-24
LOCATION:Franklin Park Mall\, 5001 Monroe St\, Toledo\, 43623\, United States
CATEGORIES:family friendly
ATTACH;FMTTYPE=image/png:https://visittoledo.org/wp-content/uploads/2026/03/franklin-park-mall-easter-bunny-4x3-event-image.png
GEO:41.6928604;-83.6384176
X-APPLE-STRUCTURED-LOCATION;VALUE=URI;X-ADDRESS=Franklin Park Mall 5001 Monroe St Toledo 43623 United States;X-APPLE-RADIUS=500;X-TITLE=5001 Monroe St:geo:-83.6384176,41.6928604
END:VEVENT
BEGIN:VEVENT
DTSTART;TZID=America/Detroit:20260325T110000
DTEND;TZID=America/Detroit:20260325T190000
DTSTAMP:20260424T131138
CREATED:20260312T182837Z
LAST-MODIFIED:20260312T182837Z
UID:10012831-1774436400-1774465200@visittoledo.org
SUMMARY:Visit the Easter Bunny at Franklin Park Mall
DESCRIPTION:Make this Easter egg-stra special with a visit to the Bunny at Franklin Park Mall! Gather your loved ones and create a memory filled with smiles and joy. \nVisit the Easter Bunny in Center Court daily. \nEaster Bunny Hours:  \nFriday\, March 13 \n\n1 pm to 4 pm\n\nMarch 14 – April 4 \n\nMonday – Saturday | 11 am – 7 pm\nSunday | 12 pm – 6 pm\n\nDon’t miss this cherished tradition where smiles bloom and memories last a lifetime!
URL:https://visittoledo.org/event/visit-the-easter-bunny-at-franklin-park-mall-2/2026-03-25
LOCATION:Franklin Park Mall\, 5001 Monroe St\, Toledo\, 43623\, United States
CATEGORIES:family friendly
ATTACH;FMTTYPE=image/png:https://visittoledo.org/wp-content/uploads/2026/03/franklin-park-mall-easter-bunny-4x3-event-image.png
GEO:41.6928604;-83.6384176
X-APPLE-STRUCTURED-LOCATION;VALUE=URI;X-ADDRESS=Franklin Park Mall 5001 Monroe St Toledo 43623 United States;X-APPLE-RADIUS=500;X-TITLE=5001 Monroe St:geo:-83.6384176,41.6928604
END:VEVENT
BEGIN:VEVENT
DTSTART;TZID=America/Detroit:20260326T110000
DTEND;TZID=America/Detroit:20260326T190000
DTSTAMP:20260424T131138
CREATED:20260312T182837Z
LAST-MODIFIED:20260312T182837Z
UID:10012832-1774522800-1774551600@visittoledo.org
SUMMARY:Visit the Easter Bunny at Franklin Park Mall
DESCRIPTION:Make this Easter egg-stra special with a visit to the Bunny at Franklin Park Mall! Gather your loved ones and create a memory filled with smiles and joy. \nVisit the Easter Bunny in Center Court daily. \nEaster Bunny Hours:  \nFriday\, March 13 \n\n1 pm to 4 pm\n\nMarch 14 – April 4 \n\nMonday – Saturday | 11 am – 7 pm\nSunday | 12 pm – 6 pm\n\nDon’t miss this cherished tradition where smiles bloom and memories last a lifetime!
URL:https://visittoledo.org/event/visit-the-easter-bunny-at-franklin-park-mall-2/2026-03-26
LOCATION:Franklin Park Mall\, 5001 Monroe St\, Toledo\, 43623\, United States
CATEGORIES:family friendly
ATTACH;FMTTYPE=image/png:https://visittoledo.org/wp-content/uploads/2026/03/franklin-park-mall-easter-bunny-4x3-event-image.png
GEO:41.6928604;-83.6384176
X-APPLE-STRUCTURED-LOCATION;VALUE=URI;X-ADDRESS=Franklin Park Mall 5001 Monroe St Toledo 43623 United States;X-APPLE-RADIUS=500;X-TITLE=5001 Monroe St:geo:-83.6384176,41.6928604
END:VEVENT
BEGIN:VEVENT
DTSTART;TZID=America/Detroit:20260327T110000
DTEND;TZID=America/Detroit:20260327T190000
DTSTAMP:20260424T131138
CREATED:20260312T182837Z
LAST-MODIFIED:20260312T182837Z
UID:10012833-1774609200-1774638000@visittoledo.org
SUMMARY:Visit the Easter Bunny at Franklin Park Mall
DESCRIPTION:Make this Easter egg-stra special with a visit to the Bunny at Franklin Park Mall! Gather your loved ones and create a memory filled with smiles and joy. \nVisit the Easter Bunny in Center Court daily. \nEaster Bunny Hours:  \nFriday\, March 13 \n\n1 pm to 4 pm\n\nMarch 14 – April 4 \n\nMonday – Saturday | 11 am – 7 pm\nSunday | 12 pm – 6 pm\n\nDon’t miss this cherished tradition where smiles bloom and memories last a lifetime!
URL:https://visittoledo.org/event/visit-the-easter-bunny-at-franklin-park-mall-2/2026-03-27
LOCATION:Franklin Park Mall\, 5001 Monroe St\, Toledo\, 43623\, United States
CATEGORIES:family friendly
ATTACH;FMTTYPE=image/png:https://visittoledo.org/wp-content/uploads/2026/03/franklin-park-mall-easter-bunny-4x3-event-image.png
GEO:41.6928604;-83.6384176
X-APPLE-STRUCTURED-LOCATION;VALUE=URI;X-ADDRESS=Franklin Park Mall 5001 Monroe St Toledo 43623 United States;X-APPLE-RADIUS=500;X-TITLE=5001 Monroe St:geo:-83.6384176,41.6928604
END:VEVENT
BEGIN:VEVENT
DTSTART;TZID=America/Detroit:20260328T090000
DTEND;TZID=America/Detroit:20260328T110000
DTSTAMP:20260424T131138
CREATED:20260312T191229Z
LAST-MODIFIED:20260312T191229Z
UID:10012845-1774688400-1774695600@visittoledo.org
SUMMARY:Dave & Buster's Bunny's Breakfast Bash
DESCRIPTION:Hop in for family fun at the Dave & Buster’s Bunny’s Breakfast Bash on March 28\, 2026\, at Dave & Buster’s. This special morning event gives families exclusive early access to the arcade for a festive Easter celebration packed with food\, games\, and activities for kids. \nGuests can start the day with a delicious breakfast\, followed by a fun-filled egg hunt and the chance for kids to meet and play games with the Bunny. It’s the perfect opportunity for families to enjoy a lively morning together while exploring the games and attractions that make Dave & Buster’s a favorite destination for entertainment in Toledo. \nTwo ticket packages are available\, making it easy for families to choose the experience that fits their group. With breakfast\, Easter activities\, and arcade fun all in one place\, Bunny’s Breakfast Bash is a great way to kick off the Easter season with the whole family. \nEvent Details: \nDate: March 28\, 2026 \nTime: 9:00 AM – 11:00 AM \nLocation: Dave & Buster’s \nActivities: Breakfast\, egg hunt\, games with the Bunny\, and arcade fun \nSpace is limited\, so families are encouraged to reserve their spots early.
URL:https://visittoledo.org/event/dave-busters-bunnys-breakfast-bash
LOCATION:Dave & Buster’s\, 5001 Monroe St\, Toledo\, OH\, 43623\, United States
CATEGORIES:family friendly,holiday
ATTACH;FMTTYPE=image/png:https://visittoledo.org/wp-content/uploads/2026/03/dave-busters-bunny-bash-4x3-event-image.png
GEO:41.6931082;-83.6414933
X-APPLE-STRUCTURED-LOCATION;VALUE=URI;X-ADDRESS=Dave & Buster’s 5001 Monroe St Toledo OH 43623 United States;X-APPLE-RADIUS=500;X-TITLE=5001 Monroe St:geo:-83.6414933,41.6931082
END:VEVENT
BEGIN:VEVENT
DTSTART;TZID=America/Detroit:20260328T110000
DTEND;TZID=America/Detroit:20260328T190000
DTSTAMP:20260424T131138
CREATED:20260312T182837Z
LAST-MODIFIED:20260312T182837Z
UID:10012834-1774695600-1774724400@visittoledo.org
SUMMARY:Visit the Easter Bunny at Franklin Park Mall
DESCRIPTION:Make this Easter egg-stra special with a visit to the Bunny at Franklin Park Mall! Gather your loved ones and create a memory filled with smiles and joy. \nVisit the Easter Bunny in Center Court daily. \nEaster Bunny Hours:  \nFriday\, March 13 \n\n1 pm to 4 pm\n\nMarch 14 – April 4 \n\nMonday – Saturday | 11 am – 7 pm\nSunday | 12 pm – 6 pm\n\nDon’t miss this cherished tradition where smiles bloom and memories last a lifetime!
URL:https://visittoledo.org/event/visit-the-easter-bunny-at-franklin-park-mall-2/2026-03-28
LOCATION:Franklin Park Mall\, 5001 Monroe St\, Toledo\, 43623\, United States
CATEGORIES:family friendly
ATTACH;FMTTYPE=image/png:https://visittoledo.org/wp-content/uploads/2026/03/franklin-park-mall-easter-bunny-4x3-event-image.png
GEO:41.6928604;-83.6384176
X-APPLE-STRUCTURED-LOCATION;VALUE=URI;X-ADDRESS=Franklin Park Mall 5001 Monroe St Toledo 43623 United States;X-APPLE-RADIUS=500;X-TITLE=5001 Monroe St:geo:-83.6384176,41.6928604
END:VEVENT
BEGIN:VEVENT
DTSTART;TZID=America/Detroit:20260328T120000
DTEND;TZID=America/Detroit:20260328T140000
DTSTAMP:20260424T131138
CREATED:20260225T150644Z
LAST-MODIFIED:20260225T150644Z
UID:10012303-1774699200-1774706400@visittoledo.org
SUMMARY:Shops at Fallen Timbers Easter Egg Hunt
DESCRIPTION:Hop on over to the green in front of Cinemark Theaters for a family fun event on Saturday\, March 28th from 12pm-2pm! Bring your own basket\, bucket or bag\, the Easter Egg hunt begins at 12:30pm and won’t last long. The Easter Bunny will be available for photos\, hugs\, fist bumps and high-fives Also enjoy games on the green\, food trucks\, our vendor booths and of course\, shopping and restaurants.
URL:https://visittoledo.org/event/shops-at-fallen-timbers-easter-egg-hunt
LOCATION:The Shops at Fallen Timbers\, 3100 Main Street\, Suite 1599\, Maumee\, Ohio\, 43537\, United States
CATEGORIES:family friendly,holiday
ATTACH;FMTTYPE=image/png:https://visittoledo.org/wp-content/uploads/2026/02/fallen-timbers-easter-egg-hunt-4x3-event-image.png
GEO:41.5489395;-83.7074795
X-APPLE-STRUCTURED-LOCATION;VALUE=URI;X-ADDRESS=The Shops at Fallen Timbers 3100 Main Street Suite 1599 Maumee Ohio 43537 United States;X-APPLE-RADIUS=500;X-TITLE=3100 Main Street\, Suite 1599:geo:-83.7074795,41.5489395
END:VEVENT
BEGIN:VEVENT
DTSTART;TZID=America/Detroit:20260328T180000
DTEND;TZID=America/Detroit:20260328T210000
DTSTAMP:20260424T131138
CREATED:20260326T135722Z
LAST-MODIFIED:20260326T135722Z
UID:10013418-1774720800-1774731600@visittoledo.org
SUMMARY:Finding Nemo 3D
DESCRIPTION:Just keep swimming to Imagination Station for a 3D screening of Finding Nemo in honor of Pixar’s 40th anniversary in the KeyBank Discovery Theater. \nOn March 28\, 2026\, at 7:00 PM\, guests are invited to enjoy the 3D screening of Finding Nemo in honor of Pixar’s 40th anniversary. Follow Marlin and Dory on their unforgettable ocean adventure as they journey to P. Sherman 42 Wallaby Way\, Sydney\, in search of Nemo. \nDoors open at 6:00 PM. Tickets are $10. \nGuests can also take advantage of the Pixar Movie Marathon Deal\, which includes three 3D films:\n• Monsters\, Inc. – March 14• Up – March 21• Finding Nemo – March 28 \nMarathon pricing: $20 for members and $25 for non-members. \nTickets are available for purchase online.
URL:https://visittoledo.org/event/finding-nemo-3d
LOCATION:Imagination Station\, 1 Discovery Way\, Toledo\, OH\, 43604
CATEGORIES:downtown,family friendly,film,movie
ATTACH;FMTTYPE=image/png:https://visittoledo.org/wp-content/uploads/2026/03/finding-nemo-3d-4x3-event-image.png
GEO:41.6520001;-83.5317562
X-APPLE-STRUCTURED-LOCATION;VALUE=URI;X-ADDRESS=Imagination Station 1 Discovery Way Toledo OH 43604;X-APPLE-RADIUS=500;X-TITLE=1 Discovery Way:geo:-83.5317562,41.6520001
END:VEVENT
BEGIN:VEVENT
DTSTART;TZID=America/Detroit:20260329T120000
DTEND;TZID=America/Detroit:20260329T180000
DTSTAMP:20260424T131139
CREATED:20260312T182837Z
LAST-MODIFIED:20260312T182837Z
UID:10012835-1774785600-1774807200@visittoledo.org
SUMMARY:Visit the Easter Bunny at Franklin Park Mall
DESCRIPTION:Make this Easter egg-stra special with a visit to the Bunny at Franklin Park Mall! Gather your loved ones and create a memory filled with smiles and joy. \nVisit the Easter Bunny in Center Court daily. \nEaster Bunny Hours:  \nFriday\, March 13 \n\n1 pm to 4 pm\n\nMarch 14 – April 4 \n\nMonday – Saturday | 11 am – 7 pm\nSunday | 12 pm – 6 pm\n\nDon’t miss this cherished tradition where smiles bloom and memories last a lifetime!
URL:https://visittoledo.org/event/visit-the-easter-bunny-at-franklin-park-mall-2/2026-03-29
LOCATION:Franklin Park Mall\, 5001 Monroe St\, Toledo\, 43623\, United States
CATEGORIES:family friendly
ATTACH;FMTTYPE=image/png:https://visittoledo.org/wp-content/uploads/2026/03/franklin-park-mall-easter-bunny-4x3-event-image.png
GEO:41.6928604;-83.6384176
X-APPLE-STRUCTURED-LOCATION;VALUE=URI;X-ADDRESS=Franklin Park Mall 5001 Monroe St Toledo 43623 United States;X-APPLE-RADIUS=500;X-TITLE=5001 Monroe St:geo:-83.6384176,41.6928604
END:VEVENT
END:VCALENDAR