BEGIN:VCALENDAR
VERSION:2.0
PRODID:-//Destination Toledo - ECPv6.15.20//NONSGML v1.0//EN
CALSCALE:GREGORIAN
METHOD:PUBLISH
X-ORIGINAL-URL:https://visittoledo.org
X-WR-CALDESC:Events for Destination Toledo
REFRESH-INTERVAL;VALUE=DURATION:PT1H
X-Robots-Tag:noindex
X-PUBLISHED-TTL:PT1H
BEGIN:VTIMEZONE
TZID:America/Detroit
BEGIN:DAYLIGHT
TZOFFSETFROM:-0500
TZOFFSETTO:-0400
TZNAME:EDT
DTSTART:20250309T070000
END:DAYLIGHT
BEGIN:STANDARD
TZOFFSETFROM:-0400
TZOFFSETTO:-0500
TZNAME:EST
DTSTART:20251102T060000
END:STANDARD
BEGIN:DAYLIGHT
TZOFFSETFROM:-0500
TZOFFSETTO:-0400
TZNAME:EDT
DTSTART:20260308T070000
END:DAYLIGHT
BEGIN:STANDARD
TZOFFSETFROM:-0400
TZOFFSETTO:-0500
TZNAME:EST
DTSTART:20261101T060000
END:STANDARD
BEGIN:DAYLIGHT
TZOFFSETFROM:-0500
TZOFFSETTO:-0400
TZNAME:EDT
DTSTART:20270314T070000
END:DAYLIGHT
BEGIN:STANDARD
TZOFFSETFROM:-0400
TZOFFSETTO:-0500
TZNAME:EST
DTSTART:20271107T060000
END:STANDARD
END:VTIMEZONE
BEGIN:VEVENT
DTSTART;TZID=America/Detroit:20260109T140000
DTEND;TZID=America/Detroit:20260109T210000
DTSTAMP:20260422T101429
CREATED:20251204T205123Z
LAST-MODIFIED:20251204T205123Z
UID:10010767-1767967200-1767992400@visittoledo.org
SUMMARY:Skate with the Stars: Disney Classics Skate Party
DESCRIPTION:Enjoy an evening of magic at The Ribbon at Glass City Metropark during the Disney Classics Skate Party on Friday\, January 9. Guests can skate under the lights while listening to beloved songs from classic Disney films\, creating a memorable night for families and friends of all ages. \nThe Ribbon will offer daily public ice-skating sessions. Friday sessions run from 2 to 4 p.m.\, 4:30 to 6:30 p.m.\, and 7 to 9 p.m. The Disney Classics Skate Party will take place during the 4:30 p.m. and 7 p.m. sessions. \nAdmission is $ 10\, plus $ 2 for skate rentals. \nGuests can also relax in a heated cabana along The Ribbon\, enjoy hot chocolate\, and share pizza from The Garden while watching skaters glide by. Cabana Village continues to be one of Toledo’s favorite winter traditions.
URL:https://visittoledo.org/event/skate-with-the-stars-disney-classics-skate-party
LOCATION:The Ribbon at Glass City Metropark\, 1521 Front St\, Toledo\, OH\, 43605\, United States
CATEGORIES:exercise,family friendly,outdoors
ATTACH;FMTTYPE=image/png:https://visittoledo.org/wp-content/uploads/2025/12/shimmer-skate-at-the-ribbon-4x3-event-image.png
GEO:41.6549826;-83.5168161
X-APPLE-STRUCTURED-LOCATION;VALUE=URI;X-ADDRESS=The Ribbon at Glass City Metropark 1521 Front St Toledo OH 43605 United States;X-APPLE-RADIUS=500;X-TITLE=1521 Front St:geo:-83.5168161,41.6549826
END:VEVENT
END:VCALENDAR