BEGIN:VCALENDAR
VERSION:2.0
PRODID:-//Destination Toledo - ECPv6.15.20//NONSGML v1.0//EN
CALSCALE:GREGORIAN
METHOD:PUBLISH
X-WR-CALNAME:Destination Toledo
X-ORIGINAL-URL:https://visittoledo.org
X-WR-CALDESC:Events for Destination Toledo
REFRESH-INTERVAL;VALUE=DURATION:PT1H
X-Robots-Tag:noindex
X-PUBLISHED-TTL:PT1H
BEGIN:VTIMEZONE
TZID:America/Detroit
BEGIN:DAYLIGHT
TZOFFSETFROM:-0500
TZOFFSETTO:-0400
TZNAME:EDT
DTSTART:20250309T070000
END:DAYLIGHT
BEGIN:STANDARD
TZOFFSETFROM:-0400
TZOFFSETTO:-0500
TZNAME:EST
DTSTART:20251102T060000
END:STANDARD
BEGIN:DAYLIGHT
TZOFFSETFROM:-0500
TZOFFSETTO:-0400
TZNAME:EDT
DTSTART:20260308T070000
END:DAYLIGHT
BEGIN:STANDARD
TZOFFSETFROM:-0400
TZOFFSETTO:-0500
TZNAME:EST
DTSTART:20261101T060000
END:STANDARD
BEGIN:DAYLIGHT
TZOFFSETFROM:-0500
TZOFFSETTO:-0400
TZNAME:EDT
DTSTART:20270314T070000
END:DAYLIGHT
BEGIN:STANDARD
TZOFFSETFROM:-0400
TZOFFSETTO:-0500
TZNAME:EST
DTSTART:20271107T060000
END:STANDARD
END:VTIMEZONE
BEGIN:VEVENT
DTSTART;TZID=America/Detroit:20260501T000000
DTEND;TZID=America/Detroit:20260503T235959
DTSTAMP:20260425T230509
CREATED:20260302T185007Z
LAST-MODIFIED:20260312T153405Z
UID:10012320-1777593600-1777852799@visittoledo.org
SUMMARY:Toledo Tattoo Festival
DESCRIPTION:The Toledo Tattoo Festival returns to Toledo from May 1–3\, 2026\, bringing together tattoo artists\, vendors\, and fans for one of the region’s most immersive tattoo and art events. \nHeld at the Glass City Center\, the festival features 200+ tattoo artists\, 30+ vendors\, and thousands of attendees over three days. Visitors can get tattooed on-site\, watch live tattooing\, explore live art competitions\, shop for tattoo-related merchandise\, and see artists compete for 45 different awards. \nIn addition to tattoos\, the Toledo Tattoo Festival offers contests\, collecting opportunities\, and a high-energy atmosphere that celebrates creativity\, craftsmanship\, and tattoo culture. Whether you’re looking to get your next piece\, connect with artists\, or simply experience the art form up close\, this consumer expo delivers a one-of-a-kind weekend in Downtown Toledo.
URL:https://visittoledo.org/event/toledo-tattoo-festival-2
LOCATION:Glass City Center\, 401 Jefferson Ave\, Toledo\, OH\, 43606\, United States
CATEGORIES:downtown,expo,Festival
ATTACH;FMTTYPE=image/png:https://visittoledo.org/wp-content/uploads/2026/03/toledo-tattoo-fest-26-4x3-event-image.png
GEO:41.6497912;-83.5357634
X-APPLE-STRUCTURED-LOCATION;VALUE=URI;X-ADDRESS=Glass City Center 401 Jefferson Ave Toledo OH 43606 United States;X-APPLE-RADIUS=500;X-TITLE=401 Jefferson Ave:geo:-83.5357634,41.6497912
END:VEVENT
BEGIN:VEVENT
DTSTART;TZID=America/Detroit:20260502T083000
DTEND;TZID=America/Detroit:20260502T110000
DTSTAMP:20260425T230509
CREATED:20260218T170430Z
LAST-MODIFIED:20260218T170430Z
UID:10011588-1777710600-1777719600@visittoledo.org
SUMMARY:Toledo Plant Exchange
DESCRIPTION:The Toledo Plant Exchange invites gardeners with any level of experience to take part in their annual plant exchange event in Lucas County on May 2nd. The rules of the exchange are simple: all attendees get five free plants just for stopping by (while supplies last)\, no money needed. Attendees are encouraged to bring plants from their own gardens and/or any gently used garden items to exchange for additional plants. Plant drop-off begins at 8:30am\, with plant distribution running from 10am until 11am or until all plants have found new homes.
URL:https://visittoledo.org/event/toledo-plant-exchange
LOCATION:Lucas County Fairgrounds\, 1406 Key St\, Maumee\, OH\, 43537\, United States
CATEGORIES:expo,nature
ATTACH;FMTTYPE=image/png:https://visittoledo.org/wp-content/uploads/2026/02/toledo-plant-exchange-4x3-event-image.png
GEO:41.5809324;-83.6444233
X-APPLE-STRUCTURED-LOCATION;VALUE=URI;X-ADDRESS=Lucas County Fairgrounds 1406 Key St Maumee OH 43537 United States;X-APPLE-RADIUS=500;X-TITLE=1406 Key St:geo:-83.6444233,41.5809324
END:VEVENT
BEGIN:VEVENT
DTSTART;TZID=America/Detroit:20260530T090000
DTEND;TZID=America/Detroit:20260530T180000
DTSTAMP:20260425T230509
CREATED:20260325T172535Z
LAST-MODIFIED:20260325T172535Z
UID:10013367-1780131600-1780164000@visittoledo.org
SUMMARY:Really Cool Comic Con
DESCRIPTION:The Really Cool Comic Con takes over the Glass City Center in Downtown Toledo for a weekend full of Cosplay\, Comics\, Anime\, Guests\, Panels\, and Free Family events for everyone!
URL:https://visittoledo.org/event/really-cool-comic-con/2026-05-30
LOCATION:Glass City Center\, 401 Jefferson Ave\, Toledo\, OH\, 43606\, United States
CATEGORIES:downtown,expo
ATTACH;FMTTYPE=image/png:https://visittoledo.org/wp-content/uploads/2026/03/really-cool-comic-con-gcc-4x3-event-image.png
GEO:41.6497912;-83.5357634
X-APPLE-STRUCTURED-LOCATION;VALUE=URI;X-ADDRESS=Glass City Center 401 Jefferson Ave Toledo OH 43606 United States;X-APPLE-RADIUS=500;X-TITLE=401 Jefferson Ave:geo:-83.5357634,41.6497912
END:VEVENT
BEGIN:VEVENT
DTSTART;TZID=America/Detroit:20260531T100000
DTEND;TZID=America/Detroit:20260531T170000
DTSTAMP:20260425T230509
CREATED:20260325T172535Z
LAST-MODIFIED:20260325T172535Z
UID:10013368-1780221600-1780246800@visittoledo.org
SUMMARY:Really Cool Comic Con
DESCRIPTION:The Really Cool Comic Con takes over the Glass City Center in Downtown Toledo for a weekend full of Cosplay\, Comics\, Anime\, Guests\, Panels\, and Free Family events for everyone!
URL:https://visittoledo.org/event/really-cool-comic-con/2026-05-31
LOCATION:Glass City Center\, 401 Jefferson Ave\, Toledo\, OH\, 43606\, United States
CATEGORIES:downtown,expo
ATTACH;FMTTYPE=image/png:https://visittoledo.org/wp-content/uploads/2026/03/really-cool-comic-con-gcc-4x3-event-image.png
GEO:41.6497912;-83.5357634
X-APPLE-STRUCTURED-LOCATION;VALUE=URI;X-ADDRESS=Glass City Center 401 Jefferson Ave Toledo OH 43606 United States;X-APPLE-RADIUS=500;X-TITLE=401 Jefferson Ave:geo:-83.5357634,41.6497912
END:VEVENT
BEGIN:VEVENT
DTSTART;TZID=America/Detroit:20260607T090000
DTEND;TZID=America/Detroit:20260607T180000
DTSTAMP:20260425T230509
CREATED:20260325T200625Z
LAST-MODIFIED:20260325T200625Z
UID:10013390-1780822800-1780855200@visittoledo.org
SUMMARY:Toledo Guitar Show
DESCRIPTION:Join other guitar and music enthusiasts at The Stranahan for a day of perusing\, purchasing\, and selling. This musical instrument expo and swap meet will feature vendor booths with plenty of instruments for purchase.
URL:https://visittoledo.org/event/toledo-guitar-show
LOCATION:The Stranahan\, 4645 Heatherdowns Blvd\, Toledo\, OH\, 43614\, United States
CATEGORIES:expo,shopping
ATTACH;FMTTYPE=image/png:https://visittoledo.org/wp-content/uploads/2026/03/toledo-guitar-show-4x3-event-image.png
GEO:41.5924522;-83.6514603
X-APPLE-STRUCTURED-LOCATION;VALUE=URI;X-ADDRESS=The Stranahan 4645 Heatherdowns Blvd Toledo OH 43614 United States;X-APPLE-RADIUS=500;X-TITLE=4645 Heatherdowns Blvd:geo:-83.6514603,41.5924522
END:VEVENT
END:VCALENDAR