BEGIN:VCALENDAR
VERSION:2.0
PRODID:-//Destination Toledo - ECPv6.15.20//NONSGML v1.0//EN
CALSCALE:GREGORIAN
METHOD:PUBLISH
X-ORIGINAL-URL:https://visittoledo.org
X-WR-CALDESC:Events for Destination Toledo
REFRESH-INTERVAL;VALUE=DURATION:PT1H
X-Robots-Tag:noindex
X-PUBLISHED-TTL:PT1H
BEGIN:VTIMEZONE
TZID:America/Detroit
BEGIN:DAYLIGHT
TZOFFSETFROM:-0500
TZOFFSETTO:-0400
TZNAME:EDT
DTSTART:20250309T070000
END:DAYLIGHT
BEGIN:STANDARD
TZOFFSETFROM:-0400
TZOFFSETTO:-0500
TZNAME:EST
DTSTART:20251102T060000
END:STANDARD
BEGIN:DAYLIGHT
TZOFFSETFROM:-0500
TZOFFSETTO:-0400
TZNAME:EDT
DTSTART:20260308T070000
END:DAYLIGHT
BEGIN:STANDARD
TZOFFSETFROM:-0400
TZOFFSETTO:-0500
TZNAME:EST
DTSTART:20261101T060000
END:STANDARD
BEGIN:DAYLIGHT
TZOFFSETFROM:-0500
TZOFFSETTO:-0400
TZNAME:EDT
DTSTART:20270314T070000
END:DAYLIGHT
BEGIN:STANDARD
TZOFFSETFROM:-0400
TZOFFSETTO:-0500
TZNAME:EST
DTSTART:20271107T060000
END:STANDARD
END:VTIMEZONE
BEGIN:VEVENT
DTSTART;TZID=America/Detroit:20260526T193000
DTEND;TZID=America/Detroit:20260526T223000
DTSTAMP:20260425T114333
CREATED:20250603T165227Z
LAST-MODIFIED:20250603T165227Z
UID:10007362-1779823800-1779834600@visittoledo.org
SUMMARY:The Wiz
DESCRIPTION:THE WIZ returns “home” to stages across America in an all-new tour\, direct from Broadway. \nThe Baltimore Sun raves “Powerhouse performances. Stunning choreography. Visionary sets” and the Chicago Sun-Times proclaims THE WIZ is “An eye-popping and high-intensity revival!” \nThis groundbreaking twist on The Wizard of Oz changed the face of Broadway—from its iconic score packed with soul\, gospel\, rock\, and 70s funk to its stirring tale of Dorothy’s journey to find her place in a contemporary world. Everybody rejoice–this dynamite infusion of ballet\, jazz\, and modern pop brings a whole new groove to easing on down the road! \nPerformance Schedule:\nTuesday\, May 26\, 2026 – 7:30 p.m.\nWednesday\, May 27\, 2026 – 7:30 p.m.\nThursday\, May 28\, 2026 – 7:30 p.m.\nFriday\, May 29\, 2026 – 7:30 p.m.\nSaturday\, May 30\, 2026 – 2:00 & 7:30 p.m.\nSunday\, May 31\, 2026 – 1:00 & 6:30 p.m.
URL:https://visittoledo.org/event/the-wiz/2026-05-26
LOCATION:The Stranahan\, 4645 Heatherdowns Blvd\, Toledo\, OH\, 43614\, United States
CATEGORIES:entertainment,musical
ATTACH;FMTTYPE=image/jpeg:https://visittoledo.org/wp-content/uploads/2025/06/22.-Cal-Mitchell-as-The-Lion-Dana-Cimone-as-Dorothy-D.-Jerome-as-The-Tinman-and-Elijah-Ahmad-Lewis-as-The-Scarecrow-in-the-North-American-Tour-of-THE-WIZ.-Photo-by-Jeremy-Daniel-scaled.jpg
GEO:41.5924522;-83.6514603
X-APPLE-STRUCTURED-LOCATION;VALUE=URI;X-ADDRESS=The Stranahan 4645 Heatherdowns Blvd Toledo OH 43614 United States;X-APPLE-RADIUS=500;X-TITLE=4645 Heatherdowns Blvd:geo:-83.6514603,41.5924522
END:VEVENT
BEGIN:VEVENT
DTSTART;TZID=America/Detroit:20260527T190000
DTEND;TZID=America/Detroit:20260527T210000
DTSTAMP:20260425T114333
CREATED:20251217T155455Z
LAST-MODIFIED:20251217T155626Z
UID:10010327-1779908400-1779915600@visittoledo.org
SUMMARY:Rich & Ronnie G Trivia Night at Migo's
DESCRIPTION:Join Migo’s in hosting Toledo’s premier trivia duo Rich & Ronnie G! \nTest your knowledge and compete for great prizes against the sharpest players in town while enjoying fantastic food and drink specials!
URL:https://visittoledo.org/event/rich-ronnie-g-trivia-night-at-migos/2026-05-27
LOCATION:Migos\, 713 Monroe\, Toledo\, 43604
CATEGORIES:entertainment
ATTACH;FMTTYPE=image/png:https://visittoledo.org/wp-content/uploads/2025/10/migos-4x3-event-image.png
ORGANIZER;CN="Migos":MAILTO:lsmith@thinkcommunica.com
GEO:41.6502541;-83.5407926
X-APPLE-STRUCTURED-LOCATION;VALUE=URI;X-ADDRESS=Migos 713 Monroe Toledo 43604;X-APPLE-RADIUS=500;X-TITLE=713 Monroe:geo:-83.5407926,41.6502541
END:VEVENT
BEGIN:VEVENT
DTSTART;TZID=America/Detroit:20260527T193000
DTEND;TZID=America/Detroit:20260527T223000
DTSTAMP:20260425T114333
CREATED:20250603T165227Z
LAST-MODIFIED:20250603T165227Z
UID:10007363-1779910200-1779921000@visittoledo.org
SUMMARY:The Wiz
DESCRIPTION:THE WIZ returns “home” to stages across America in an all-new tour\, direct from Broadway. \nThe Baltimore Sun raves “Powerhouse performances. Stunning choreography. Visionary sets” and the Chicago Sun-Times proclaims THE WIZ is “An eye-popping and high-intensity revival!” \nThis groundbreaking twist on The Wizard of Oz changed the face of Broadway—from its iconic score packed with soul\, gospel\, rock\, and 70s funk to its stirring tale of Dorothy’s journey to find her place in a contemporary world. Everybody rejoice–this dynamite infusion of ballet\, jazz\, and modern pop brings a whole new groove to easing on down the road! \nPerformance Schedule:\nTuesday\, May 26\, 2026 – 7:30 p.m.\nWednesday\, May 27\, 2026 – 7:30 p.m.\nThursday\, May 28\, 2026 – 7:30 p.m.\nFriday\, May 29\, 2026 – 7:30 p.m.\nSaturday\, May 30\, 2026 – 2:00 & 7:30 p.m.\nSunday\, May 31\, 2026 – 1:00 & 6:30 p.m.
URL:https://visittoledo.org/event/the-wiz/2026-05-27
LOCATION:The Stranahan\, 4645 Heatherdowns Blvd\, Toledo\, OH\, 43614\, United States
CATEGORIES:entertainment,musical
ATTACH;FMTTYPE=image/jpeg:https://visittoledo.org/wp-content/uploads/2025/06/22.-Cal-Mitchell-as-The-Lion-Dana-Cimone-as-Dorothy-D.-Jerome-as-The-Tinman-and-Elijah-Ahmad-Lewis-as-The-Scarecrow-in-the-North-American-Tour-of-THE-WIZ.-Photo-by-Jeremy-Daniel-scaled.jpg
GEO:41.5924522;-83.6514603
X-APPLE-STRUCTURED-LOCATION;VALUE=URI;X-ADDRESS=The Stranahan 4645 Heatherdowns Blvd Toledo OH 43614 United States;X-APPLE-RADIUS=500;X-TITLE=4645 Heatherdowns Blvd:geo:-83.6514603,41.5924522
END:VEVENT
BEGIN:VEVENT
DTSTART;TZID=America/Detroit:20260528T193000
DTEND;TZID=America/Detroit:20260528T220000
DTSTAMP:20260425T114333
CREATED:20250922T194807Z
LAST-MODIFIED:20250922T195754Z
UID:10008786-1779996600-1780005600@visittoledo.org
SUMMARY:Thursday Night Comedy at Toledo Spirits
DESCRIPTION:Every Thursday | Seating at 7:30 PM | Show 8:00–9:45 PMHead underground for a night of laughs at The Underground in Toledo Spirits Company!This free weekly comedy night from Crumbley Comedy features a premium mix of touring club comics\, local favorites\, and rising new talent — all in one of downtown Toledo’s most unique venues. \nArrive early to grab a seat and order from a full food menu\, available before the show begins. Enjoy Toledo Spirits’ full cocktail and liquor menu throughout the night. \nNo cover. Just good food\, strong drinks\, and big laughs — every Thursday.
URL:https://visittoledo.org/event/thursday-night-comedy-at-toledo-spirits/2026-05-28
LOCATION:Toledo Spirits Company\, 1301 N Summit St\, Toledo\, OH\, 43604\, United States
CATEGORIES:comedy,entertainment
ATTACH;FMTTYPE=image/png:https://visittoledo.org/wp-content/uploads/2025/09/toledo-spirits-crumbley-comedy-4x3-event-image.png
GEO:41.6595852;-83.5213095
X-APPLE-STRUCTURED-LOCATION;VALUE=URI;X-ADDRESS=Toledo Spirits Company 1301 N Summit St Toledo OH 43604 United States;X-APPLE-RADIUS=500;X-TITLE=1301 N Summit St:geo:-83.5213095,41.6595852
END:VEVENT
BEGIN:VEVENT
DTSTART;TZID=America/Detroit:20260528T193000
DTEND;TZID=America/Detroit:20260528T223000
DTSTAMP:20260425T114333
CREATED:20250603T165227Z
LAST-MODIFIED:20250603T165227Z
UID:10007364-1779996600-1780007400@visittoledo.org
SUMMARY:The Wiz
DESCRIPTION:THE WIZ returns “home” to stages across America in an all-new tour\, direct from Broadway. \nThe Baltimore Sun raves “Powerhouse performances. Stunning choreography. Visionary sets” and the Chicago Sun-Times proclaims THE WIZ is “An eye-popping and high-intensity revival!” \nThis groundbreaking twist on The Wizard of Oz changed the face of Broadway—from its iconic score packed with soul\, gospel\, rock\, and 70s funk to its stirring tale of Dorothy’s journey to find her place in a contemporary world. Everybody rejoice–this dynamite infusion of ballet\, jazz\, and modern pop brings a whole new groove to easing on down the road! \nPerformance Schedule:\nTuesday\, May 26\, 2026 – 7:30 p.m.\nWednesday\, May 27\, 2026 – 7:30 p.m.\nThursday\, May 28\, 2026 – 7:30 p.m.\nFriday\, May 29\, 2026 – 7:30 p.m.\nSaturday\, May 30\, 2026 – 2:00 & 7:30 p.m.\nSunday\, May 31\, 2026 – 1:00 & 6:30 p.m.
URL:https://visittoledo.org/event/the-wiz/2026-05-28
LOCATION:The Stranahan\, 4645 Heatherdowns Blvd\, Toledo\, OH\, 43614\, United States
CATEGORIES:entertainment,musical
ATTACH;FMTTYPE=image/jpeg:https://visittoledo.org/wp-content/uploads/2025/06/22.-Cal-Mitchell-as-The-Lion-Dana-Cimone-as-Dorothy-D.-Jerome-as-The-Tinman-and-Elijah-Ahmad-Lewis-as-The-Scarecrow-in-the-North-American-Tour-of-THE-WIZ.-Photo-by-Jeremy-Daniel-scaled.jpg
GEO:41.5924522;-83.6514603
X-APPLE-STRUCTURED-LOCATION;VALUE=URI;X-ADDRESS=The Stranahan 4645 Heatherdowns Blvd Toledo OH 43614 United States;X-APPLE-RADIUS=500;X-TITLE=4645 Heatherdowns Blvd:geo:-83.6514603,41.5924522
END:VEVENT
BEGIN:VEVENT
DTSTART;TZID=America/Detroit:20260529T193000
DTEND;TZID=America/Detroit:20260529T223000
DTSTAMP:20260425T114333
CREATED:20250603T165227Z
LAST-MODIFIED:20250603T165227Z
UID:10007365-1780083000-1780093800@visittoledo.org
SUMMARY:The Wiz
DESCRIPTION:THE WIZ returns “home” to stages across America in an all-new tour\, direct from Broadway. \nThe Baltimore Sun raves “Powerhouse performances. Stunning choreography. Visionary sets” and the Chicago Sun-Times proclaims THE WIZ is “An eye-popping and high-intensity revival!” \nThis groundbreaking twist on The Wizard of Oz changed the face of Broadway—from its iconic score packed with soul\, gospel\, rock\, and 70s funk to its stirring tale of Dorothy’s journey to find her place in a contemporary world. Everybody rejoice–this dynamite infusion of ballet\, jazz\, and modern pop brings a whole new groove to easing on down the road! \nPerformance Schedule:\nTuesday\, May 26\, 2026 – 7:30 p.m.\nWednesday\, May 27\, 2026 – 7:30 p.m.\nThursday\, May 28\, 2026 – 7:30 p.m.\nFriday\, May 29\, 2026 – 7:30 p.m.\nSaturday\, May 30\, 2026 – 2:00 & 7:30 p.m.\nSunday\, May 31\, 2026 – 1:00 & 6:30 p.m.
URL:https://visittoledo.org/event/the-wiz/2026-05-29
LOCATION:The Stranahan\, 4645 Heatherdowns Blvd\, Toledo\, OH\, 43614\, United States
CATEGORIES:entertainment,musical
ATTACH;FMTTYPE=image/jpeg:https://visittoledo.org/wp-content/uploads/2025/06/22.-Cal-Mitchell-as-The-Lion-Dana-Cimone-as-Dorothy-D.-Jerome-as-The-Tinman-and-Elijah-Ahmad-Lewis-as-The-Scarecrow-in-the-North-American-Tour-of-THE-WIZ.-Photo-by-Jeremy-Daniel-scaled.jpg
GEO:41.5924522;-83.6514603
X-APPLE-STRUCTURED-LOCATION;VALUE=URI;X-ADDRESS=The Stranahan 4645 Heatherdowns Blvd Toledo OH 43614 United States;X-APPLE-RADIUS=500;X-TITLE=4645 Heatherdowns Blvd:geo:-83.6514603,41.5924522
END:VEVENT
BEGIN:VEVENT
DTSTART;TZID=America/Detroit:20260529T200000
DTEND;TZID=America/Detroit:20260529T220000
DTSTAMP:20260425T114333
CREATED:20251103T204642Z
LAST-MODIFIED:20251103T204642Z
UID:10010633-1780084800-1780092000@visittoledo.org
SUMMARY:Neil Berg's 100 Years of Broadway
DESCRIPTION:Created by award-winning composer and lyricist Neil Berg\, the show features a rotating cast of Broadway stars performing iconic songs from classic and contemporary musicals. What sets this production apart is Berg’s engaging narration\, which weaves together stories and historical context\, offering audiences insight into the evolution of musical theater.
URL:https://visittoledo.org/event/neil-bergs-100-years-of-broadway
LOCATION:Valentine Theatre\, 410 Adams St\, Toledo\, OH\, 43604\, United States
CATEGORIES:entertainment,live music
ATTACH;FMTTYPE=image/png:https://visittoledo.org/wp-content/uploads/2025/11/valentine-neil-berg-broadway-4x3-event-image.png
GEO:41.6531988;-83.5337546
X-APPLE-STRUCTURED-LOCATION;VALUE=URI;X-ADDRESS=Valentine Theatre 410 Adams St Toledo OH 43604 United States;X-APPLE-RADIUS=500;X-TITLE=410 Adams St:geo:-83.5337546,41.6531988
END:VEVENT
BEGIN:VEVENT
DTSTART;TZID=America/Detroit:20260530T140000
DTEND;TZID=America/Detroit:20260530T170000
DTSTAMP:20260425T114333
CREATED:20250603T165227Z
LAST-MODIFIED:20250603T165227Z
UID:10007366-1780149600-1780160400@visittoledo.org
SUMMARY:The Wiz
DESCRIPTION:THE WIZ returns “home” to stages across America in an all-new tour\, direct from Broadway. \nThe Baltimore Sun raves “Powerhouse performances. Stunning choreography. Visionary sets” and the Chicago Sun-Times proclaims THE WIZ is “An eye-popping and high-intensity revival!” \nThis groundbreaking twist on The Wizard of Oz changed the face of Broadway—from its iconic score packed with soul\, gospel\, rock\, and 70s funk to its stirring tale of Dorothy’s journey to find her place in a contemporary world. Everybody rejoice–this dynamite infusion of ballet\, jazz\, and modern pop brings a whole new groove to easing on down the road! \nPerformance Schedule:\nTuesday\, May 26\, 2026 – 7:30 p.m.\nWednesday\, May 27\, 2026 – 7:30 p.m.\nThursday\, May 28\, 2026 – 7:30 p.m.\nFriday\, May 29\, 2026 – 7:30 p.m.\nSaturday\, May 30\, 2026 – 2:00 & 7:30 p.m.\nSunday\, May 31\, 2026 – 1:00 & 6:30 p.m.
URL:https://visittoledo.org/event/the-wiz/2026-05-30/1
LOCATION:The Stranahan\, 4645 Heatherdowns Blvd\, Toledo\, OH\, 43614\, United States
CATEGORIES:entertainment,musical
ATTACH;FMTTYPE=image/jpeg:https://visittoledo.org/wp-content/uploads/2025/06/22.-Cal-Mitchell-as-The-Lion-Dana-Cimone-as-Dorothy-D.-Jerome-as-The-Tinman-and-Elijah-Ahmad-Lewis-as-The-Scarecrow-in-the-North-American-Tour-of-THE-WIZ.-Photo-by-Jeremy-Daniel-scaled.jpg
GEO:41.5924522;-83.6514603
X-APPLE-STRUCTURED-LOCATION;VALUE=URI;X-ADDRESS=The Stranahan 4645 Heatherdowns Blvd Toledo OH 43614 United States;X-APPLE-RADIUS=500;X-TITLE=4645 Heatherdowns Blvd:geo:-83.6514603,41.5924522
END:VEVENT
BEGIN:VEVENT
DTSTART;TZID=America/Detroit:20260530T183000
DTEND;TZID=America/Detroit:20260530T213000
DTSTAMP:20260425T114333
CREATED:20260305T183758Z
LAST-MODIFIED:20260305T183758Z
UID:10012328-1780165800-1780176600@visittoledo.org
SUMMARY:Musical Theatre Bingo
DESCRIPTION:Join the fun at the Musical Theatre BINGO fundraiser benefiting Children’s Theatre Workshop. BINGO spots will be called out by playing a hit song from a popular musical. Players can shout out the musical the song comes from or wait for our BINGO caller to tell them after a verse of the song. Players will then check the spot for that musical on their BINGO card. Regular BINGO rules apply. The winner is the player who reaches either 5 consecutive spots daubed/marked\, or the entire scorecard. Rounds of BINGO may have special winning rules\, like 4 corners or a specific shape.\n*Recommended for ages 14+\nMarch 14\, doors at 6:30pm\, BINGO at 7pmApril 26\, doors at 1:30pm\, BINGO at 2pmMay 30\, doors at 6:30pm\, BINGO at 7pm\nBINGO cards are available at the door or online:https://ctwtoledo.ludus.com
URL:https://visittoledo.org/event/musical-theatre-bingo-3
LOCATION:Children’s Theatre Workshop\, 3112 Lagrange st\, Toledo\, 43608
CATEGORIES:benefit,entertainment
ATTACH;FMTTYPE=image/png:https://visittoledo.org/wp-content/uploads/2026/03/musical-theatre-bingo-may-4x3-event-image.png
ORGANIZER;CN="Children's Theatre Workshop":MAILTO:office@ctwtoledo.org
GEO:41.6792152;-83.5404031
X-APPLE-STRUCTURED-LOCATION;VALUE=URI;X-ADDRESS=Children’s Theatre Workshop 3112 Lagrange st Toledo 43608;X-APPLE-RADIUS=500;X-TITLE=3112 Lagrange st:geo:-83.5404031,41.6792152
END:VEVENT
BEGIN:VEVENT
DTSTART;TZID=America/Detroit:20260530T193000
DTEND;TZID=America/Detroit:20260530T223000
DTSTAMP:20260425T114333
CREATED:20250603T165227Z
LAST-MODIFIED:20250603T165227Z
UID:10007367-1780169400-1780180200@visittoledo.org
SUMMARY:The Wiz
DESCRIPTION:THE WIZ returns “home” to stages across America in an all-new tour\, direct from Broadway. \nThe Baltimore Sun raves “Powerhouse performances. Stunning choreography. Visionary sets” and the Chicago Sun-Times proclaims THE WIZ is “An eye-popping and high-intensity revival!” \nThis groundbreaking twist on The Wizard of Oz changed the face of Broadway—from its iconic score packed with soul\, gospel\, rock\, and 70s funk to its stirring tale of Dorothy’s journey to find her place in a contemporary world. Everybody rejoice–this dynamite infusion of ballet\, jazz\, and modern pop brings a whole new groove to easing on down the road! \nPerformance Schedule:\nTuesday\, May 26\, 2026 – 7:30 p.m.\nWednesday\, May 27\, 2026 – 7:30 p.m.\nThursday\, May 28\, 2026 – 7:30 p.m.\nFriday\, May 29\, 2026 – 7:30 p.m.\nSaturday\, May 30\, 2026 – 2:00 & 7:30 p.m.\nSunday\, May 31\, 2026 – 1:00 & 6:30 p.m.
URL:https://visittoledo.org/event/the-wiz/2026-05-30/2
LOCATION:The Stranahan\, 4645 Heatherdowns Blvd\, Toledo\, OH\, 43614\, United States
CATEGORIES:entertainment,musical
ATTACH;FMTTYPE=image/jpeg:https://visittoledo.org/wp-content/uploads/2025/06/22.-Cal-Mitchell-as-The-Lion-Dana-Cimone-as-Dorothy-D.-Jerome-as-The-Tinman-and-Elijah-Ahmad-Lewis-as-The-Scarecrow-in-the-North-American-Tour-of-THE-WIZ.-Photo-by-Jeremy-Daniel-scaled.jpg
GEO:41.5924522;-83.6514603
X-APPLE-STRUCTURED-LOCATION;VALUE=URI;X-ADDRESS=The Stranahan 4645 Heatherdowns Blvd Toledo OH 43614 United States;X-APPLE-RADIUS=500;X-TITLE=4645 Heatherdowns Blvd:geo:-83.6514603,41.5924522
END:VEVENT
BEGIN:VEVENT
DTSTART;TZID=America/Detroit:20260531T120000
DTEND;TZID=America/Detroit:20260531T140000
DTSTAMP:20260425T114333
CREATED:20250923T182605Z
LAST-MODIFIED:20251212T185452Z
UID:10008860-1780228800-1780236000@visittoledo.org
SUMMARY:Boozy Brunch Bingo
DESCRIPTION:Spend your Sunday at Toledo Spirits’ Bellwether with Boozy Brunch Bingo! From 11 AM – 3 PM\, enjoy craft cocktails and delicious brunch dishes\, then join the fun and test your luck during Bingo from Noon – 2 PM. With exciting prizes\, a lively atmosphere\, and a family-friendly vibe\, this event is perfect for friends\, family\, and anyone looking to wrap up the weekend with food\, drinks\, and friendly competition. Location: Bellwether at Toledo Spirits\, 1301 N Summit St\, Toledo. \nTo guarantee seating make reservations here:\nhttps://getseat.net/?channel=merchant_web#/public/online/reservation/755923A7
URL:https://visittoledo.org/event/boozy-brunch-bingo/2026-05-31
LOCATION:Toledo Spirits Company\, 1301 N Summit St\, Toledo\, OH\, 43604\, United States
CATEGORIES:cocktails,entertainment
ATTACH;FMTTYPE=image/png:https://visittoledo.org/wp-content/uploads/2025/09/toledo-spirits-boozy-brunch-bingo-4x3-event-image.png
GEO:41.6595852;-83.5213095
X-APPLE-STRUCTURED-LOCATION;VALUE=URI;X-ADDRESS=Toledo Spirits Company 1301 N Summit St Toledo OH 43604 United States;X-APPLE-RADIUS=500;X-TITLE=1301 N Summit St:geo:-83.5213095,41.6595852
END:VEVENT
BEGIN:VEVENT
DTSTART;TZID=America/Detroit:20260531T130000
DTEND;TZID=America/Detroit:20260531T160000
DTSTAMP:20260425T114333
CREATED:20250603T165227Z
LAST-MODIFIED:20250603T165227Z
UID:10007368-1780232400-1780243200@visittoledo.org
SUMMARY:The Wiz
DESCRIPTION:THE WIZ returns “home” to stages across America in an all-new tour\, direct from Broadway. \nThe Baltimore Sun raves “Powerhouse performances. Stunning choreography. Visionary sets” and the Chicago Sun-Times proclaims THE WIZ is “An eye-popping and high-intensity revival!” \nThis groundbreaking twist on The Wizard of Oz changed the face of Broadway—from its iconic score packed with soul\, gospel\, rock\, and 70s funk to its stirring tale of Dorothy’s journey to find her place in a contemporary world. Everybody rejoice–this dynamite infusion of ballet\, jazz\, and modern pop brings a whole new groove to easing on down the road! \nPerformance Schedule:\nTuesday\, May 26\, 2026 – 7:30 p.m.\nWednesday\, May 27\, 2026 – 7:30 p.m.\nThursday\, May 28\, 2026 – 7:30 p.m.\nFriday\, May 29\, 2026 – 7:30 p.m.\nSaturday\, May 30\, 2026 – 2:00 & 7:30 p.m.\nSunday\, May 31\, 2026 – 1:00 & 6:30 p.m.
URL:https://visittoledo.org/event/the-wiz/2026-05-31/1
LOCATION:The Stranahan\, 4645 Heatherdowns Blvd\, Toledo\, OH\, 43614\, United States
CATEGORIES:entertainment,musical
ATTACH;FMTTYPE=image/jpeg:https://visittoledo.org/wp-content/uploads/2025/06/22.-Cal-Mitchell-as-The-Lion-Dana-Cimone-as-Dorothy-D.-Jerome-as-The-Tinman-and-Elijah-Ahmad-Lewis-as-The-Scarecrow-in-the-North-American-Tour-of-THE-WIZ.-Photo-by-Jeremy-Daniel-scaled.jpg
GEO:41.5924522;-83.6514603
X-APPLE-STRUCTURED-LOCATION;VALUE=URI;X-ADDRESS=The Stranahan 4645 Heatherdowns Blvd Toledo OH 43614 United States;X-APPLE-RADIUS=500;X-TITLE=4645 Heatherdowns Blvd:geo:-83.6514603,41.5924522
END:VEVENT
BEGIN:VEVENT
DTSTART;TZID=America/Detroit:20260531T183000
DTEND;TZID=America/Detroit:20260531T213000
DTSTAMP:20260425T114333
CREATED:20250603T165227Z
LAST-MODIFIED:20250603T165227Z
UID:10007369-1780252200-1780263000@visittoledo.org
SUMMARY:The Wiz
DESCRIPTION:THE WIZ returns “home” to stages across America in an all-new tour\, direct from Broadway. \nThe Baltimore Sun raves “Powerhouse performances. Stunning choreography. Visionary sets” and the Chicago Sun-Times proclaims THE WIZ is “An eye-popping and high-intensity revival!” \nThis groundbreaking twist on The Wizard of Oz changed the face of Broadway—from its iconic score packed with soul\, gospel\, rock\, and 70s funk to its stirring tale of Dorothy’s journey to find her place in a contemporary world. Everybody rejoice–this dynamite infusion of ballet\, jazz\, and modern pop brings a whole new groove to easing on down the road! \nPerformance Schedule:\nTuesday\, May 26\, 2026 – 7:30 p.m.\nWednesday\, May 27\, 2026 – 7:30 p.m.\nThursday\, May 28\, 2026 – 7:30 p.m.\nFriday\, May 29\, 2026 – 7:30 p.m.\nSaturday\, May 30\, 2026 – 2:00 & 7:30 p.m.\nSunday\, May 31\, 2026 – 1:00 & 6:30 p.m.
URL:https://visittoledo.org/event/the-wiz/2026-05-31/2
LOCATION:The Stranahan\, 4645 Heatherdowns Blvd\, Toledo\, OH\, 43614\, United States
CATEGORIES:entertainment,musical
ATTACH;FMTTYPE=image/jpeg:https://visittoledo.org/wp-content/uploads/2025/06/22.-Cal-Mitchell-as-The-Lion-Dana-Cimone-as-Dorothy-D.-Jerome-as-The-Tinman-and-Elijah-Ahmad-Lewis-as-The-Scarecrow-in-the-North-American-Tour-of-THE-WIZ.-Photo-by-Jeremy-Daniel-scaled.jpg
GEO:41.5924522;-83.6514603
X-APPLE-STRUCTURED-LOCATION;VALUE=URI;X-ADDRESS=The Stranahan 4645 Heatherdowns Blvd Toledo OH 43614 United States;X-APPLE-RADIUS=500;X-TITLE=4645 Heatherdowns Blvd:geo:-83.6514603,41.5924522
END:VEVENT
END:VCALENDAR