BEGIN:VCALENDAR
VERSION:2.0
PRODID:-//Destination Toledo - ECPv6.15.20//NONSGML v1.0//EN
CALSCALE:GREGORIAN
METHOD:PUBLISH
X-WR-CALNAME:Destination Toledo
X-ORIGINAL-URL:https://visittoledo.org
X-WR-CALDESC:Events for Destination Toledo
REFRESH-INTERVAL;VALUE=DURATION:PT1H
X-Robots-Tag:noindex
X-PUBLISHED-TTL:PT1H
BEGIN:VTIMEZONE
TZID:America/Detroit
BEGIN:DAYLIGHT
TZOFFSETFROM:-0500
TZOFFSETTO:-0400
TZNAME:EDT
DTSTART:20250309T070000
END:DAYLIGHT
BEGIN:STANDARD
TZOFFSETFROM:-0400
TZOFFSETTO:-0500
TZNAME:EST
DTSTART:20251102T060000
END:STANDARD
BEGIN:DAYLIGHT
TZOFFSETFROM:-0500
TZOFFSETTO:-0400
TZNAME:EDT
DTSTART:20260308T070000
END:DAYLIGHT
BEGIN:STANDARD
TZOFFSETFROM:-0400
TZOFFSETTO:-0500
TZNAME:EST
DTSTART:20261101T060000
END:STANDARD
BEGIN:DAYLIGHT
TZOFFSETFROM:-0500
TZOFFSETTO:-0400
TZNAME:EDT
DTSTART:20270314T070000
END:DAYLIGHT
BEGIN:STANDARD
TZOFFSETFROM:-0400
TZOFFSETTO:-0500
TZNAME:EST
DTSTART:20271107T060000
END:STANDARD
END:VTIMEZONE
BEGIN:VEVENT
DTSTART;TZID=America/Detroit:20260304T190000
DTEND;TZID=America/Detroit:20260304T220000
DTSTAMP:20260424T194440
CREATED:20251009T192333Z
LAST-MODIFIED:20260105T212508Z
UID:10011149-1772650800-1772661600@visittoledo.org
SUMMARY:Whiskey Red Saloon’s Free Line Dancing Lessons
DESCRIPTION:Kick up your boots and join the fun at Whiskey Red Saloon’s Free Line Dancing Lessons every Wednesday night in downtown Toledo! Whether you’ve never line danced before or you’re just looking to brush up on your steps\, this lively weekly event is the perfect way to get moving\, meet new people\, and enjoy a midweek night out. \nFrom 7:00–8:30 PM\, instructor Melanie Kempton of LinedUp: Line Dancing will teach easy-to-follow moves and beginner-friendly dances that’ll have you two-stepping and boot-scootin’ in no time. Then from 8:30–10:00 PM\, DJ Javi Rico Sounds keeps the energy going with your favorite country and mainstream dance hits — plus requests! \nNo cover\, no experience needed\, and no excuses — just great music\, friendly vibes\, and drink specials all night. Street parking is free after 6 PM\, and Whiskey Red Saloon is conveniently located on the first floor of the Commodore Perry Building\, across from the Huntington Center. \nSo grab your friends\, throw on your cowboy boots\, and join Toledo’s most welcoming dance floor every Wednesday night!
URL:https://visittoledo.org/event/whiskey-red-saloons-free-line-dancing-lessons/2026-03-04
LOCATION:Whiskey Red Saloon\, 505 Jefferson Ave #101\, Toledo\, OH\, 43604\, United States
CATEGORIES:country music,dance
ATTACH;FMTTYPE=image/png:https://visittoledo.org/wp-content/uploads/2025/10/line-dancing-whiskey-red-saloon-4x3-event-image.png
GEO:41.6505188;-83.5370866
X-APPLE-STRUCTURED-LOCATION;VALUE=URI;X-ADDRESS=Whiskey Red Saloon 505 Jefferson Ave #101 Toledo OH 43604 United States;X-APPLE-RADIUS=500;X-TITLE=505 Jefferson Ave #101:geo:-83.5370866,41.6505188
END:VEVENT
BEGIN:VEVENT
DTSTART;TZID=America/Detroit:20260311T190000
DTEND;TZID=America/Detroit:20260311T220000
DTSTAMP:20260424T194440
CREATED:20251009T192333Z
LAST-MODIFIED:20260105T212508Z
UID:10011150-1773255600-1773266400@visittoledo.org
SUMMARY:Whiskey Red Saloon’s Free Line Dancing Lessons
DESCRIPTION:Kick up your boots and join the fun at Whiskey Red Saloon’s Free Line Dancing Lessons every Wednesday night in downtown Toledo! Whether you’ve never line danced before or you’re just looking to brush up on your steps\, this lively weekly event is the perfect way to get moving\, meet new people\, and enjoy a midweek night out. \nFrom 7:00–8:30 PM\, instructor Melanie Kempton of LinedUp: Line Dancing will teach easy-to-follow moves and beginner-friendly dances that’ll have you two-stepping and boot-scootin’ in no time. Then from 8:30–10:00 PM\, DJ Javi Rico Sounds keeps the energy going with your favorite country and mainstream dance hits — plus requests! \nNo cover\, no experience needed\, and no excuses — just great music\, friendly vibes\, and drink specials all night. Street parking is free after 6 PM\, and Whiskey Red Saloon is conveniently located on the first floor of the Commodore Perry Building\, across from the Huntington Center. \nSo grab your friends\, throw on your cowboy boots\, and join Toledo’s most welcoming dance floor every Wednesday night!
URL:https://visittoledo.org/event/whiskey-red-saloons-free-line-dancing-lessons/2026-03-11
LOCATION:Whiskey Red Saloon\, 505 Jefferson Ave #101\, Toledo\, OH\, 43604\, United States
CATEGORIES:country music,dance
ATTACH;FMTTYPE=image/png:https://visittoledo.org/wp-content/uploads/2025/10/line-dancing-whiskey-red-saloon-4x3-event-image.png
GEO:41.6505188;-83.5370866
X-APPLE-STRUCTURED-LOCATION;VALUE=URI;X-ADDRESS=Whiskey Red Saloon 505 Jefferson Ave #101 Toledo OH 43604 United States;X-APPLE-RADIUS=500;X-TITLE=505 Jefferson Ave #101:geo:-83.5370866,41.6505188
END:VEVENT
BEGIN:VEVENT
DTSTART;TZID=America/Detroit:20260318T190000
DTEND;TZID=America/Detroit:20260318T220000
DTSTAMP:20260424T194440
CREATED:20251009T192333Z
LAST-MODIFIED:20260105T212508Z
UID:10011151-1773860400-1773871200@visittoledo.org
SUMMARY:Whiskey Red Saloon’s Free Line Dancing Lessons
DESCRIPTION:Kick up your boots and join the fun at Whiskey Red Saloon’s Free Line Dancing Lessons every Wednesday night in downtown Toledo! Whether you’ve never line danced before or you’re just looking to brush up on your steps\, this lively weekly event is the perfect way to get moving\, meet new people\, and enjoy a midweek night out. \nFrom 7:00–8:30 PM\, instructor Melanie Kempton of LinedUp: Line Dancing will teach easy-to-follow moves and beginner-friendly dances that’ll have you two-stepping and boot-scootin’ in no time. Then from 8:30–10:00 PM\, DJ Javi Rico Sounds keeps the energy going with your favorite country and mainstream dance hits — plus requests! \nNo cover\, no experience needed\, and no excuses — just great music\, friendly vibes\, and drink specials all night. Street parking is free after 6 PM\, and Whiskey Red Saloon is conveniently located on the first floor of the Commodore Perry Building\, across from the Huntington Center. \nSo grab your friends\, throw on your cowboy boots\, and join Toledo’s most welcoming dance floor every Wednesday night!
URL:https://visittoledo.org/event/whiskey-red-saloons-free-line-dancing-lessons/2026-03-18
LOCATION:Whiskey Red Saloon\, 505 Jefferson Ave #101\, Toledo\, OH\, 43604\, United States
CATEGORIES:country music,dance
ATTACH;FMTTYPE=image/png:https://visittoledo.org/wp-content/uploads/2025/10/line-dancing-whiskey-red-saloon-4x3-event-image.png
GEO:41.6505188;-83.5370866
X-APPLE-STRUCTURED-LOCATION;VALUE=URI;X-ADDRESS=Whiskey Red Saloon 505 Jefferson Ave #101 Toledo OH 43604 United States;X-APPLE-RADIUS=500;X-TITLE=505 Jefferson Ave #101:geo:-83.5370866,41.6505188
END:VEVENT
BEGIN:VEVENT
DTSTART;TZID=America/Detroit:20260325T190000
DTEND;TZID=America/Detroit:20260325T220000
DTSTAMP:20260424T194440
CREATED:20251009T192333Z
LAST-MODIFIED:20260105T212508Z
UID:10011152-1774465200-1774476000@visittoledo.org
SUMMARY:Whiskey Red Saloon’s Free Line Dancing Lessons
DESCRIPTION:Kick up your boots and join the fun at Whiskey Red Saloon’s Free Line Dancing Lessons every Wednesday night in downtown Toledo! Whether you’ve never line danced before or you’re just looking to brush up on your steps\, this lively weekly event is the perfect way to get moving\, meet new people\, and enjoy a midweek night out. \nFrom 7:00–8:30 PM\, instructor Melanie Kempton of LinedUp: Line Dancing will teach easy-to-follow moves and beginner-friendly dances that’ll have you two-stepping and boot-scootin’ in no time. Then from 8:30–10:00 PM\, DJ Javi Rico Sounds keeps the energy going with your favorite country and mainstream dance hits — plus requests! \nNo cover\, no experience needed\, and no excuses — just great music\, friendly vibes\, and drink specials all night. Street parking is free after 6 PM\, and Whiskey Red Saloon is conveniently located on the first floor of the Commodore Perry Building\, across from the Huntington Center. \nSo grab your friends\, throw on your cowboy boots\, and join Toledo’s most welcoming dance floor every Wednesday night!
URL:https://visittoledo.org/event/whiskey-red-saloons-free-line-dancing-lessons/2026-03-25
LOCATION:Whiskey Red Saloon\, 505 Jefferson Ave #101\, Toledo\, OH\, 43604\, United States
CATEGORIES:country music,dance
ATTACH;FMTTYPE=image/png:https://visittoledo.org/wp-content/uploads/2025/10/line-dancing-whiskey-red-saloon-4x3-event-image.png
GEO:41.6505188;-83.5370866
X-APPLE-STRUCTURED-LOCATION;VALUE=URI;X-ADDRESS=Whiskey Red Saloon 505 Jefferson Ave #101 Toledo OH 43604 United States;X-APPLE-RADIUS=500;X-TITLE=505 Jefferson Ave #101:geo:-83.5370866,41.6505188
END:VEVENT
BEGIN:VEVENT
DTSTART;TZID=America/Detroit:20260328T190000
DTEND;TZID=America/Detroit:20260328T230000
DTSTAMP:20260424T194440
CREATED:20260323T200853Z
LAST-MODIFIED:20260323T200853Z
UID:10012891-1774724400-1774738800@visittoledo.org
SUMMARY:Country Concert & Line Dancing at Hollywood Casino
DESCRIPTION:Get ready for a night of live music and dancing at the Country Concert & Line Dancing event at Hollywood Casino Toledo. This free event in Toledo brings together great country music\, beginner-friendly line dancing\, and a lively atmosphere for a fun night out. \nThe evening features a live performance by North of Nashville\, one of the region’s premier country bands\, playing from 8:00 PM to 11:00 PM. Before the show and during the set break\, guests can join free line dancing lessons led by Melanie from LinedUP Line Dancing\, making it easy for beginners and seasoned dancers alike to hit the floor with confidence. \nArrive early at 7:00 PM for open line dancing and pre-concert lessons\, then stick around for additional instruction during the 9:15–9:45 PM set break. Learn popular dances to match the band’s songs and enjoy an interactive concert experience. \nGuests can also make it a full night out by dining at one of the casino’s restaurants before the show or trying their luck on the gaming floor after the music ends. \nWhether you’re a country music fan or just looking for fun things to do in Toledo\, this event offers a high-energy night of live entertainment\, dancing\, and social fun—all with free admission. \nEvent Schedule: \n\n\n7:00–8:00 PM: Open line dancing & beginner lessons \n\n\n8:00–11:00 PM: Live music by North of Nashville \n\n\n9:15–9:45 PM: Set break line dancing lessons \n\n\nLocation: Hollywood Casino Toledo \n\n\nAdmission: Free \n\n\nMust be 21 years or older. Gambling problem?Call 1-800-589-9966
URL:https://visittoledo.org/event/country-concert-line-dancing-at-hollywood-casino
LOCATION:Hollywood Casino\, 1968 Miami St\, Toledo\, OH\, 43605\, United States
CATEGORIES:casino,concert,country music,dance,live music
ATTACH;FMTTYPE=image/png:https://visittoledo.org/wp-content/uploads/2026/03/hollywood-casino-line-dancing-4x3-event-image.png
GEO:41.6213351;-83.544873
X-APPLE-STRUCTURED-LOCATION;VALUE=URI;X-ADDRESS=Hollywood Casino 1968 Miami St Toledo OH 43605 United States;X-APPLE-RADIUS=500;X-TITLE=1968 Miami St:geo:-83.544873,41.6213351
END:VEVENT
BEGIN:VEVENT
DTSTART;TZID=America/Detroit:20260329T113000
DTEND;TZID=America/Detroit:20260329T150000
DTSTAMP:20260424T194440
CREATED:20260324T160935Z
LAST-MODIFIED:20260324T160935Z
UID:10012894-1774783800-1774796400@visittoledo.org
SUMMARY:Salsa Brunch - Latin Dance at Poco Loco
DESCRIPTION:Spice up your weekend with Salsa Brunch Sundays at Poco Loco\, a vibrant Latin brunch experience in UpTown Toledo hosted in collaboration with Latin Dance Toledo. Join the party from 11:30 AM to 3:00 PM for a lively mix of food\, music\, and dancing. \nStart your Sunday with a delicious all-you-can-eat brunch buffet\, featuring a variety of flavorful favorites you can enjoy at your own pace. Pair your meal with mimosa flights\, single mimosas\, or Bloody Marys available for purchase. \nThe energy comes alive with live DJ sets from Tony Toca\, spinning the best in salsa and Latin hits straight from Detroit. Whether you’re ready to hit the dance floor or prefer to relax and soak in the atmosphere\, this event offers something for everyone. \nPlease note: Space is limited to 50 guests\, and reservations are strongly encouraged.
URL:https://visittoledo.org/event/salsa-brunch-latin-dance-at-poco-loco
LOCATION:Poco Loco\, 1809 Adams St\, Toledo\, OH\, 43604\, United States
CATEGORIES:dance,entertainment,food
ATTACH;FMTTYPE=image/png:https://visittoledo.org/wp-content/uploads/2026/03/poco-loco-salsa-brunch-4x3-event-image.png
GEO:41.6584659;-83.5465455
X-APPLE-STRUCTURED-LOCATION;VALUE=URI;X-ADDRESS=Poco Loco 1809 Adams St Toledo OH 43604 United States;X-APPLE-RADIUS=500;X-TITLE=1809 Adams St:geo:-83.5465455,41.6584659
END:VEVENT
END:VCALENDAR