BEGIN:VCALENDAR
VERSION:2.0
PRODID:-//Destination Toledo - ECPv6.15.20//NONSGML v1.0//EN
CALSCALE:GREGORIAN
METHOD:PUBLISH
X-WR-CALNAME:Destination Toledo
X-ORIGINAL-URL:https://visittoledo.org
X-WR-CALDESC:Events for Destination Toledo
REFRESH-INTERVAL;VALUE=DURATION:PT1H
X-Robots-Tag:noindex
X-PUBLISHED-TTL:PT1H
BEGIN:VTIMEZONE
TZID:America/Detroit
BEGIN:DAYLIGHT
TZOFFSETFROM:-0500
TZOFFSETTO:-0400
TZNAME:EDT
DTSTART:20250309T070000
END:DAYLIGHT
BEGIN:STANDARD
TZOFFSETFROM:-0400
TZOFFSETTO:-0500
TZNAME:EST
DTSTART:20251102T060000
END:STANDARD
BEGIN:DAYLIGHT
TZOFFSETFROM:-0500
TZOFFSETTO:-0400
TZNAME:EDT
DTSTART:20260308T070000
END:DAYLIGHT
BEGIN:STANDARD
TZOFFSETFROM:-0400
TZOFFSETTO:-0500
TZNAME:EST
DTSTART:20261101T060000
END:STANDARD
BEGIN:DAYLIGHT
TZOFFSETFROM:-0500
TZOFFSETTO:-0400
TZNAME:EDT
DTSTART:20270314T070000
END:DAYLIGHT
BEGIN:STANDARD
TZOFFSETFROM:-0400
TZOFFSETTO:-0500
TZNAME:EST
DTSTART:20271107T060000
END:STANDARD
END:VTIMEZONE
BEGIN:VEVENT
DTSTART;TZID=America/Detroit:20260623T163000
DTEND;TZID=America/Detroit:20260623T193000
DTSTAMP:20260425T072146
CREATED:20260421T191652Z
LAST-MODIFIED:20260421T191652Z
UID:10014895-1782232200-1782243000@visittoledo.org
SUMMARY:Rossford Stroll the Street
DESCRIPTION:It’s another great summer of Stroll the Street in Downtown Rossford! Listen to great bands perform in the Edward Ford Memorial Park pavilion as you enjoy delicious foods from 10 food trucks each week. Kids can get their faces painted and make crafts while you check out the beautiful work of area artists and crafters! \nStroll the Street runs from 4:30-7:30 pm.\nLive music 5:30-7:30 pm. \nBring a lawn chair to the Edward Ford Memorial Park and enjoy the tunes! \nMusic Schedule\n \nMay 26—Amelia Airharts \nJune 2—EZ Pickenz \nJune 9—Bliss \nJune 16—Polish Community Band \nJune 23—Spare Parts \nJune 30—The Cheeks \nJuly 7—Brothers 3 \nJuly 14—Random Act \nJuly 21—New Moon \nJuly 28—Timmy C \nAug. 4—Athens Wheeler \nAug. 11—Randy Krajewski’s Polish Band \n 
URL:https://visittoledo.org/event/rossford-stroll-the-street/2026-06-23
LOCATION:Edward Ford Memorial Park\, 150 Dixie Highway\, Rossford\, OH\, 43460\, United States
CATEGORIES:community,family friendly,food,live music
ATTACH;FMTTYPE=image/png:https://visittoledo.org/wp-content/uploads/2026/04/rossford-stroll-the-street-4x3-event-image.png
GEO:41.6145617;-83.5536703
X-APPLE-STRUCTURED-LOCATION;VALUE=URI;X-ADDRESS=Edward Ford Memorial Park 150 Dixie Highway Rossford OH 43460 United States;X-APPLE-RADIUS=500;X-TITLE=150 Dixie Highway:geo:-83.5536703,41.6145617
END:VEVENT
BEGIN:VEVENT
DTSTART;TZID=America/Detroit:20260627T110000
DTEND;TZID=America/Detroit:20260627T190000
DTSTAMP:20260425T072146
CREATED:20260330T172919Z
LAST-MODIFIED:20260330T172919Z
UID:10012340-1782558000-1782586800@visittoledo.org
SUMMARY:Toledo Holistic Scavenger Hunt & Carnival
DESCRIPTION:The Holistic Scavenger Hunt + Carnival is a citywide wellness adventure ending in a lively cookout style celebration. Participants begin at Inner Voyage Studio before traveling to other featured holistic businesses around Toledo to complete fun missions and challenges. The event concludes with a free community carnival featuring local vendors\, interactive activities\, music\, lawn games\, and indoor wellness workshops. Designed for curious explorers\, wellness enthusiasts\, and families alike\, the experience blends discovery\, connection\, and entertainment into one energetic day. The event takes place June 27 from 11 a.m. to 7 p.m.\, with the scavenger hunt running earlier in the day and the carnival activation beginning in the afternoon.
URL:https://visittoledo.org/event/toledo-holistic-scavenger-hunt-carnival
LOCATION:Inner Voyage Studio\, 7880 W Central Ave\, Toledo\, 43617
CATEGORIES:community,wellness
ATTACH;FMTTYPE=image/png:https://visittoledo.org/wp-content/uploads/2026/03/Untitled-design.png
ORGANIZER;CN="HealGrid":MAILTO:Keeksanchez@healgrid.co
GEO:41.6751531;-83.732416
X-APPLE-STRUCTURED-LOCATION;VALUE=URI;X-ADDRESS=Inner Voyage Studio 7880 W Central Ave Toledo 43617;X-APPLE-RADIUS=500;X-TITLE=7880 W Central Ave:geo:-83.732416,41.6751531
END:VEVENT
END:VCALENDAR