BEGIN:VCALENDAR
VERSION:2.0
PRODID:-//Destination Toledo - ECPv6.15.20//NONSGML v1.0//EN
CALSCALE:GREGORIAN
METHOD:PUBLISH
X-WR-CALNAME:Destination Toledo
X-ORIGINAL-URL:https://visittoledo.org
X-WR-CALDESC:Events for Destination Toledo
REFRESH-INTERVAL;VALUE=DURATION:PT1H
X-Robots-Tag:noindex
X-PUBLISHED-TTL:PT1H
BEGIN:VTIMEZONE
TZID:America/Detroit
BEGIN:DAYLIGHT
TZOFFSETFROM:-0500
TZOFFSETTO:-0400
TZNAME:EDT
DTSTART:20250309T070000
END:DAYLIGHT
BEGIN:STANDARD
TZOFFSETFROM:-0400
TZOFFSETTO:-0500
TZNAME:EST
DTSTART:20251102T060000
END:STANDARD
BEGIN:DAYLIGHT
TZOFFSETFROM:-0500
TZOFFSETTO:-0400
TZNAME:EDT
DTSTART:20260308T070000
END:DAYLIGHT
BEGIN:STANDARD
TZOFFSETFROM:-0400
TZOFFSETTO:-0500
TZNAME:EST
DTSTART:20261101T060000
END:STANDARD
BEGIN:DAYLIGHT
TZOFFSETFROM:-0500
TZOFFSETTO:-0400
TZNAME:EDT
DTSTART:20270314T070000
END:DAYLIGHT
BEGIN:STANDARD
TZOFFSETFROM:-0400
TZOFFSETTO:-0500
TZNAME:EST
DTSTART:20271107T060000
END:STANDARD
END:VTIMEZONE
BEGIN:VEVENT
DTSTART;TZID=America/Detroit:20260119T100000
DTEND;TZID=America/Detroit:20260119T130000
DTSTAMP:20260420T072929
CREATED:20260112T183404Z
LAST-MODIFIED:20260112T183404Z
UID:10011410-1768816800-1768827600@visittoledo.org
SUMMARY:Seed & Swap - A Day of Service
DESCRIPTION:The Wild Ones Oak Openings Region Chapter invites the community to take part in a Seed & Swap event on Monday\, January 19\, 2026\, from 10:00 a.m. to 1:00 p.m. at Olander Park’s Nederhouser Hall in Sylvania\, Ohio. This hands-on\, family-friendly gathering welcomes participants of all ages to help clean\, package\, and prepare native seeds collected for upcoming Seed Swap initiatives and Wild Ones conservation projects. \nNo prior experience is necessary\, making this event an accessible and educational opportunity for gardeners\, nature lovers\, and anyone interested in supporting local ecosystems. Volunteers will learn about the importance of native plants while contributing directly to efforts that promote biodiversity throughout northwest Ohio and southeast Michigan. \nFollowing the seed preparation activities\, attendees are invited to relax and connect over a shared meal featuring homemade soup and bread\, fostering a sense of community and collaboration. Hosted by Wild Ones Oak Openings Region Chapter—a local chapter of the national Wild Ones nonprofit—this event highlights the ecological significance of the Oak Openings Region\, a globally threatened ecosystem known for its diverse habitats\, migratory bird populations\, and proximity to Lake Erie\, the Maumee River\, and the Great Black Swamp.
URL:https://visittoledo.org/event/seed-swap-a-day-of-service
LOCATION:Olander Park\, 6930 Sylvania Ave\, Sylvania\, Ohio\, 43560\, United States
CATEGORIES:community,educational,nature
ATTACH;FMTTYPE=image/png:https://visittoledo.org/wp-content/uploads/2026/01/wild-ones-olander-4x3-event-image.png
GEO:41.6921924;-83.7089311
X-APPLE-STRUCTURED-LOCATION;VALUE=URI;X-ADDRESS=Olander Park 6930 Sylvania Ave Sylvania Ohio 43560 United States;X-APPLE-RADIUS=500;X-TITLE=6930 Sylvania Ave:geo:-83.7089311,41.6921924
END:VEVENT
BEGIN:VEVENT
DTSTART;TZID=America/Detroit:20260119T120000
DTEND;TZID=America/Detroit:20260119T140000
DTSTAMP:20260420T072929
CREATED:20260112T193311Z
LAST-MODIFIED:20260112T193311Z
UID:10011411-1768824000-1768831200@visittoledo.org
SUMMARY:Martin Luther King Jr. Day Celebration
DESCRIPTION:The NAACP Toledo Branch invites the community to gather for a Martin Luther King Jr. Day Celebration on Monday\, January 19\, 2026\, from 12:00 p.m. to 2:00 p.m. at Macedonia Baptist Church in Toledo\, Ohio. This free\, public event honors the life\, legacy\, and enduring impact of Dr. Martin Luther King Jr. through reflection\, inspiration\, and community connection. \nThe celebration will feature a keynote address by Rev. Dr. Wendell Anthony\, distinguished NAACP National Board Member and President of the NAACP Detroit Branch. A nationally respected leader and advocate for justice and equity\, Rev. Dr. Anthony’s powerful voice continues to inspire meaningful change and community empowerment across the country. \nCentered around the theme “The Fierce Urgency of Now: Mission Possible\,” the event encourages attendees to reflect on Dr. King’s vision while engaging in conversations about progress\, unity\, and action. Open to all and free to attend\, this MLK Day Celebration serves as an opportunity for the Toledo community to come together in remembrance\, purpose\, and hope.
URL:https://visittoledo.org/event/martin-luther-king-jr-day-celebration
LOCATION:Macedonia Baptist Church\, 1501 S Cove Blvd\, Toledo\, Ohio\, 43606
CATEGORIES:community,educational
ATTACH;FMTTYPE=image/png:https://visittoledo.org/wp-content/uploads/2026/01/mlk-day-naacp-4x3-event-image.png
GEO:41.6726946;-83.5797104
X-APPLE-STRUCTURED-LOCATION;VALUE=URI;X-ADDRESS=Macedonia Baptist Church 1501 S Cove Blvd Toledo Ohio 43606;X-APPLE-RADIUS=500;X-TITLE=1501 S Cove Blvd:geo:-83.5797104,41.6726946
END:VEVENT
BEGIN:VEVENT
DTSTART;TZID=America/Detroit:20260205T170000
DTEND;TZID=America/Detroit:20260205T200000
DTSTAMP:20260420T072929
CREATED:20260204T183451Z
LAST-MODIFIED:20260204T183451Z
UID:10011581-1770310800-1770321600@visittoledo.org
SUMMARY:Black Artists Mixer
DESCRIPTION:Please join members of the Library’s African American Appreciation Coalition in celebrating Black History Month by highlighting local Black and African American artists\, with a space to meet and network. The event will include light snacks\, music\, networking\, a short panel\, and prizes! Registration is suggested but not required.
URL:https://visittoledo.org/event/black-artists-mixer
LOCATION:Main Library\, 325 N Michigan St\, Toledo\, OH\, 43604\, United States
CATEGORIES:art,community,library
ATTACH;FMTTYPE=image/png:https://visittoledo.org/wp-content/uploads/2026/02/black-artist-mixer-4x3-event.png
GEO:41.6547233;-83.5401659
X-APPLE-STRUCTURED-LOCATION;VALUE=URI;X-ADDRESS=Main Library 325 N Michigan St Toledo OH 43604 United States;X-APPLE-RADIUS=500;X-TITLE=325 N Michigan St:geo:-83.5401659,41.6547233
END:VEVENT
BEGIN:VEVENT
DTSTART;TZID=America/Detroit:20260315T100000
DTEND;TZID=America/Detroit:20260315T140000
DTSTAMP:20260420T072929
CREATED:20260305T210732Z
LAST-MODIFIED:20260305T210732Z
UID:10012329-1773568800-1773583200@visittoledo.org
SUMMARY:NOCK Mini Marketplace
DESCRIPTION:Join the Northwest Ohio Cooperative Kitchen on Sunday\, March 15th from 10AM-2PM at BREW coffee bar! Shop from 5 NOCK vendors while you sip on the NOCK-out Latte (vanilla\, chai\, espresso\, & milk).\nCan’t make it Sunday? The NOCK-out Latte will be available all week long\, with proceeds directly supporting the operations of Northwest Ohio Cooperative Kitchen.\nLearn more about the NOCK here: https://linktr.ee/NOCKOhio
URL:https://visittoledo.org/event/nock-mini-marketplace
LOCATION:BREW coffee bar\, 1440 Secor Rd\, Toledo\, Ohio\, 43607\, United States
CATEGORIES:coffee,community,shopping
ATTACH;FMTTYPE=image/png:https://visittoledo.org/wp-content/uploads/2026/03/NOCK-mini-mart-4x3-event-image.png
GEO:41.6537561;-83.6214571
X-APPLE-STRUCTURED-LOCATION;VALUE=URI;X-ADDRESS=BREW coffee bar 1440 Secor Rd Toledo Ohio 43607 United States;X-APPLE-RADIUS=500;X-TITLE=1440 Secor Rd:geo:-83.6214571,41.6537561
END:VEVENT
BEGIN:VEVENT
DTSTART;TZID=America/Detroit:20260321T080000
DTEND;TZID=America/Detroit:20260321T170000
DTSTAMP:20260420T072929
CREATED:20260217T191758Z
LAST-MODIFIED:20260217T191758Z
UID:10011389-1774080000-1774112400@visittoledo.org
SUMMARY:LENSES + LINES: A Collaborative Canvas Showcase
DESCRIPTION:LENSES + LINES: A Collaborative Canvas Showcase brings photography and mixed media together for a one-night art experience on March 21 at River Gallery Studio. Curated by photographer Nick Amrhein\, the exhibition features nine black-and-white portrait photographs transformed by nine local artists\, resulting in one-of-a-kind collaborative works. A portion of proceeds supports The River Gallery Foundation\, helping advance youth art programs and public art initiatives across Toledo. \nFeatured Artists \n1. Nick Amrhein (Photographer / Digital Artist) \n2. Dean Davis (Mural / Paint Artist) \n3. Mikey Pettengill (Tattooer / Paint Artist) \n4. Jordyn Tinney (Tattooer / Paint Artist) \n5. JayJay Brown (Tattooer / Paint Artist) \n6. Chris Rodriguez (Mural / Paint Artist) \n7. Zander (Pin stripper / Artist) \n8. Kodi Klocinski (Tattooer / Paint Artist) \n9. Jenna Spencer (Tattooer / Paint Artist) \n 
URL:https://visittoledo.org/event/lenses-lines-a-collaborative-canvas-showcase/2026-03-21/1
LOCATION:River Gallery Studio\, 500 Madison Ave\, Toledo\, Ohio\, 43604\, United States
CATEGORIES:art,community
ATTACH;FMTTYPE=image/png:https://visittoledo.org/wp-content/uploads/2026/02/lenses-lines-4x3-event-image.png
GEO:41.652123;-83.535991
X-APPLE-STRUCTURED-LOCATION;VALUE=URI;X-ADDRESS=River Gallery Studio 500 Madison Ave Toledo Ohio 43604 United States;X-APPLE-RADIUS=500;X-TITLE=500 Madison Ave:geo:-83.535991,41.652123
END:VEVENT
BEGIN:VEVENT
DTSTART;TZID=America/Detroit:20260321T170000
DTEND;TZID=America/Detroit:20260321T210000
DTSTAMP:20260420T072929
CREATED:20260217T191758Z
LAST-MODIFIED:20260217T191758Z
UID:10011390-1774112400-1774126800@visittoledo.org
SUMMARY:LENSES + LINES: A Collaborative Canvas Showcase
DESCRIPTION:LENSES + LINES: A Collaborative Canvas Showcase brings photography and mixed media together for a one-night art experience on March 21 at River Gallery Studio. Curated by photographer Nick Amrhein\, the exhibition features nine black-and-white portrait photographs transformed by nine local artists\, resulting in one-of-a-kind collaborative works. A portion of proceeds supports The River Gallery Foundation\, helping advance youth art programs and public art initiatives across Toledo. \nFeatured Artists \n1. Nick Amrhein (Photographer / Digital Artist) \n2. Dean Davis (Mural / Paint Artist) \n3. Mikey Pettengill (Tattooer / Paint Artist) \n4. Jordyn Tinney (Tattooer / Paint Artist) \n5. JayJay Brown (Tattooer / Paint Artist) \n6. Chris Rodriguez (Mural / Paint Artist) \n7. Zander (Pin stripper / Artist) \n8. Kodi Klocinski (Tattooer / Paint Artist) \n9. Jenna Spencer (Tattooer / Paint Artist) \n 
URL:https://visittoledo.org/event/lenses-lines-a-collaborative-canvas-showcase/2026-03-21/2
LOCATION:River Gallery Studio\, 500 Madison Ave\, Toledo\, Ohio\, 43604\, United States
CATEGORIES:art,community
ATTACH;FMTTYPE=image/png:https://visittoledo.org/wp-content/uploads/2026/02/lenses-lines-4x3-event-image.png
GEO:41.652123;-83.535991
X-APPLE-STRUCTURED-LOCATION;VALUE=URI;X-ADDRESS=River Gallery Studio 500 Madison Ave Toledo Ohio 43604 United States;X-APPLE-RADIUS=500;X-TITLE=500 Madison Ave:geo:-83.535991,41.652123
END:VEVENT
BEGIN:VEVENT
DTSTART;TZID=America/Detroit:20260328T100000
DTEND;TZID=America/Detroit:20260328T170000
DTSTAMP:20260420T072929
CREATED:20260217T185431Z
LAST-MODIFIED:20260217T185431Z
UID:10012185-1774692000-1774717200@visittoledo.org
SUMMARY:2nd Anniversary Celebration of the Sacred Steel Music & History Museum
DESCRIPTION:On behalf of the Sacred Steel Music & History Museum\, the organization is honored to invite the community to join in celebrating its 2nd Anniversary. This milestone marks two years of preserving\, celebrating\, and educating the public about the rich legacy of Sacred Steel music and its cultural impact.\nEvent Details\nSaturday\, March 28\, 2026\n🕙 Museum Tours: 10:00 a.m. – 1:00 p.m.\n🎶 Anniversary Celebration Begins: 2:00 p.m.\nThe afternoon celebration will feature inspiring performances by Sacred Steel artists\, quartet singing\, and clean spoken word creatives. This family-friendly event is free and open to the public\, and the museum would be honored by the community’s presence as this special occasion is commemorated.\n📍 Location:\nInside Collingwood Presbyterian Church\n2108 Collingwood Blvd\nToledo\, OH 43620 (off Floyd Street)\nSupport for the arts\, culture\, and community history in Toledo helps make this celebration even more meaningful. The Sacred Steel Music & History Museum sincerely hopes attendees are able to join in this important milestone.
URL:https://visittoledo.org/event/2nd-anniversary-celebration-of-the-sacred-steel-music-history-museum
LOCATION:Collingwood Presbyterian Church\, 2108 Collingwood Blvd\, Toledo\, 43620
CATEGORIES:community,educational,history,museum
ATTACH;FMTTYPE=image/png:https://visittoledo.org/wp-content/uploads/2026/02/sacred-steel-anniversary-4x3-event-image.png
ORGANIZER;CN="Sacred Strings Records%2C Inc.":MAILTO:sacredstrings@yahoo.com
GEO:41.662644;-83.5546106
X-APPLE-STRUCTURED-LOCATION;VALUE=URI;X-ADDRESS=Collingwood Presbyterian Church 2108 Collingwood Blvd Toledo 43620;X-APPLE-RADIUS=500;X-TITLE=2108 Collingwood Blvd:geo:-83.5546106,41.662644
END:VEVENT
BEGIN:VEVENT
DTSTART;TZID=America/Detroit:20260419T120000
DTEND;TZID=America/Detroit:20260419T200000
DTSTAMP:20260420T072929
CREATED:20260330T202442Z
LAST-MODIFIED:20260330T202442Z
UID:10013992-1776600000-1776628800@visittoledo.org
SUMMARY:419 Day at the Fieldhouse
DESCRIPTION:Celebrate everything Toledo on 419 Day at Inside the Five Fieldhouse. \nTaking place on Sunday\, April 19\, this all-day event brings together the best parts of the 419\, great food\, locally crafted beer\, and a relaxed atmosphere. Known for its house-brewed beers and expansive tap list\, Inside the Five Fieldhouse sets the stage for a lively celebration filled with friends\, flavor\, and Toledo pride.
URL:https://visittoledo.org/event/419-day-at-the-fieldhouse-2
LOCATION:The Fieldhouse – Inside the Five\, 1040 N. Westwood\, Toledo\, OH\, 43607\, United States
CATEGORIES:Beer,community,food
ATTACH;FMTTYPE=image/png:https://visittoledo.org/wp-content/uploads/2026/03/fieldhouse-419-day-4x3-event-image.png
GEO:41.6503957;-83.6039545
X-APPLE-STRUCTURED-LOCATION;VALUE=URI;X-ADDRESS=The Fieldhouse – Inside the Five 1040 N. Westwood Toledo OH 43607 United States;X-APPLE-RADIUS=500;X-TITLE=1040 N. Westwood:geo:-83.6039545,41.6503957
END:VEVENT
BEGIN:VEVENT
DTSTART;TZID=America/Detroit:20260424T170000
DTEND;TZID=America/Detroit:20260424T210000
DTSTAMP:20260420T072929
CREATED:20260331T155055Z
LAST-MODIFIED:20260413T173242Z
UID:10013450-1777050000-1777064400@visittoledo.org
SUMMARY:Spring Night Market at Earnest Brew Works
DESCRIPTION:Welcome the season at the Spring Night Market\, happening April 24 at Earnest Brew Works in collaboration with Pura Vida Wellness Studio. \nThis open-air evening market brings together local makers\, food vendors\, and live music for a relaxed\, community-focused experience. Browse a curated selection of small businesses\, enjoy fresh eats on-site\, and sip craft beer from Earnest Brew Works while taking in the glow of string lights and springtime energy. \nDesigned as a space to slow down and connect\, the Spring Night Market blends shopping\, music\, and atmosphere into an easygoing night out. Whether you’re discovering new local favorites or simply enjoying the vibe\, it’s a perfect way to welcome the season.
URL:https://visittoledo.org/event/spring-night-market-at-earnest-brew-works
LOCATION:Earnest Brew Works\, 4326 S Detroit Avenue\, Toledo\, OH\, 43614\, United States
CATEGORIES:Beer,community,Pickle,shopping
ATTACH;FMTTYPE=image/png:https://visittoledo.org/wp-content/uploads/2026/03/spring-night-market-earnest-brew-works-4x3-event-image.png
ORGANIZER;CN="puravidawellness":MAILTO:Erika.peters17@gnail.com
GEO:41.5905804;-83.6150201
X-APPLE-STRUCTURED-LOCATION;VALUE=URI;X-ADDRESS=Earnest Brew Works 4326 S Detroit Avenue Toledo OH 43614 United States;X-APPLE-RADIUS=500;X-TITLE=4326 S Detroit Avenue:geo:-83.6150201,41.5905804
END:VEVENT
BEGIN:VEVENT
DTSTART;TZID=America/Detroit:20260525T120000
DTEND;TZID=America/Detroit:20260525T170000
DTSTAMP:20260420T072929
CREATED:20260217T193023Z
LAST-MODIFIED:20260217T193754Z
UID:10011403-1779710400-1779728400@visittoledo.org
SUMMARY:Memorial Day Commemoration
DESCRIPTION:Fort Meigs is hosting its annual Memorial Day Ceremonial Wreath Laying to honor those who served and are laid to rest at Fort Meigs. The ceremony includes dedication speeches\, military field music\, and squad firings.
URL:https://visittoledo.org/event/memorial-day-commemoration
LOCATION:Fort Meigs: Ohio’s War of 1812 Battlefield\, 29100 W. River Rd.\, Perrysburg\, OH\, 43551\, United States
CATEGORIES:community,educational
ATTACH;FMTTYPE=image/jpeg:https://visittoledo.org/wp-content/uploads/2026/01/IMG_4257-e1771356702283.jpg
GEO:41.5509127;-83.653135
X-APPLE-STRUCTURED-LOCATION;VALUE=URI;X-ADDRESS=Fort Meigs: Ohio’s War of 1812 Battlefield 29100 W. River Rd. Perrysburg OH 43551 United States;X-APPLE-RADIUS=500;X-TITLE=29100 W. River Rd.:geo:-83.653135,41.5509127
END:VEVENT
BEGIN:VEVENT
DTSTART;TZID=America/Detroit:20260614T100000
DTEND;TZID=America/Detroit:20260614T170000
DTSTAMP:20260420T072929
CREATED:20260331T195038Z
LAST-MODIFIED:20260331T195038Z
UID:10013996-1781431200-1781456400@visittoledo.org
SUMMARY:Old Orchard Garden Tour
DESCRIPTION:The Old Orchard Neighborhoods Association (OONA) is excited to welcome back one of the neighborhood’s favorite traditions—the Old Orchard Garden Tour—on Sunday\, June 14\, 2026\, from 10:00 AM to 5:00 PM. \nThis year’s self-guided tour features six thoughtfully curated gardens\, each with its own personality—from lush\, plant-filled retreats to elegantly designed outdoor living spaces. It’s a rare chance to step inside some of Old Orchard’s most inspiring backyards and see what’s possible just beyond the garden gate. \nSet within one of the city’s most historic neighborhoods\, Old Orchard offers a backdrop as compelling as the gardens themselves. Once home to apple and pear orchards in the 1920s\, the area is now known for its mature tree canopy\, timeless homes\, and a deep-rooted love of gardening. \nTickets are $10 per person and go on sale May 3 at oldorchardgardens.org. Day-of tickets will also be available at SIP Coffee (3160 Markway Road) and at the tour tent located at the corner of Darlington and Barrington. \nProceeds from the event directly support neighborhood beautification efforts. Garden hosts will be available throughout the day to share insights and answer questions. The tour will take place rain or shine. \nOONA is a 501(c)(3) nonprofit organization committed to enhancing the quality of life in the Old Orchard and Indian Hills neighborhoods through community collaboration\, engagement\, and ongoing improvement efforts.
URL:https://visittoledo.org/event/old-orchard-garden-tour
LOCATION:Old Orchard Neighborhood\, Toledo\, 43606
CATEGORIES:community,outdoors,tour
ATTACH;FMTTYPE=image/png:https://visittoledo.org/wp-content/uploads/2026/03/old-orchard-garden-tour-4x3-event-image.png
ORGANIZER;CN="Old Orchard Neighborhoods Association":MAILTO:brent@b-creativestudio.com
GEO:41.6735366;-83.624201
END:VEVENT
BEGIN:VEVENT
DTSTART;TZID=America/Detroit:20260619T153000
DTEND;TZID=America/Detroit:20260619T210000
DTSTAMP:20260420T072929
CREATED:20260415T133734Z
LAST-MODIFIED:20260415T133734Z
UID:10014440-1781883000-1781902800@visittoledo.org
SUMMARY:7th Annual Toledo's Juneteenth Celebration
DESCRIPTION:Experience a powerful celebration of culture\, history\, and community at the 7th Annual Toledo’s Juneteenth Celebration\, taking place June 19\, 2026 at Glass City Metropark. \nCentered around the theme “Past\, Present\, & Future\,” this year’s event transforms the riverfront into an immersive\, cinematic journey through the Black experience—blending visual art\, live performances\, and storytelling in a one-of-a-kind atmosphere. \n🌿 The Past: Ancestral RootsBegin the journey with a meaningful tribute to history\, featuring collaborations with representatives of the Myaamia and other Indigenous nations. Through oral storytelling\, traditional dance\, and candlelit visuals\, this segment honors the deep roots of the land and its original stewards. \n🎶 The Present: Resilience & FreedomCelebrate the vibrancy of today with performances by local artists\, dance troupes\, and community voices. This portion of the event highlights joy\, strength\, and the ongoing story of freedom and expression. \n🚀 The Future: Afrofuturism & BeyondAs night falls\, the park transforms into a bold\, imaginative landscape filled with neon-lit art\, metallic installations\, and forward-thinking sounds—inviting guests to envision a limitless future. \n✨ Event Highlights:• Large-scale visual art installations• Live music spanning traditional to contemporary styles• Cultural performances and tribal showcases• Food trucks and Black-owned vendors• Family-friendly activities and experiences• Free admission for all \nSet against the scenic Maumee River\, this unforgettable celebration invites the community to reflect\, celebrate\, and look ahead—together. \nJoin Toledo in honoring the journey\, uplifting voices\, and creating a shared vision for the future.
URL:https://visittoledo.org/event/7th-annual-toledos-juneteenth-celebration
LOCATION:Glass City Metropark\, 1505 Front St\, Toledo\, Ohio\, 43605\, United States
CATEGORIES:community,downtown,Festival
ATTACH;FMTTYPE=image/png:https://visittoledo.org/wp-content/uploads/2026/04/juneteenth-2026-glass-city-metropark-4x3-event-image.png
ORGANIZER;CN="Toledo's Juneteenth Celebration":MAILTO:Toledojuneteenthcelebration419@gmail.com
GEO:41.6534145;-83.5196809
X-APPLE-STRUCTURED-LOCATION;VALUE=URI;X-ADDRESS=Glass City Metropark 1505 Front St Toledo Ohio 43605 United States;X-APPLE-RADIUS=500;X-TITLE=1505 Front St:geo:-83.5196809,41.6534145
END:VEVENT
BEGIN:VEVENT
DTSTART;TZID=America/Detroit:20260627T110000
DTEND;TZID=America/Detroit:20260627T190000
DTSTAMP:20260420T072929
CREATED:20260330T172919Z
LAST-MODIFIED:20260330T172919Z
UID:10012340-1782558000-1782586800@visittoledo.org
SUMMARY:Toledo Holistic Scavenger Hunt & Carnival
DESCRIPTION:The Holistic Scavenger Hunt + Carnival is a citywide wellness adventure ending in a lively cookout style celebration. Participants begin at Inner Voyage Studio before traveling to other featured holistic businesses around Toledo to complete fun missions and challenges. The event concludes with a free community carnival featuring local vendors\, interactive activities\, music\, lawn games\, and indoor wellness workshops. Designed for curious explorers\, wellness enthusiasts\, and families alike\, the experience blends discovery\, connection\, and entertainment into one energetic day. The event takes place June 27 from 11 a.m. to 7 p.m.\, with the scavenger hunt running earlier in the day and the carnival activation beginning in the afternoon.
URL:https://visittoledo.org/event/toledo-holistic-scavenger-hunt-carnival
LOCATION:Inner Voyage Studio\, 7880 W Central Ave\, Toledo\, 43617
CATEGORIES:community,wellness
ATTACH;FMTTYPE=image/png:https://visittoledo.org/wp-content/uploads/2026/03/Untitled-design.png
ORGANIZER;CN="HealGrid":MAILTO:Keeksanchez@healgrid.co
GEO:41.6751531;-83.732416
X-APPLE-STRUCTURED-LOCATION;VALUE=URI;X-ADDRESS=Inner Voyage Studio 7880 W Central Ave Toledo 43617;X-APPLE-RADIUS=500;X-TITLE=7880 W Central Ave:geo:-83.732416,41.6751531
END:VEVENT
BEGIN:VEVENT
DTSTART;TZID=America/Detroit:20260801T120000
DTEND;TZID=America/Detroit:20260801T160000
DTSTAMP:20260420T072929
CREATED:20260331T180755Z
LAST-MODIFIED:20260331T180755Z
UID:10012247-1785585600-1785600000@visittoledo.org
SUMMARY:Art Loop: Print Jam
DESCRIPTION:Save the date and ink a plate! The Arts Commission hosts Toledo’s first-ever printmaking festival at their new home in Uptown Toledo. This community event will feature live demos\, hands-on projects\, a vendor fair\, music\, food trucks and more. Meet local and regional printmakers\, purchase original and limited-edition works of art\, and try your hand at some accessible printmaking methods. Demonstrations and activities are free; vendor merchandise and snacks available for purchase.
URL:https://visittoledo.org/event/art-loop-print-jam
LOCATION:The Arts Commission\, 1000 Adams Street\, Toledo\, OH\, 43604\, United States
CATEGORIES:art,community,live music
ATTACH;FMTTYPE=image/png:https://visittoledo.org/wp-content/uploads/2026/02/art-loop-arts-commission-4x3-event-image.png
GEO:41.6556891;-83.539587
X-APPLE-STRUCTURED-LOCATION;VALUE=URI;X-ADDRESS=The Arts Commission 1000 Adams Street Toledo OH 43604 United States;X-APPLE-RADIUS=500;X-TITLE=1000 Adams Street:geo:-83.539587,41.6556891
END:VEVENT
BEGIN:VEVENT
DTSTART;TZID=America/Detroit:20260816T120000
DTEND;TZID=America/Detroit:20260816T200000
DTSTAMP:20260420T072929
CREATED:20260224T205843Z
LAST-MODIFIED:20260224T205843Z
UID:10012298-1786881600-1786910400@visittoledo.org
SUMMARY:Birmingham Ethnic Festival
DESCRIPTION:Join the fun in the historic Birmingham neighborhood to enjoy delicious traditional Hungarian food\, pastries\, performances and dancing. The festival will feature popular Hungarian foods including: Chicken Paprikas\, Hunky Turkey (Roasted Bacon Sandwich)\, Stuffed Cabbage\, Kolbasz / Sausage Sandwiches\, Palacsinta (crepes)\, Cabbage and Noodles\, Pastries and a fantastic array of other ethnic foods on Consaul Street.
URL:https://visittoledo.org/event/birmingham-ethnic-festival
LOCATION:Birmingham Ethnic Neighborhood\, Toledo\, Ohio\, 43605
CATEGORIES:community,family friendly,Festival,food
ATTACH;FMTTYPE=image/png:https://visittoledo.org/wp-content/uploads/2026/02/birmingham-ethnic-festival-4x3-event-image.png
GEO:41.6517775;-83.5016887
END:VEVENT
END:VCALENDAR