BEGIN:VCALENDAR
VERSION:2.0
PRODID:-//Destination Toledo - ECPv6.15.20//NONSGML v1.0//EN
CALSCALE:GREGORIAN
METHOD:PUBLISH
X-WR-CALNAME:Destination Toledo
X-ORIGINAL-URL:https://visittoledo.org
X-WR-CALDESC:Events for Destination Toledo
REFRESH-INTERVAL;VALUE=DURATION:PT1H
X-Robots-Tag:noindex
X-PUBLISHED-TTL:PT1H
BEGIN:VTIMEZONE
TZID:America/Detroit
BEGIN:DAYLIGHT
TZOFFSETFROM:-0500
TZOFFSETTO:-0400
TZNAME:EDT
DTSTART:20240310T070000
END:DAYLIGHT
BEGIN:STANDARD
TZOFFSETFROM:-0400
TZOFFSETTO:-0500
TZNAME:EST
DTSTART:20241103T060000
END:STANDARD
BEGIN:DAYLIGHT
TZOFFSETFROM:-0500
TZOFFSETTO:-0400
TZNAME:EDT
DTSTART:20250309T070000
END:DAYLIGHT
BEGIN:STANDARD
TZOFFSETFROM:-0400
TZOFFSETTO:-0500
TZNAME:EST
DTSTART:20251102T060000
END:STANDARD
BEGIN:DAYLIGHT
TZOFFSETFROM:-0500
TZOFFSETTO:-0400
TZNAME:EDT
DTSTART:20260308T070000
END:DAYLIGHT
BEGIN:STANDARD
TZOFFSETFROM:-0400
TZOFFSETTO:-0500
TZNAME:EST
DTSTART:20261101T060000
END:STANDARD
END:VTIMEZONE
BEGIN:VEVENT
DTSTART;TZID=America/Detroit:20251128T160000
DTEND;TZID=America/Detroit:20251129T010000
DTSTAMP:20260423T161628
CREATED:20251103T172235Z
LAST-MODIFIED:20251121T185430Z
UID:10010603-1764345600-1764378000@visittoledo.org
SUMMARY:Sleigh Bellwether | A Holiday Cocktail Party
DESCRIPTION:Sleigh Bellwether at Toledo Spirits is back and brighter than ever! Running through December 28\, this holiday pop-up bar offers a full-on winter wonderland packed with twinkling lights\, festive music\, and Toledo Spirits’ signature creativity. \nGuests can sip their way through a seasonal cocktail menu featuring returning favorites and brand-new holiday creations inspired by cocoa\, peppermint\, sugarplums\, and a little locally distilled North Pole magic. With over-the-top décor\, warm cozy corners\, and a playful dash of mischief\, Sleigh Bellwether offers an unforgettable holiday outing for date nights\, friend gatherings\, and festive celebrations. \nWhether you’re looking for holiday cocktails\, immersive décor\, or a joyful spot to toast the season\, Sleigh Bellwether at Toledo Spirits is the place to make spirits bright.
URL:https://visittoledo.org/event/sleigh-bellwether-a-holiday-cocktail-party/2025-11-28
LOCATION:Toledo Spirits Company\, 1301 N Summit St\, Toledo\, OH\, 43604\, United States
CATEGORIES:cocktails,holiday
ATTACH;FMTTYPE=image/png:https://visittoledo.org/wp-content/uploads/2025/11/sleighbellwether-toledo-spirit-2025-4x3-event-image.png
GEO:41.6595852;-83.5213095
X-APPLE-STRUCTURED-LOCATION;VALUE=URI;X-ADDRESS=Toledo Spirits Company 1301 N Summit St Toledo OH 43604 United States;X-APPLE-RADIUS=500;X-TITLE=1301 N Summit St:geo:-83.5213095,41.6595852
END:VEVENT
BEGIN:VEVENT
DTSTART;TZID=America/Detroit:20251129T160000
DTEND;TZID=America/Detroit:20251130T010000
DTSTAMP:20260423T161628
CREATED:20251103T172235Z
LAST-MODIFIED:20251121T185430Z
UID:10010604-1764432000-1764464400@visittoledo.org
SUMMARY:Sleigh Bellwether | A Holiday Cocktail Party
DESCRIPTION:Sleigh Bellwether at Toledo Spirits is back and brighter than ever! Running through December 28\, this holiday pop-up bar offers a full-on winter wonderland packed with twinkling lights\, festive music\, and Toledo Spirits’ signature creativity. \nGuests can sip their way through a seasonal cocktail menu featuring returning favorites and brand-new holiday creations inspired by cocoa\, peppermint\, sugarplums\, and a little locally distilled North Pole magic. With over-the-top décor\, warm cozy corners\, and a playful dash of mischief\, Sleigh Bellwether offers an unforgettable holiday outing for date nights\, friend gatherings\, and festive celebrations. \nWhether you’re looking for holiday cocktails\, immersive décor\, or a joyful spot to toast the season\, Sleigh Bellwether at Toledo Spirits is the place to make spirits bright.
URL:https://visittoledo.org/event/sleigh-bellwether-a-holiday-cocktail-party/2025-11-29
LOCATION:Toledo Spirits Company\, 1301 N Summit St\, Toledo\, OH\, 43604\, United States
CATEGORIES:cocktails,holiday
ATTACH;FMTTYPE=image/png:https://visittoledo.org/wp-content/uploads/2025/11/sleighbellwether-toledo-spirit-2025-4x3-event-image.png
GEO:41.6595852;-83.5213095
X-APPLE-STRUCTURED-LOCATION;VALUE=URI;X-ADDRESS=Toledo Spirits Company 1301 N Summit St Toledo OH 43604 United States;X-APPLE-RADIUS=500;X-TITLE=1301 N Summit St:geo:-83.5213095,41.6595852
END:VEVENT
BEGIN:VEVENT
DTSTART;TZID=America/Detroit:20251130T110000
DTEND;TZID=America/Detroit:20251130T150000
DTSTAMP:20260423T161628
CREATED:20251103T164425Z
LAST-MODIFIED:20251103T164425Z
UID:10010602-1764500400-1764514800@visittoledo.org
SUMMARY:Holiday Sip + Shop
DESCRIPTION:Sip\, Shop\, & Soak Up the Holiday Vibes at Toledo Spirits Company! \nGet ready for a cozy\, upscale-rustic Holiday Sip & Shop at the distillery on November 30th! Join Toledo Spirits in the heart of our production room—where our three mighty stills shine—for a day filled with craft cocktails\, local treasures\, and festive fun!\n\nBoozy Brunch (11 AM – 3 PM): Kick back with our handcrafted holiday cocktails\, poured with the bold flavors of our signature spirits!\n\nLocal Vendors (11 AM – 3 PM): Browse unique\, handcrafted gifts from talented local vendors\, set up amidst the rustic charm of our production room’s towering stills!\n\nFREE BINGO (12 PM – 2 PM): Jump into the fun with free bingo and score some cool prizes to keep the holiday spirit flowing!\n\nMore Festive Fun (3 PM – 5 PM): Stay tuned for extra holiday activities to wrap up the day with warmth and cheer!\n\nGrab your friends\, slip into something cozy\, and celebrate the season with Toledo Spirits! Space is limited\, so swing by early to enjoy the full experience. Follow Toledo Spirits on social media for updates on vendors and activities!
URL:https://visittoledo.org/event/holiday-sip-shop
LOCATION:Toledo Spirits Company\, 1301 N Summit St\, Toledo\, OH\, 43604\, United States
CATEGORIES:cocktails,crafts,holiday,shopping
ATTACH;FMTTYPE=image/png:https://visittoledo.org/wp-content/uploads/2025/11/holiday-sip-shop-toleod-spirit-2025-4x3-event-image.png
GEO:41.6595852;-83.5213095
X-APPLE-STRUCTURED-LOCATION;VALUE=URI;X-ADDRESS=Toledo Spirits Company 1301 N Summit St Toledo OH 43604 United States;X-APPLE-RADIUS=500;X-TITLE=1301 N Summit St:geo:-83.5213095,41.6595852
END:VEVENT
BEGIN:VEVENT
DTSTART;TZID=America/Detroit:20251130T110000
DTEND;TZID=America/Detroit:20251130T180000
DTSTAMP:20260423T161628
CREATED:20251103T172235Z
LAST-MODIFIED:20251121T185430Z
UID:10010605-1764500400-1764525600@visittoledo.org
SUMMARY:Sleigh Bellwether | A Holiday Cocktail Party
DESCRIPTION:Sleigh Bellwether at Toledo Spirits is back and brighter than ever! Running through December 28\, this holiday pop-up bar offers a full-on winter wonderland packed with twinkling lights\, festive music\, and Toledo Spirits’ signature creativity. \nGuests can sip their way through a seasonal cocktail menu featuring returning favorites and brand-new holiday creations inspired by cocoa\, peppermint\, sugarplums\, and a little locally distilled North Pole magic. With over-the-top décor\, warm cozy corners\, and a playful dash of mischief\, Sleigh Bellwether offers an unforgettable holiday outing for date nights\, friend gatherings\, and festive celebrations. \nWhether you’re looking for holiday cocktails\, immersive décor\, or a joyful spot to toast the season\, Sleigh Bellwether at Toledo Spirits is the place to make spirits bright.
URL:https://visittoledo.org/event/sleigh-bellwether-a-holiday-cocktail-party/2025-11-30
LOCATION:Toledo Spirits Company\, 1301 N Summit St\, Toledo\, OH\, 43604\, United States
CATEGORIES:cocktails,holiday
ATTACH;FMTTYPE=image/png:https://visittoledo.org/wp-content/uploads/2025/11/sleighbellwether-toledo-spirit-2025-4x3-event-image.png
GEO:41.6595852;-83.5213095
X-APPLE-STRUCTURED-LOCATION;VALUE=URI;X-ADDRESS=Toledo Spirits Company 1301 N Summit St Toledo OH 43604 United States;X-APPLE-RADIUS=500;X-TITLE=1301 N Summit St:geo:-83.5213095,41.6595852
END:VEVENT
BEGIN:VEVENT
DTSTART;TZID=America/Detroit:20251130T120000
DTEND;TZID=America/Detroit:20251130T140000
DTSTAMP:20260423T161628
CREATED:20250923T182605Z
LAST-MODIFIED:20251212T185452Z
UID:10008834-1764504000-1764511200@visittoledo.org
SUMMARY:Boozy Brunch Bingo
DESCRIPTION:Spend your Sunday at Toledo Spirits’ Bellwether with Boozy Brunch Bingo! From 11 AM – 3 PM\, enjoy craft cocktails and delicious brunch dishes\, then join the fun and test your luck during Bingo from Noon – 2 PM. With exciting prizes\, a lively atmosphere\, and a family-friendly vibe\, this event is perfect for friends\, family\, and anyone looking to wrap up the weekend with food\, drinks\, and friendly competition. Location: Bellwether at Toledo Spirits\, 1301 N Summit St\, Toledo. \nTo guarantee seating make reservations here:\nhttps://getseat.net/?channel=merchant_web#/public/online/reservation/755923A7
URL:https://visittoledo.org/event/boozy-brunch-bingo/2025-11-30
LOCATION:Toledo Spirits Company\, 1301 N Summit St\, Toledo\, OH\, 43604\, United States
CATEGORIES:cocktails,entertainment
ATTACH;FMTTYPE=image/png:https://visittoledo.org/wp-content/uploads/2025/09/toledo-spirits-boozy-brunch-bingo-4x3-event-image.png
GEO:41.6595852;-83.5213095
X-APPLE-STRUCTURED-LOCATION;VALUE=URI;X-ADDRESS=Toledo Spirits Company 1301 N Summit St Toledo OH 43604 United States;X-APPLE-RADIUS=500;X-TITLE=1301 N Summit St:geo:-83.5213095,41.6595852
END:VEVENT
BEGIN:VEVENT
DTSTART;TZID=America/Detroit:20251130T150000
DTEND;TZID=America/Detroit:20251130T170000
DTSTAMP:20260423T161628
CREATED:20251114T151654Z
LAST-MODIFIED:20251114T151919Z
UID:10010698-1764514800-1764522000@visittoledo.org
SUMMARY:Holiday Movie Trivia | Toledo Spirits Company
DESCRIPTION:Grab your friends\, order a festive cocktail\, and get ready for an afternoon of laughs & nostalgia at Holiday Movie Trivia at Toledo Spirits! Test your knowledge of holiday favorites like Elf\, Home Alone\, A Christmas Story\, and National Lampoon’s Christmas Vacation while sipping Toledo-made spirits in one of the city’s coziest spots.\n\nWhether you’re a trivia pro or just in it for the laughs\, this is one of Toledo’s must-do Christmas events this season!
URL:https://visittoledo.org/event/holiday-movie-trivia-toledo-spirits-company
LOCATION:Toledo Spirits Company\, 1301 N Summit St\, Toledo\, OH\, 43604\, United States
CATEGORIES:cocktails,entertainment,holiday
ATTACH;FMTTYPE=image/png:https://visittoledo.org/wp-content/uploads/2025/11/toledo-spirits-4x3-event-image.png
GEO:41.6595852;-83.5213095
X-APPLE-STRUCTURED-LOCATION;VALUE=URI;X-ADDRESS=Toledo Spirits Company 1301 N Summit St Toledo OH 43604 United States;X-APPLE-RADIUS=500;X-TITLE=1301 N Summit St:geo:-83.5213095,41.6595852
END:VEVENT
END:VCALENDAR