BEGIN:VCALENDAR
VERSION:2.0
PRODID:-//Destination Toledo - ECPv6.15.20//NONSGML v1.0//EN
CALSCALE:GREGORIAN
METHOD:PUBLISH
X-ORIGINAL-URL:https://visittoledo.org
X-WR-CALDESC:Events for Destination Toledo
REFRESH-INTERVAL;VALUE=DURATION:PT1H
X-Robots-Tag:noindex
X-PUBLISHED-TTL:PT1H
BEGIN:VTIMEZONE
TZID:America/Detroit
BEGIN:DAYLIGHT
TZOFFSETFROM:-0500
TZOFFSETTO:-0400
TZNAME:EDT
DTSTART:20250309T070000
END:DAYLIGHT
BEGIN:STANDARD
TZOFFSETFROM:-0400
TZOFFSETTO:-0500
TZNAME:EST
DTSTART:20251102T060000
END:STANDARD
BEGIN:DAYLIGHT
TZOFFSETFROM:-0500
TZOFFSETTO:-0400
TZNAME:EDT
DTSTART:20260308T070000
END:DAYLIGHT
BEGIN:STANDARD
TZOFFSETFROM:-0400
TZOFFSETTO:-0500
TZNAME:EST
DTSTART:20261101T060000
END:STANDARD
BEGIN:DAYLIGHT
TZOFFSETFROM:-0500
TZOFFSETTO:-0400
TZNAME:EDT
DTSTART:20270314T070000
END:DAYLIGHT
BEGIN:STANDARD
TZOFFSETFROM:-0400
TZOFFSETTO:-0500
TZNAME:EST
DTSTART:20271107T060000
END:STANDARD
END:VTIMEZONE
BEGIN:VEVENT
DTSTART;TZID=America/Detroit:20260410T000000
DTEND;TZID=America/Detroit:20261015T235959
DTSTAMP:20260420T040626
CREATED:20260305T163922Z
LAST-MODIFIED:20260413T175028Z
UID:10012326-1775779200-1792108799@visittoledo.org
SUMMARY:The Ribbon Roller Skating Trail
DESCRIPTION:Glide\, splash\, and explore—The Ribbon is your gateway to summer fun at Glass City Metropark. Located between two exciting playgrounds\, a water play area\, and more – it’s the perfect starting point for an action-packed day. \nOpen early April through mid-October\, The Ribbon Roller Trail is free to enjoy during park hours with your own roller equipment. This 1\,000-foot trail is perfect for roller skating\, rollerblading\, non-motorized kick scooters\, balance bikes\, walking\, and it’s wheelchair accessible. \nThe Ribbon is also home to the 32-foot Mercy Health FitPark Climb Rock Wall\, open Friday through Sunday from Memorial Day through Labor Day. \nFor information on roller rental equipment\, cabana rentals\, and more\, visit the Toledo Metroparks Website.
URL:https://visittoledo.org/event/the-ribbon-roller-skating-trail
LOCATION:Glass City Metropark\, 1505 Front St\, Toledo\, Ohio\, 43605\, United States
CATEGORIES:exercise,Memorial,outdoors
ATTACH;FMTTYPE=image/png:https://visittoledo.org/wp-content/uploads/2025/04/the-ribbon-4x3-event-image.png
GEO:41.6534145;-83.5196809
X-APPLE-STRUCTURED-LOCATION;VALUE=URI;X-ADDRESS=Glass City Metropark 1505 Front St Toledo Ohio 43605 United States;X-APPLE-RADIUS=500;X-TITLE=1505 Front St:geo:-83.5196809,41.6534145
END:VEVENT
BEGIN:VEVENT
DTSTART;TZID=America/Detroit:20261010T090000
DTEND;TZID=America/Detroit:20261010T100000
DTSTAMP:20260420T040626
CREATED:20260326T141457Z
LAST-MODIFIED:20260326T141457Z
UID:10013424-1791622800-1791626400@visittoledo.org
SUMMARY:Sensory Friendly Weekends at National Museum of the Great Lakes
DESCRIPTION:The National Museum of the Great Lakes invites guests to experience the museum in a calm\, accommodating setting during its Sensory Friendly Weekends\, thoughtfully designed for comfort and enjoyment. \nHeld on the second Saturday and Sunday of every month\, this dedicated experience takes place one hour before the museum opens to the public. \nAdmission is included with regular museum entry and is free for members and Museums for All participants. \nCreated especially for individuals with sensory sensitivities\, this designated time offers a more immersive and comfortable visit: \n\nCrowds are limited to ensure a peaceful\, relaxed environment\nLighting is dimmed to create a calming atmosphere\nExhibit sounds are lowered or eliminated to reduce auditory stimulation\n\nAs a Certified Autism Center™ (CAC) through the International Board of Credentialing and Continuing Education Services (IBCCES)\, the museum is committed to providing inclusive\, accessible experiences for all visitors. \nGuests are encouraged to pre-order tickets in advance or purchase them at the door upon arrival. Regular admission rates apply. For questions\, please call 419-214-5000.
URL:https://visittoledo.org/event/sensory-friendly-weekends-at-national-museum-of-the-great-lakes/2026-10-10
LOCATION:National Museum of the Great Lakes\, 1701 Front St\, Toledo\, OH\, 43605\, United States
ATTACH;FMTTYPE=image/png:https://visittoledo.org/wp-content/uploads/2026/03/nmgl-sensory-friendly-weekends-4x3-event-image.png
GEO:41.6566127;-83.5150568
X-APPLE-STRUCTURED-LOCATION;VALUE=URI;X-ADDRESS=National Museum of the Great Lakes 1701 Front St Toledo OH 43605 United States;X-APPLE-RADIUS=500;X-TITLE=1701 Front St:geo:-83.5150568,41.6566127
END:VEVENT
BEGIN:VEVENT
DTSTART;TZID=America/Detroit:20261010T200000
DTEND;TZID=America/Detroit:20261010T220000
DTSTAMP:20260420T040626
CREATED:20251202T185622Z
LAST-MODIFIED:20251202T185802Z
UID:10010757-1791662400-1791669600@visittoledo.org
SUMMARY:"Weird Al" Yankovic: Bigger & Weirder 2026 Tour
DESCRIPTION:Weird Al Yankovic is the biggest-selling comedy recording artist in history. A 5-time Grammy Award winner\, he is best known for his parodies of the biggest musical artists over the last 4 decades\, including Madonna\, Michael Jackson\, Taylor Swift\, Queen\, U2\, and Lady Gaga\, all with their personal blessings. His many hits include Amish Paradise\, Eat It\, Like a Surgeon\, Smells Like Nirvana\, Word Crimes\, and the platinum-selling White & Nerdy.\nTickets are available now at the Huntington Center website. 
URL:https://visittoledo.org/event/weird-al-yankovic-bigger-weirder-2026-tour
LOCATION:Huntington Center\, 500 Jefferson Ave\, Toledo\, OH\, 43604\, United States
CATEGORIES:concert,entertainment
ATTACH;FMTTYPE=image/png:https://visittoledo.org/wp-content/uploads/2025/12/weird-al-4x3-event-image.png
GEO:41.6511221;-83.5368354
X-APPLE-STRUCTURED-LOCATION;VALUE=URI;X-ADDRESS=Huntington Center 500 Jefferson Ave Toledo OH 43604 United States;X-APPLE-RADIUS=500;X-TITLE=500 Jefferson Ave:geo:-83.5368354,41.6511221
END:VEVENT
END:VCALENDAR