BEGIN:VCALENDAR
VERSION:2.0
PRODID:-//Destination Toledo - ECPv6.15.20//NONSGML v1.0//EN
CALSCALE:GREGORIAN
METHOD:PUBLISH
X-WR-CALNAME:Destination Toledo
X-ORIGINAL-URL:https://visittoledo.org
X-WR-CALDESC:Events for Destination Toledo
REFRESH-INTERVAL;VALUE=DURATION:PT1H
X-Robots-Tag:noindex
X-PUBLISHED-TTL:PT1H
BEGIN:VTIMEZONE
TZID:America/Detroit
BEGIN:DAYLIGHT
TZOFFSETFROM:-0500
TZOFFSETTO:-0400
TZNAME:EDT
DTSTART:20250309T070000
END:DAYLIGHT
BEGIN:STANDARD
TZOFFSETFROM:-0400
TZOFFSETTO:-0500
TZNAME:EST
DTSTART:20251102T060000
END:STANDARD
BEGIN:DAYLIGHT
TZOFFSETFROM:-0500
TZOFFSETTO:-0400
TZNAME:EDT
DTSTART:20260308T070000
END:DAYLIGHT
BEGIN:STANDARD
TZOFFSETFROM:-0400
TZOFFSETTO:-0500
TZNAME:EST
DTSTART:20261101T060000
END:STANDARD
BEGIN:DAYLIGHT
TZOFFSETFROM:-0500
TZOFFSETTO:-0400
TZNAME:EDT
DTSTART:20270314T070000
END:DAYLIGHT
BEGIN:STANDARD
TZOFFSETFROM:-0400
TZOFFSETTO:-0500
TZNAME:EST
DTSTART:20271107T060000
END:STANDARD
END:VTIMEZONE
BEGIN:VEVENT
DTSTART;TZID=America/Detroit:20260410T000000
DTEND;TZID=America/Detroit:20261015T235959
DTSTAMP:20260423T171515
CREATED:20260305T163922Z
LAST-MODIFIED:20260413T175028Z
UID:10012326-1775779200-1792108799@visittoledo.org
SUMMARY:The Ribbon Roller Skating Trail
DESCRIPTION:Glide\, splash\, and explore—The Ribbon is your gateway to summer fun at Glass City Metropark. Located between two exciting playgrounds\, a water play area\, and more – it’s the perfect starting point for an action-packed day. \nOpen early April through mid-October\, The Ribbon Roller Trail is free to enjoy during park hours with your own roller equipment. This 1\,000-foot trail is perfect for roller skating\, rollerblading\, non-motorized kick scooters\, balance bikes\, walking\, and it’s wheelchair accessible. \nThe Ribbon is also home to the 32-foot Mercy Health FitPark Climb Rock Wall\, open Friday through Sunday from Memorial Day through Labor Day. \nFor information on roller rental equipment\, cabana rentals\, and more\, visit the Toledo Metroparks Website.
URL:https://visittoledo.org/event/the-ribbon-roller-skating-trail
LOCATION:Glass City Metropark\, 1505 Front St\, Toledo\, Ohio\, 43605\, United States
CATEGORIES:exercise,Memorial,outdoors
ATTACH;FMTTYPE=image/png:https://visittoledo.org/wp-content/uploads/2025/04/the-ribbon-4x3-event-image.png
GEO:41.6534145;-83.5196809
X-APPLE-STRUCTURED-LOCATION;VALUE=URI;X-ADDRESS=Glass City Metropark 1505 Front St Toledo Ohio 43605 United States;X-APPLE-RADIUS=500;X-TITLE=1505 Front St:geo:-83.5196809,41.6534145
END:VEVENT
BEGIN:VEVENT
DTSTART;TZID=America/Detroit:20260814T000000
DTEND;TZID=America/Detroit:20260815T235959
DTSTAMP:20260423T171515
CREATED:20250529T155338Z
LAST-MODIFIED:20260312T152824Z
UID:10007334-1786665600-1786838399@visittoledo.org
SUMMARY:Glass City Jazz Fest
DESCRIPTION:Experience a Day of World-Class Jazz on Toledo’s Riverfront August 14-15 2026! \nAttendees of the family-friendly\, open-air festival will enjoy a full day of live acts that will explore various genres of jazz which include native Toledoans that have excelled to both national and international acclaim\, reminding visitors of the rich heritage of jazz in Toledo! \nStay tuned for more information about the full line up for Glass City Jazz Festival. For more information\, visit The Glass City Jazz Fest website!
URL:https://visittoledo.org/event/glass-city-jazz-fest
LOCATION:Glass City Metropark\, 1505 Front St\, Toledo\, Ohio\, 43605\, United States
CATEGORIES:downtown,family friendly,Festival,food,Jazz,live music,outdoors
ATTACH;FMTTYPE=image/png:https://visittoledo.org/wp-content/uploads/2025/05/glass-city-jazz-fest-4x3-event-image-Recovered.png
GEO:41.6534145;-83.5196809
X-APPLE-STRUCTURED-LOCATION;VALUE=URI;X-ADDRESS=Glass City Metropark 1505 Front St Toledo Ohio 43605 United States;X-APPLE-RADIUS=500;X-TITLE=1505 Front St:geo:-83.5196809,41.6534145
END:VEVENT
BEGIN:VEVENT
DTSTART;TZID=America/Detroit:20260814T000000
DTEND;TZID=America/Detroit:20260816T235959
DTSTAMP:20260423T171515
CREATED:20250514T125054Z
LAST-MODIFIED:20260312T152634Z
UID:10007257-1786665600-1786924799@visittoledo.org
SUMMARY:Toledo Pride
DESCRIPTION:Toledo Pride is Northwest Ohio’s largest and most recognized event for the (LGBTQIA+) community. This year\, they are celebrating their sweet 16 and 16 years of pride! Toledo Pride will take place in downtown Toledo this year for 3 days of festivities from Friday\, August 14th\, through Sunday\, August 16th. \nThe Toledo Pride Festival is a large-scale\, outdoor event that showcases the best local entertainment. This annual festival boasts a pride parade\, food\, merchandise vendors\, and networking with numerous community organizations\, including social groups\, churches\, and health and wellness groups.
URL:https://visittoledo.org/event/toledo-pride
LOCATION:Downtown Toledo\, Toledo\, OH\, United States
CATEGORIES:downtown,entertainment,Festival,food,outdoors,wellness
ATTACH;FMTTYPE=image/png:https://visittoledo.org/wp-content/uploads/2025/05/toledo-pride-concert-4x3-event-image.png
GEO:41.6528052;-83.5378674
END:VEVENT
BEGIN:VEVENT
DTSTART;TZID=America/Detroit:20260815T080000
DTEND;TZID=America/Detroit:20260815T170000
DTSTAMP:20260423T171515
CREATED:20260126T210126Z
LAST-MODIFIED:20260126T210126Z
UID:10011529-1786780800-1786813200@visittoledo.org
SUMMARY:Get the Led Out
DESCRIPTION:Get The Led Out brings the powerful\, iconic sound of Led Zeppelin to the concert stage with a focus on musical authenticity. Made up of seasoned professional musicians\, the band is dedicated to recreating Zeppelin’s legendary studio recordings live\, note for note\, with precision and passion. \nThis is not an impersonation act\, but a true celebration of one of the greatest rock bands in history\, performed by musicians who were fans first and artists always. Fans can expect a dynamic\, high-energy show that honors the depth and brilliance of Led Zeppelin’s music. \nTicketsPublic on sale: Friday\, January 30\, 2026 at 10:00 AM \nAn unforgettable night for classic rock fans.
URL:https://visittoledo.org/event/get-the-led-out
LOCATION:Centennial Terrace\, 5773 Centennial Road\, Sylvania\, Ohio\, 43560\, United States
CATEGORIES:concert,live music
ATTACH;FMTTYPE=image/png:https://visittoledo.org/wp-content/uploads/2026/01/get-the-led-out-4x3-event-image.png
GEO:41.7162272;-83.7446277
X-APPLE-STRUCTURED-LOCATION;VALUE=URI;X-ADDRESS=Centennial Terrace 5773 Centennial Road Sylvania Ohio 43560 United States;X-APPLE-RADIUS=500;X-TITLE=5773 Centennial Road:geo:-83.7446277,41.7162272
END:VEVENT
BEGIN:VEVENT
DTSTART;TZID=America/Detroit:20260815T090000
DTEND;TZID=America/Detroit:20260815T190000
DTSTAMP:20260423T171515
CREATED:20260331T175103Z
LAST-MODIFIED:20260331T175103Z
UID:10012971-1786784400-1786820400@visittoledo.org
SUMMARY:GardenView U-Pick Flowers
DESCRIPTION:Wander a magical garden to pick a bouquet of flowers from more than 30 varieties of blooms. This colorful summer activity is fun for all ages. Gardens are open 9am-7pm every day from June 25 through early September. No advance reservation required. It is $16 to make a bouquet (bring a quart-size mason jar or buy a vase for $2 more). Cash\, check\, Venmo or credit card accepted. Groups are welcome (discount offered & outdoor patios available to use with advance reservation). Guests can also visit the InSeason Flower & Gift Shop for fresh flowers\, plants and floral-inspired gifts.
URL:https://visittoledo.org/event/gardenview-u-pick-flowers/2026-08-15
LOCATION:GardenView Flowers\, 11160 South River Rd\, Grand Rapids\, OH\, 43522\, United States
CATEGORIES:family friendly,nature,outdoors,shopping
ATTACH;FMTTYPE=image/png:https://visittoledo.org/wp-content/uploads/2026/03/gardenview-upick-flowers-4x3-event-image.png
GEO:41.4422032;-83.8089613
X-APPLE-STRUCTURED-LOCATION;VALUE=URI;X-ADDRESS=GardenView Flowers 11160 South River Rd Grand Rapids OH 43522 United States;X-APPLE-RADIUS=500;X-TITLE=11160 South River Rd:geo:-83.8089613,41.4422032
END:VEVENT
BEGIN:VEVENT
DTSTART;TZID=America/Detroit:20260815T100000
DTEND;TZID=America/Detroit:20260815T120000
DTSTAMP:20260423T171515
CREATED:20260329T175749Z
LAST-MODIFIED:20260329T175749Z
UID:10013513-1786788000-1786795200@visittoledo.org
SUMMARY:Discover the River Cruise on the Sandpiper
DESCRIPTION:Start your Saturday with a relaxed and scenic two-hour cruise along the Maumee River aboard the Sandpiper. This guided experience offers a fresh perspective on Toledo\, blending local history\, riverfront architecture\, and abundant wildlife into one memorable outing. \nAs you cruise\, you’ll pass stately historic homes and riverside landmarks while hearing the stories that shaped the region. Early morning on the river also brings opportunities to spot wildlife\, from soaring eagles to herons along the shoreline\, all in a calm and peaceful setting. \nGuests are welcome to bring along breakfast or brunch favorites to enjoy onboard—coffee\, light bites\, or even a celebratory mimosa—with small coolers encouraged. \nWith cooler temperatures\, soft morning light\, and a quieter river\, this family-friendly cruise is ideal for sightseeing\, photography\, and a laid-back start to the weekend. \nEvent Details: \n\n\nWhen: Saturdays \n\n\nTime: 10:00 AM – 12:00 PM \n\n\nSpots fill quickly—reserve your place and discover a new side of Toledo from the water. \n\nJ&M Cruise Lines 2026 Season\nJ&M Cruise Lines operates the Sandpiper\, Glass City Pearl\, and the Water Street Taxi & Tour\, and manages the Glass City Marina and the Downtown Toledo docks.  \nVisit www.jmcruiselines.com for more information about their boats\, cruises\, and policies. \nFor a full list of J&M Cruise Lines’ events visit www.jmcruiselines.com/calendar
URL:https://visittoledo.org/event/discover-the-river-cruise-on-the-sandpiper-2/2026-08-15
LOCATION:J&M Boat Launch\, 1 Jefferson Ave\, Toledo\, OH\, 43604\, United States
CATEGORIES:downtown,outdoors,tour
ATTACH;FMTTYPE=image/png:https://visittoledo.org/wp-content/uploads/2026/03/discover-the-river-cruise-sandpiper-jm-4x3-event-image.png
GEO:41.6493572;-83.5348969
X-APPLE-STRUCTURED-LOCATION;VALUE=URI;X-ADDRESS=J&M Boat Launch 1 Jefferson Ave Toledo OH 43604 United States;X-APPLE-RADIUS=500;X-TITLE=1 Jefferson Ave:geo:-83.5348969,41.6493572
END:VEVENT
BEGIN:VEVENT
DTSTART;TZID=America/Detroit:20260815T100000
DTEND;TZID=America/Detroit:20260815T170000
DTSTAMP:20260423T171515
CREATED:20260422T191506Z
LAST-MODIFIED:20260422T191506Z
UID:10015028-1786788000-1786813200@visittoledo.org
SUMMARY:Currents of Change: The Living History of the Great Lakes
DESCRIPTION:Currents of Change: The Living History of the Great Lakes\, presented by the John and Virginia Hankison Foundation\, invites visitors to explore the ever-evolving relationship between people and our freshwaters. \nFrom beavers that shaped early Great Lakes economies to invasive species and harmful algae blooms that challenge us today\, this immersive exhibit traces the powerful forces that have transformed our region. Visitors will experience pivotal turning points in Great Lakes history while discovering how science\, conservation\, and community action continue to influence the lakes’ future. \nThis exhibit is included with regular museum admission and located in the Temporary Exhibit Gallery. \nNote: Sunday hours at NMGL are 12 pm to 5 pm
URL:https://visittoledo.org/event/currents-of-change-the-living-history-of-the-great-lakes/2026-08-15
LOCATION:National Museum of the Great Lakes\, 1701 Front St\, Toledo\, OH\, 43605\, United States
CATEGORIES:educational,museum
ATTACH;FMTTYPE=image/png:https://visittoledo.org/wp-content/uploads/2026/04/currents-of-change-nmgl-4x3-event-image.png
GEO:41.6566127;-83.5150568
X-APPLE-STRUCTURED-LOCATION;VALUE=URI;X-ADDRESS=National Museum of the Great Lakes 1701 Front St Toledo OH 43605 United States;X-APPLE-RADIUS=500;X-TITLE=1701 Front St:geo:-83.5150568,41.6566127
END:VEVENT
BEGIN:VEVENT
DTSTART;TZID=America/Detroit:20260815T110000
DTEND;TZID=America/Detroit:20260815T130000
DTSTAMP:20260423T171515
CREATED:20260329T185324Z
LAST-MODIFIED:20260329T185324Z
UID:10013699-1786791600-1786798800@visittoledo.org
SUMMARY:Saturday Brunch Cruise on the Glass City Pearl
DESCRIPTION:Elevate your Saturday with a Brunch Cruise aboard the Glass City Pearl. Cruise the scenic Maumee River while enjoying a delicious catered brunch included with your ticket\, paired with signature cocktails made from your BYOB champagne for the perfect Maumosa experience. \nIdeal for girls’ trips\, special celebrations\, or simply treating yourself\, this two-hour cruise combines stunning river views\, leisurely conversation\, and a festive brunch atmosphere. Every moment offers a new perspective of Toledo from the water\, making it a truly memorable way to spend your morning. \nEvent Details: \nTwo-hour Saturday morning cruise \nCatered brunch included (menu coming soon) \nBYOB champagne for Maumosas \nScenic Maumee River views \nBook by Friday at 10 AM; reservations close 24 hours prior due to catering \nThis floating brunch transforms your weekend into a relaxing and indulgent riverfront experience. \n\nJ&M Cruise Lines 2026 Season\nJ&M Cruise Lines operates the Sandpiper\, Glass City Pearl\, and the Water Street Taxi & Tour\, and manages the Glass City Marina and the Downtown Toledo docks.  \nVisit www.jmcruiselines.com for more information about their boats\, cruises\, and policies. \nFor a full list of J&M Cruise Lines’ events visit www.jmcruiselines.com/calendar
URL:https://visittoledo.org/event/saturday-brunch-cruise-on-the-glass-city-pearl/2026-08-15
LOCATION:J&M Boat Launch\, 1 Jefferson Ave\, Toledo\, OH\, 43604\, United States
CATEGORIES:food,outdoors,tour
ATTACH;FMTTYPE=image/png:https://visittoledo.org/wp-content/uploads/2026/03/saturday-brunch-cruise-sandpiper-jm-4x3-event-image.png
GEO:41.6493572;-83.5348969
X-APPLE-STRUCTURED-LOCATION;VALUE=URI;X-ADDRESS=J&M Boat Launch 1 Jefferson Ave Toledo OH 43604 United States;X-APPLE-RADIUS=500;X-TITLE=1 Jefferson Ave:geo:-83.5348969,41.6493572
END:VEVENT
BEGIN:VEVENT
DTSTART;TZID=America/Detroit:20260815T163000
DTEND;TZID=America/Detroit:20260815T230000
DTSTAMP:20260423T171515
CREATED:20260421T193929Z
LAST-MODIFIED:20260421T193929Z
UID:10014903-1786811400-1786834800@visittoledo.org
SUMMARY:Oliver Hazard Day
DESCRIPTION:Oliver Hazard Day is a single-day music festival in downtown Waterville\, Ohio\, presented by local favorites Oliver Hazard. The festival features up-and-coming acts from the Americana and indie folk scene. \nWATERVILLE\, OHIO | NORTH 3RD STREETAUGUST 15TH\, 20264:30 PM – 11:00 PMTickets: $30-$40 \nWWW.OLIVERHAZARDDAY.COM\n2026 Lineup\nOliver Hazard\nTors\nBriscoe\nOlive Klug\nDJ Jon Zenz
URL:https://visittoledo.org/event/oliver-hazard-day-2
LOCATION:Downtown Waterville\, Waterville\, Ohio
CATEGORIES:concert,family friendly,Festival,outdoors
ATTACH;FMTTYPE=image/png:https://visittoledo.org/wp-content/uploads/2026/04/oliver-hazard-day-2026-4x3-event-image.png
GEO:41.5008859;-83.7182701
END:VEVENT
BEGIN:VEVENT
DTSTART;TZID=America/Detroit:20260815T180000
DTEND;TZID=America/Detroit:20260815T223000
DTSTAMP:20260423T171515
CREATED:20260414T125420Z
LAST-MODIFIED:20260414T125845Z
UID:10014436-1786816800-1786833000@visittoledo.org
SUMMARY:Toledo Night Market
DESCRIPTION:Soak in the energy of a summer night at the Toledo Night Market\, returning to the Toledo Farmers’ Market on August 15 for an evening packed with local flavor\, creativity\, and community. \nThis open-air twilight market brings together more than 85 artisans and small businesses\, offering everything from handcrafted goods to unique local finds. As you explore\, enjoy a lineup of food trucks\, craft drinks\, and live music from The Skittle Bots\, delivering a fun and lively soundtrack to your night. \nWith its laid-back atmosphere and ever-changing mix of vendors\, the Night Market is the perfect place to shop small\, grab a bite\, and connect with Toledo’s creative community. Whether you’re meeting friends or making it a family outing\, there’s something for everyone to enjoy. \n🌙 Event Details:• Saturday\, August 15• Location: Toledo Farmers’ Market• Admission: $5 (kids 5 & under free)• Free parking available (lot and street)• Rain or shine
URL:https://visittoledo.org/event/toledo-night-market-7
LOCATION:Toledo Farmers’ Market\, 525 Market St\,\, Toledo\, Ohio\, 43604\, United States
CATEGORIES:art,crafts,live music,outdoors,shopping
ATTACH;FMTTYPE=image/png:https://visittoledo.org/wp-content/uploads/2026/04/toledo-night-market-august-2026-4x3-event-image.png
GEO:41.6456052;-83.542166
X-APPLE-STRUCTURED-LOCATION;VALUE=URI;X-ADDRESS=Toledo Farmers’ Market 525 Market St Toledo Ohio 43604 United States;X-APPLE-RADIUS=500;X-TITLE=525 Market St\,:geo:-83.542166,41.6456052
END:VEVENT
BEGIN:VEVENT
DTSTART;TZID=America/Detroit:20260815T190000
DTEND;TZID=America/Detroit:20260815T213000
DTSTAMP:20260423T171515
CREATED:20260325T191355Z
LAST-MODIFIED:20260325T191355Z
UID:10013384-1786820400-1786829400@visittoledo.org
SUMMARY:XRHL - eXtreme Roller Hockey League
DESCRIPTION:The inaugural season of the eXtreme Roller Hockey League (XRHL) is coming to Toledo this summer\, bringing fast-paced\, high-energy action to the Huntington Center. \nFeaturing four drafted teams\, the XRHL season will include an 18-game regular season\, followed by two playoff matchups and a championship game on August 22\, where the league’s first-ever champion will be crowned. \nFans can expect high-speed gameplay\, physical competition\, and an electric atmosphere inside one of Toledo’s premier sports venues. Whether you’re a longtime hockey fan or new to the sport of roller hockey\, XRHL offers a unique and thrilling summer experience. \nSeason Schedule (All games are at 7pm at the Huntington Center)\nFriday\, July 10\nSaturday\, July 11\nTuesday\, July 14\nWednesday\, July 15\nTuesday\, July 28\nWednesday\, July 29\nFriday\, July 31\nSaturday\, August 1\nMonday\, August 3\nTuesday\, August 4\nWednesday\, August 5\nMonday. August 10\nTuesday\, August 11\nThursday\, August 13\nFriday\, August 14\nSaturday\, August 15\nMonday\, August 17\nTuesday\, August 18\nThursday\, August 20 (Semi-finals)\nFriday\, August 21 (Semi-finals)\nSaturday\, August 22 (Championship) \nLearn more at Home – eXtreme Roller Hockey League
URL:https://visittoledo.org/event/xrhl-extreme-roller-hockey-league/2026-08-15
LOCATION:Huntington Center\, 500 Jefferson Ave\, Toledo\, OH\, 43604\, United States
CATEGORIES:downtown,hockey,sports
ATTACH;FMTTYPE=image/png:https://visittoledo.org/wp-content/uploads/2026/03/XRHL-4x3-event-image.png
GEO:41.6511221;-83.5368354
X-APPLE-STRUCTURED-LOCATION;VALUE=URI;X-ADDRESS=Huntington Center 500 Jefferson Ave Toledo OH 43604 United States;X-APPLE-RADIUS=500;X-TITLE=500 Jefferson Ave:geo:-83.5368354,41.6511221
END:VEVENT
BEGIN:VEVENT
DTSTART;TZID=America/Detroit:20260815T200000
DTEND;TZID=America/Detroit:20260815T230000
DTSTAMP:20260423T171515
CREATED:20260329T191850Z
LAST-MODIFIED:20260329T191850Z
UID:10013716-1786824000-1786834800@visittoledo.org
SUMMARY:Sunset Cruise on the Glass City Pearl
DESCRIPTION:Transform your Saturday evening with a Sunset Cruise aboard the Glass City Pearl. Glide across Lake Erie for three hours as the sun sets in brilliant oranges\, pinks\, and purples\, creating a picture-perfect backdrop for photos and memories. \nSee the iconic Toledo Harbor Lighthouse framed against the glowing sky and enjoy the magic of golden hour from the water. Guests are welcome to BYOB—pack wine\, beer\, cocktails\, and snacks to toast the sunset in style. \nWhether it’s a romantic evening\, a celebration with friends\, or a moment of pure relaxation\, this cruise delivers unforgettable riverfront and lake views.Event Details: \nDuration: 3 hours (times vary with sunset) \nBYOB encouraged; small coolers recommended \nScenic Lake Erie and Toledo Harbor Lighthouse views \nPerfect for couples\, friends\, or anyone seeking a magical evening on the water \n\nJ&M Cruise Lines 2026 Season\nJ&M Cruise Lines operates the Sandpiper\, Glass City Pearl\, and the Water Street Taxi & Tour\, and manages the Glass City Marina and the Downtown Toledo docks.  \nVisit www.jmcruiselines.com for more information about their boats\, cruises\, and policies. \nFor a full list of J&M Cruise Lines’ events visit www.jmcruiselines.com/calendar
URL:https://visittoledo.org/event/sunset-cruise-on-the-glass-city-pearl/2026-08-15
LOCATION:J&M Boat Launch\, 1 Jefferson Ave\, Toledo\, OH\, 43604\, United States
CATEGORIES:outdoors,tour
ATTACH;FMTTYPE=image/png:https://visittoledo.org/wp-content/uploads/2026/03/sunset-cruise-glass-city-pearl-jm-4x3-event-image.png
GEO:41.6493572;-83.5348969
X-APPLE-STRUCTURED-LOCATION;VALUE=URI;X-ADDRESS=J&M Boat Launch 1 Jefferson Ave Toledo OH 43604 United States;X-APPLE-RADIUS=500;X-TITLE=1 Jefferson Ave:geo:-83.5348969,41.6493572
END:VEVENT
END:VCALENDAR