BEGIN:VCALENDAR
VERSION:2.0
PRODID:-//Destination Toledo - ECPv6.15.20//NONSGML v1.0//EN
CALSCALE:GREGORIAN
METHOD:PUBLISH
X-WR-CALNAME:Destination Toledo
X-ORIGINAL-URL:https://visittoledo.org
X-WR-CALDESC:Events for Destination Toledo
REFRESH-INTERVAL;VALUE=DURATION:PT1H
X-Robots-Tag:noindex
X-PUBLISHED-TTL:PT1H
BEGIN:VTIMEZONE
TZID:America/Detroit
BEGIN:DAYLIGHT
TZOFFSETFROM:-0500
TZOFFSETTO:-0400
TZNAME:EDT
DTSTART:20250309T070000
END:DAYLIGHT
BEGIN:STANDARD
TZOFFSETFROM:-0400
TZOFFSETTO:-0500
TZNAME:EST
DTSTART:20251102T060000
END:STANDARD
BEGIN:DAYLIGHT
TZOFFSETFROM:-0500
TZOFFSETTO:-0400
TZNAME:EDT
DTSTART:20260308T070000
END:DAYLIGHT
BEGIN:STANDARD
TZOFFSETFROM:-0400
TZOFFSETTO:-0500
TZNAME:EST
DTSTART:20261101T060000
END:STANDARD
BEGIN:DAYLIGHT
TZOFFSETFROM:-0500
TZOFFSETTO:-0400
TZNAME:EDT
DTSTART:20270314T070000
END:DAYLIGHT
BEGIN:STANDARD
TZOFFSETFROM:-0400
TZOFFSETTO:-0500
TZNAME:EST
DTSTART:20271107T060000
END:STANDARD
END:VTIMEZONE
BEGIN:VEVENT
DTSTART;TZID=America/Detroit:20260130T000000
DTEND;TZID=America/Detroit:20260426T235959
DTSTAMP:20260419T144009
CREATED:20260130T162834Z
LAST-MODIFIED:20260130T163050Z
UID:10011563-1769731200-1777247999@visittoledo.org
SUMMARY:TUTANKHAMUN: "Wonderful Things" Treasures from the Pharaoh's Tomb
DESCRIPTION:Take a step back in time—3\,300 years ago to be exact—to the Valley of Kings where King Tutankhamun was laid to rest. \nDiscover the rich history of the 18th Dynasty in Ancient Egypt and see what historian Howard Carter saw when he uncovered the tomb\, the most extraordinary archaeological find of all time. \nExhibit is free with admission. \nImagination Station is closed on Mondays.
URL:https://visittoledo.org/event/tutankhamun-wonderful-things-treasures-from-the-pharaohs-tomb
LOCATION:Imagination Station\, 1 Discovery Way\, Toledo\, OH\, 43604
CATEGORIES:family friendly,museum
ATTACH;FMTTYPE=image/png:https://visittoledo.org/wp-content/uploads/2026/01/king-tut-imagination-station-4x3-event-image.png
GEO:41.6520001;-83.5317562
X-APPLE-STRUCTURED-LOCATION;VALUE=URI;X-ADDRESS=Imagination Station 1 Discovery Way Toledo OH 43604;X-APPLE-RADIUS=500;X-TITLE=1 Discovery Way:geo:-83.5317562,41.6520001
END:VEVENT
BEGIN:VEVENT
DTSTART;TZID=America/Detroit:20260314T000000
DTEND;TZID=America/Detroit:20260614T235959
DTSTAMP:20260419T144009
CREATED:20260217T134010Z
LAST-MODIFIED:20260217T134930Z
UID:10012184-1773446400-1781481599@visittoledo.org
SUMMARY:Coffee Quest 419
DESCRIPTION:Coffee Quest 419 returns this spring\, featuring 29 local businesses across 31 participating locations from March 14 – June 14! \nPrizes are earned cumulatively throughout the Quest: \n• Prize 1: Themed Sticker Sheet• Prize 2: “Drink Local Coffee” embroidered patch• Prize 3: Coffee Quest 419 T-shirt\, proudly printed by Jupmode \nParticipants who visit all 29 shops will be automatically entered into a raffle to win one of three local coffee-themed baskets. Winners will be announced at the conclusion of the Quest. \nThis year’s theme\, “Celebrating Coffee\,” highlights the tools of the craft\, the people behind the counter\, and the drink that brings the community together. \nAdd the pass to your phone and learn more at VisitToledo.org/CoffeeQuest419!
URL:https://visittoledo.org/event/coffee-quest-419
LOCATION:OH
CATEGORIES:coffee
ATTACH;FMTTYPE=image/png:https://visittoledo.org/wp-content/uploads/2026/02/Coffee-quest-419-2026-4x3-event-image.png
END:VEVENT
BEGIN:VEVENT
DTSTART;TZID=America/Detroit:20260321T000000
DTEND;TZID=America/Detroit:20260705T235959
DTSTAMP:20260419T144009
CREATED:20260318T172841Z
LAST-MODIFIED:20260318T173112Z
UID:10012881-1774051200-1783295999@visittoledo.org
SUMMARY:Cursed! The Power of Magic in the Ancient World
DESCRIPTION:From love charms to curse tablets\, uncover the spellbinding ways ancient cultures tried to bend the world to their will. \nFor millennia\, people across Mesopotamia\, Egypt\, Greece\, and Rome turned to magic for protection\, for healing\, to curse their enemies\, and to seek favor from powers beyond the human realm. Ancient magic was woven into daily life and ritual practice—sometimes accepted and sometimes feared. Cursed! invites visitors to step into an exciting world of spells\, amulets\, and protective figures dating from 2000 BCE to 300 CE. \nThis exhibition brings exceptional works in a variety of materials to Toledo\, including intricately carved ivory wands\, brilliant gems\, rare magical papyri\, and lead curse tablets from the Louvre\, the British Museum\, the Metropolitan Museum of Art\, and other institutions. These objects reveal a shared human desire: to influence the unseen forces shaping life and death. \nGet your tickets now \nTicket Ranges:\nUnless otherwise noted\, ticket categories are defined as follows: \n• Ages 0–4: Free\, no ticket required\n• Ages 5–17: Child ticket\n• Ages 18 and up: Adult ticket \nThese age ranges apply to events and exhibition tickets only.
URL:https://visittoledo.org/event/cursed-the-power-of-magic-in-the-ancient-world
LOCATION:Toledo Museum of Art\, 2445 Monroe St\, Toledo\, OH\, 43620\, United States
CATEGORIES:art,downtown,educational
ATTACH;FMTTYPE=image/png:https://visittoledo.org/wp-content/uploads/2026/03/cursed-TMA-4x3-event-image.png
GEO:41.6596851;-83.5580639
X-APPLE-STRUCTURED-LOCATION;VALUE=URI;X-ADDRESS=Toledo Museum of Art 2445 Monroe St Toledo OH 43620 United States;X-APPLE-RADIUS=500;X-TITLE=2445 Monroe St:geo:-83.5580639,41.6596851
END:VEVENT
BEGIN:VEVENT
DTSTART;TZID=America/Detroit:20260410T000000
DTEND;TZID=America/Detroit:20261015T235959
DTSTAMP:20260419T144009
CREATED:20260305T163922Z
LAST-MODIFIED:20260413T175028Z
UID:10012326-1775779200-1792108799@visittoledo.org
SUMMARY:The Ribbon Roller Skating Trail
DESCRIPTION:Glide\, splash\, and explore—The Ribbon is your gateway to summer fun at Glass City Metropark. Located between two exciting playgrounds\, a water play area\, and more – it’s the perfect starting point for an action-packed day. \nOpen early April through mid-October\, The Ribbon Roller Trail is free to enjoy during park hours with your own roller equipment. This 1\,000-foot trail is perfect for roller skating\, rollerblading\, non-motorized kick scooters\, balance bikes\, walking\, and it’s wheelchair accessible. \nThe Ribbon is also home to the 32-foot Mercy Health FitPark Climb Rock Wall\, open Friday through Sunday from Memorial Day through Labor Day. \nFor information on roller rental equipment\, cabana rentals\, and more\, visit the Toledo Metroparks Website.
URL:https://visittoledo.org/event/the-ribbon-roller-skating-trail
LOCATION:Glass City Metropark\, 1505 Front St\, Toledo\, Ohio\, 43605\, United States
CATEGORIES:exercise,Memorial,outdoors
ATTACH;FMTTYPE=image/png:https://visittoledo.org/wp-content/uploads/2025/04/the-ribbon-4x3-event-image.png
GEO:41.6534145;-83.5196809
X-APPLE-STRUCTURED-LOCATION;VALUE=URI;X-ADDRESS=Glass City Metropark 1505 Front St Toledo Ohio 43605 United States;X-APPLE-RADIUS=500;X-TITLE=1505 Front St:geo:-83.5196809,41.6534145
END:VEVENT
BEGIN:VEVENT
DTSTART;TZID=America/Detroit:20260412T110000
DTEND;TZID=America/Detroit:20260412T120000
DTSTAMP:20260419T144009
CREATED:20260326T141854Z
LAST-MODIFIED:20260326T142022Z
UID:10013435-1775991600-1775995200@visittoledo.org
SUMMARY:Sensory Friendly Weekends at National Museum of the Great Lakes
DESCRIPTION:The National Museum of the Great Lakes invites guests to experience the museum in a calm\, accommodating setting during its Sensory Friendly Weekends\, thoughtfully designed for comfort and enjoyment. \nHeld on the second Saturday and Sunday of every month\, this dedicated experience takes place one hour before the museum opens to the public. \nAdmission is included with regular museum entry and is free for members and Museums for All participants. \nCreated especially for individuals with sensory sensitivities\, this designated time offers a more immersive and comfortable visit: \n\nCrowds are limited to ensure a peaceful\, relaxed environment\nLighting is dimmed to create a calming atmosphere\nExhibit sounds are lowered or eliminated to reduce auditory stimulation\n\nAs a Certified Autism Center™ (CAC) through the International Board of Credentialing and Continuing Education Services (IBCCES)\, the museum is committed to providing inclusive\, accessible experiences for all visitors. \nGuests are encouraged to pre-order tickets in advance or purchase them at the door upon arrival. Regular admission rates apply. For questions\, please call 419-214-5000.
URL:https://visittoledo.org/event/sensory-friendly-weekends-at-national-museum-of-the-great-lakes-2/2026-04-12
LOCATION:National Museum of the Great Lakes\, 1701 Front St\, Toledo\, OH\, 43605\, United States
CATEGORIES:downtown,educational,family friendly,museum
ATTACH;FMTTYPE=image/png:https://visittoledo.org/wp-content/uploads/2026/03/nmgl-sensory-friendly-weekends-4x3-event-image.png
GEO:41.6566127;-83.5150568
X-APPLE-STRUCTURED-LOCATION;VALUE=URI;X-ADDRESS=National Museum of the Great Lakes 1701 Front St Toledo OH 43605 United States;X-APPLE-RADIUS=500;X-TITLE=1701 Front St:geo:-83.5150568,41.6566127
END:VEVENT
BEGIN:VEVENT
DTSTART;TZID=America/Detroit:20260412T120000
DTEND;TZID=America/Detroit:20260412T140000
DTSTAMP:20260419T144009
CREATED:20250923T182605Z
LAST-MODIFIED:20251212T185452Z
UID:10008853-1775995200-1776002400@visittoledo.org
SUMMARY:Boozy Brunch Bingo
DESCRIPTION:Spend your Sunday at Toledo Spirits’ Bellwether with Boozy Brunch Bingo! From 11 AM – 3 PM\, enjoy craft cocktails and delicious brunch dishes\, then join the fun and test your luck during Bingo from Noon – 2 PM. With exciting prizes\, a lively atmosphere\, and a family-friendly vibe\, this event is perfect for friends\, family\, and anyone looking to wrap up the weekend with food\, drinks\, and friendly competition. Location: Bellwether at Toledo Spirits\, 1301 N Summit St\, Toledo. \nTo guarantee seating make reservations here:\nhttps://getseat.net/?channel=merchant_web#/public/online/reservation/755923A7
URL:https://visittoledo.org/event/boozy-brunch-bingo/2026-04-12
LOCATION:Toledo Spirits Company\, 1301 N Summit St\, Toledo\, OH\, 43604\, United States
CATEGORIES:cocktails,entertainment
ATTACH;FMTTYPE=image/png:https://visittoledo.org/wp-content/uploads/2025/09/toledo-spirits-boozy-brunch-bingo-4x3-event-image.png
GEO:41.6595852;-83.5213095
X-APPLE-STRUCTURED-LOCATION;VALUE=URI;X-ADDRESS=Toledo Spirits Company 1301 N Summit St Toledo OH 43604 United States;X-APPLE-RADIUS=500;X-TITLE=1301 N Summit St:geo:-83.5213095,41.6595852
END:VEVENT
BEGIN:VEVENT
DTSTART;TZID=America/Detroit:20260412T120000
DTEND;TZID=America/Detroit:20260412T160000
DTSTAMP:20260419T144009
CREATED:20260331T204017Z
LAST-MODIFIED:20260331T204017Z
UID:10013999-1775995200-1776009600@visittoledo.org
SUMMARY:Interlude - Bridal Open House at the Mez
DESCRIPTION:Step into a more thoughtful way to plan your big day at Interlude\, a curated bridal open house at The Mez on Sunday\, April 12 from 12–4 p.m. \nDesigned as a refreshing alternative to traditional wedding expos\, Interlude offers a calm\, elevated environment where couples can explore the venue\, gather inspiration\, and envision the moments surrounding their wedding day. Guests will experience a carefully styled “Interlude Edit\,” featuring modern wedding design ideas and curated details throughout the space. \nThe event also includes behind-the-scenes access to an editorial bridal and men’s formalwear shoot with Atlas Bridal\, offering a unique look at current trends and styling in action. Attendees can enjoy exclusive Interlude-only offerings\, complimentary downtown parking\, and a premium curated gift for the first 50 registered brides. \nWhether you’re just beginning your planning journey or refining the details\, Interlude creates space to slow down\, explore\, and get inspired.
URL:https://visittoledo.org/event/interlude-bridal-open-house-at-the-mez
LOCATION:The Mez\, 710 Monroe Street\, Toledo\, 43604
CATEGORIES:shopping,tour
ATTACH;FMTTYPE=image/png:https://visittoledo.org/wp-content/uploads/2026/03/interlude-bridal-fair-the-mez-4x3-event-image.png
GEO:41.6506088;-83.5402686
X-APPLE-STRUCTURED-LOCATION;VALUE=URI;X-ADDRESS=The Mez 710 Monroe Street Toledo 43604;X-APPLE-RADIUS=500;X-TITLE=710 Monroe Street:geo:-83.5402686,41.6506088
END:VEVENT
BEGIN:VEVENT
DTSTART;TZID=America/Detroit:20260412T130000
DTEND;TZID=America/Detroit:20260412T160000
DTSTAMP:20260419T144009
CREATED:20250609T173256Z
LAST-MODIFIED:20251113T190249Z
UID:10007360-1775998800-1776009600@visittoledo.org
SUMMARY:The Great Gatsby
DESCRIPTION:THE PARTY’S ROARING IN TOLEDO!\nTHE GREAT GATSBY is a “Broadway extravaganza that explodes with life and energy” (Entertainment Weekly). Based on the classic American novel by F. Scott Fitzgerald\, the Tony Award®-winning new musical is an unforgettable journey of love\, wealth and tragedy that brings the Roaring Twenties to life on stage. \nDirected by Marc Bruni (Beautiful: The Carole King Musical)\, this story of extravagance and longing features choreography by Dominique Kelley (So You Think You Can Dance)\, a book by Kait Kerrigan (The Mad Ones) and a jazz- and pop-influenced original score by Jason Howland (Little Women) and Nathan Tysen (Paradise Square). \nPerformance Schedule:\nTuesday\, April 7\, 2026 – 7:30 p.m.\nWednesday\, April 8\, 2026 – 7:30 p.m.\nThursday\, April 9\, 2026 – 7:30 p.m.\nFriday\, April 10\, 2026 – 7:30 p.m.\nSaturday\, April 11\, 2026 – 2:00 & 7:30 p.m.\nSunday\, April 12\, 2026 – 1:00 & 6:30 p.m.
URL:https://visittoledo.org/event/the-great-gatsby/2026-04-12/1
LOCATION:The Stranahan\, 4645 Heatherdowns Blvd\, Toledo\, OH\, 43614\, United States
CATEGORIES:entertainment,musical
ATTACH;FMTTYPE=image/jpeg:https://visittoledo.org/wp-content/uploads/2025/06/Photo-1-Samantha-Pauly-center-cast-in-the-Broadway-production-of-The-Great-Gatsby-c-Matthew-Murphy-and-Evan-Zimmerman-scaled.jpg
GEO:41.5924522;-83.6514603
X-APPLE-STRUCTURED-LOCATION;VALUE=URI;X-ADDRESS=The Stranahan 4645 Heatherdowns Blvd Toledo OH 43614 United States;X-APPLE-RADIUS=500;X-TITLE=4645 Heatherdowns Blvd:geo:-83.6514603,41.5924522
END:VEVENT
BEGIN:VEVENT
DTSTART;TZID=America/Detroit:20260412T140000
DTEND;TZID=America/Detroit:20260412T160000
DTSTAMP:20260419T144009
CREATED:20260330T201027Z
LAST-MODIFIED:20260330T201027Z
UID:10013988-1776002400-1776009600@visittoledo.org
SUMMARY:The Lightning Thief: The Percy Jackson Musical
DESCRIPTION:Get ready for a high-energy\, mythological adventure as the University of Toledo Department of Theatre and Film presents The Lightning Thief: The Percy Jackson Musical. \nBased on the best-selling novel by Rick Riordan\, this action-packed musical follows Percy Jackson\, a teenager who discovers he’s the half-blood son of a Greek god. When Zeus’s master lightning bolt is stolen—and Percy is blamed—he embarks on an epic quest to clear his name and prevent a war among the gods. Along the way\, Percy must battle monsters\, outsmart prophecies\, journey to the Underworld\, and come to terms with who he really is. \nFeaturing an electrifying original rock score\, this fast-paced production blends humor\, heart\, and heroic adventure into a story that’s perfect for families\, students\, and fans of Greek mythology. Whether you’re a local looking for live theatre in Toledo or visiting the area\, this production offers an exciting and accessible night out. \nPerformance Dates & Times: \n\nThursday–Saturday\, April 9–11 at 7:30 p.m.\nSunday\, April 12 at 2 p.m.\nFriday–Saturday\, April 17–18 at 7:30 p.m.\nSunday\, April 19 at 2 p.m.\n\n✨ Thursday\, April 9 is a FREE community preview performance. \nTickets: $10–$25 | Free for UToledo students with Rocket IDParking: Free on Saturdays and Sundays in Area 12 (paid parking required Thursdays and Fridays)
URL:https://visittoledo.org/event/the-lightning-thief-the-percy-jackson-musical/2026-04-12
LOCATION:University of Toledo Department of Theatre and Film\, 1910 W Rocket Dr\, Toledo\, OH\, 43606\, United States
CATEGORIES:musical
ATTACH;FMTTYPE=image/png:https://visittoledo.org/wp-content/uploads/2026/03/percy-jackson-musical-university-of-toledo-4x3-event-image.png
GEO:41.6587202;-83.6186299
X-APPLE-STRUCTURED-LOCATION;VALUE=URI;X-ADDRESS=University of Toledo Department of Theatre and Film 1910 W Rocket Dr Toledo OH 43606 United States;X-APPLE-RADIUS=500;X-TITLE=1910 W Rocket Dr:geo:-83.6186299,41.6587202
END:VEVENT
BEGIN:VEVENT
DTSTART;TZID=America/Detroit:20260412T140000
DTEND;TZID=America/Detroit:20260412T160000
DTSTAMP:20260419T144009
CREATED:20260410T143955Z
LAST-MODIFIED:20260410T153507Z
UID:10014425-1776002400-1776009600@visittoledo.org
SUMMARY:Beginner Crochet Class with Ariel Kay
DESCRIPTION:Beginner Friendly\, no previous knowledge needed! \nClass supplies provided: Cotton yarn\, crochet hook\, stitch marker\, darning needle\, and printed handout \nTime: 2 hrs \nAge: 8+ with adult supervision \n$45 \nIn this beginner friendly crochet class\, makers will learn crochet basics such as how to hold a hook and yarn comfortably\, how to slipknot\, chain\, single crochet\, and finish off. \nMakers will use these techniques to create a dishcloth. They will start the dishcloth in class or finish at home. The skills learned in this class can be used to make a wide variety of other items\, such as hats\, scarves\, blankets\, and even amigurumi. Feel free to bring your own snack and beverage.
URL:https://visittoledo.org/event/beginner-crochet-class-with-ariel-kay
LOCATION:Handmade Toledo\, 1717 Adams St.\, Toledo\, OH\, 43604\, United States
CATEGORIES:crafts
ATTACH;FMTTYPE=image/png:https://visittoledo.org/wp-content/uploads/2026/04/800x600px-graphics.png
ORGANIZER;CN="handmade toledo":MAILTO:hello@handmadetoledo.com
GEO:41.6581422;-83.5460271
X-APPLE-STRUCTURED-LOCATION;VALUE=URI;X-ADDRESS=Handmade Toledo 1717 Adams St. Toledo OH 43604 United States;X-APPLE-RADIUS=500;X-TITLE=1717 Adams St.:geo:-83.5460271,41.6581422
END:VEVENT
BEGIN:VEVENT
DTSTART;TZID=America/Detroit:20260412T140000
DTEND;TZID=America/Detroit:20260412T163000
DTSTAMP:20260419T144009
CREATED:20260213T210044Z
LAST-MODIFIED:20260213T210044Z
UID:10011963-1776002400-1776011400@visittoledo.org
SUMMARY:Toledo Mud Hens vs. St. Paul Saints
DESCRIPTION:From the first pitch to the final out\, Toledo Mud Hens baseball delivers nonstop excitement at Fifth Third Field in Downtown Toledo. \nThe Mud Hens welcome the St. Paul Saints (Minnesota Twins AAA affiliate) for their opening homestand of 2026. \n2026 Season Schedule\nGet ready for a season of world-famous fun at Fifth Third Field. The Toledo Mud Hens 2026 promotions schedule is packed with theme nights\, giveaways\, festivals\, fireworks\, and special ticket offers all spring and summer long. From Opening Day and holiday celebrations to fan-favorite nights and family-friendly Sundays\, there’s always something happening at the ballpark. For a full list of promotions\, bag policies\, and other FAQ visit Know Before You Go | Mud Hens
URL:https://visittoledo.org/event/toledo-mud-hens-vs-st-paul-saints-5
LOCATION:Fifth Third Field\, 406 Washington St\, Toledo\, OH\, 43604
CATEGORIES:sports
ATTACH;FMTTYPE=image/jpeg:https://visittoledo.org/wp-content/uploads/2025/03/Mud-Hens-Events-Graphic.jpg
GEO:41.6477342;-83.5384538
X-APPLE-STRUCTURED-LOCATION;VALUE=URI;X-ADDRESS=Fifth Third Field 406 Washington St Toledo OH 43604;X-APPLE-RADIUS=500;X-TITLE=406 Washington St:geo:-83.5384538,41.6477342
END:VEVENT
BEGIN:VEVENT
DTSTART;TZID=America/Detroit:20260412T183000
DTEND;TZID=America/Detroit:20260412T213000
DTSTAMP:20260419T144009
CREATED:20250609T173256Z
LAST-MODIFIED:20251113T190249Z
UID:10007361-1776018600-1776029400@visittoledo.org
SUMMARY:The Great Gatsby
DESCRIPTION:THE PARTY’S ROARING IN TOLEDO!\nTHE GREAT GATSBY is a “Broadway extravaganza that explodes with life and energy” (Entertainment Weekly). Based on the classic American novel by F. Scott Fitzgerald\, the Tony Award®-winning new musical is an unforgettable journey of love\, wealth and tragedy that brings the Roaring Twenties to life on stage. \nDirected by Marc Bruni (Beautiful: The Carole King Musical)\, this story of extravagance and longing features choreography by Dominique Kelley (So You Think You Can Dance)\, a book by Kait Kerrigan (The Mad Ones) and a jazz- and pop-influenced original score by Jason Howland (Little Women) and Nathan Tysen (Paradise Square). \nPerformance Schedule:\nTuesday\, April 7\, 2026 – 7:30 p.m.\nWednesday\, April 8\, 2026 – 7:30 p.m.\nThursday\, April 9\, 2026 – 7:30 p.m.\nFriday\, April 10\, 2026 – 7:30 p.m.\nSaturday\, April 11\, 2026 – 2:00 & 7:30 p.m.\nSunday\, April 12\, 2026 – 1:00 & 6:30 p.m.
URL:https://visittoledo.org/event/the-great-gatsby/2026-04-12/2
LOCATION:The Stranahan\, 4645 Heatherdowns Blvd\, Toledo\, OH\, 43614\, United States
CATEGORIES:entertainment,musical
ATTACH;FMTTYPE=image/jpeg:https://visittoledo.org/wp-content/uploads/2025/06/Photo-1-Samantha-Pauly-center-cast-in-the-Broadway-production-of-The-Great-Gatsby-c-Matthew-Murphy-and-Evan-Zimmerman-scaled.jpg
GEO:41.5924522;-83.6514603
X-APPLE-STRUCTURED-LOCATION;VALUE=URI;X-ADDRESS=The Stranahan 4645 Heatherdowns Blvd Toledo OH 43614 United States;X-APPLE-RADIUS=500;X-TITLE=4645 Heatherdowns Blvd:geo:-83.6514603,41.5924522
END:VEVENT
END:VCALENDAR