BEGIN:VCALENDAR
VERSION:2.0
PRODID:-//Destination Toledo - ECPv6.15.20//NONSGML v1.0//EN
CALSCALE:GREGORIAN
METHOD:PUBLISH
X-ORIGINAL-URL:https://visittoledo.org
X-WR-CALDESC:Events for Destination Toledo
REFRESH-INTERVAL;VALUE=DURATION:PT1H
X-Robots-Tag:noindex
X-PUBLISHED-TTL:PT1H
BEGIN:VTIMEZONE
TZID:America/Detroit
BEGIN:DAYLIGHT
TZOFFSETFROM:-0500
TZOFFSETTO:-0400
TZNAME:EDT
DTSTART:20240310T070000
END:DAYLIGHT
BEGIN:STANDARD
TZOFFSETFROM:-0400
TZOFFSETTO:-0500
TZNAME:EST
DTSTART:20241103T060000
END:STANDARD
BEGIN:DAYLIGHT
TZOFFSETFROM:-0500
TZOFFSETTO:-0400
TZNAME:EDT
DTSTART:20250309T070000
END:DAYLIGHT
BEGIN:STANDARD
TZOFFSETFROM:-0400
TZOFFSETTO:-0500
TZNAME:EST
DTSTART:20251102T060000
END:STANDARD
BEGIN:DAYLIGHT
TZOFFSETFROM:-0500
TZOFFSETTO:-0400
TZNAME:EDT
DTSTART:20260308T070000
END:DAYLIGHT
BEGIN:STANDARD
TZOFFSETFROM:-0400
TZOFFSETTO:-0500
TZNAME:EST
DTSTART:20261101T060000
END:STANDARD
BEGIN:DAYLIGHT
TZOFFSETFROM:-0500
TZOFFSETTO:-0400
TZNAME:EDT
DTSTART:20270314T070000
END:DAYLIGHT
BEGIN:STANDARD
TZOFFSETFROM:-0400
TZOFFSETTO:-0500
TZNAME:EST
DTSTART:20271107T060000
END:STANDARD
END:VTIMEZONE
BEGIN:VEVENT
DTSTART;TZID=America/Detroit:20251028T000000
DTEND;TZID=America/Detroit:20260104T235959
DTSTAMP:20260425T200245
CREATED:20251028T201349Z
LAST-MODIFIED:20251028T201540Z
UID:10010312-1761609600-1767571199@visittoledo.org
SUMMARY:Traveling Bricks
DESCRIPTION:Big fun is stacking up at Imagination Station! Learn about the history of travel with 120 creations made of LEGO® bricks\, from nearly one million LEGO® pieces. From trains\, steamboats\, cars\, and jets\, you’ll see history\, technology\, engineering\, and artistry combine one brick at a time. \nTraveling Bricks is included with admission or an Imagination Station membership!
URL:https://visittoledo.org/event/traveling-bricks
CATEGORIES:educational,family friendly
ATTACH;FMTTYPE=image/png:https://visittoledo.org/wp-content/uploads/2025/10/traveling-bricks-4x3-event-image.png
END:VEVENT
BEGIN:VEVENT
DTSTART;TZID=America/Detroit:20251030T000000
DTEND;TZID=America/Detroit:20260118T235959
DTSTAMP:20260425T200245
CREATED:20251030T213754Z
LAST-MODIFIED:20251030T213754Z
UID:10010585-1761782400-1768780799@visittoledo.org
SUMMARY:Radiance and Reverie: Jewels from the Collection of Neil Lane
DESCRIPTION:Step into a world where artistry and adornment meet at the Toledo Museum of Art. Radiance and Reverie: Jewels from the Collection of Neil Lane invites you to discover the exquisite craftsmanship and timeless beauty of jewelry from the personal collection of Neil Lane\, celebrated designer to the stars\, through January 18\, 2026. Each piece tells a story of glamour\, history\, and the enduring allure of wearable art. \nReserve your ticket today and experience these treasures up close. \nTicket Age Ranges \nUnless otherwise noted\, ticket categories are defined as follows: \n• Ages 0–4: Free\, no ticket required\n• Ages 5–17: Child ticket\n• Ages 18 and up: Adult ticket \nThese age ranges apply to events and exhibition tickets only. Programs such as classes and the Family Center may follow different guidelines. \nLearn more about the exhibit on the Toledo Museum of Art website. 
URL:https://visittoledo.org/event/radiance-and-reverie-jewels-from-the-collection-of-neil-lane
LOCATION:Toledo Museum of Art\, 2445 Monroe St\, Toledo\, OH\, 43620\, United States
CATEGORIES:art,educational,museum
ATTACH;FMTTYPE=image/png:https://visittoledo.org/wp-content/uploads/2025/10/tma-exhibit-Radiance-and-Reverie-4x3-event-image.png
GEO:41.6596851;-83.5580639
X-APPLE-STRUCTURED-LOCATION;VALUE=URI;X-ADDRESS=Toledo Museum of Art 2445 Monroe St Toledo OH 43620 United States;X-APPLE-RADIUS=500;X-TITLE=2445 Monroe St:geo:-83.5580639,41.6596851
END:VEVENT
BEGIN:VEVENT
DTSTART;TZID=America/Detroit:20251205T000000
DTEND;TZID=America/Detroit:20260215T235959
DTSTAMP:20260425T200245
CREATED:20251205T174617Z
LAST-MODIFIED:20251205T174700Z
UID:10010768-1764892800-1771199999@visittoledo.org
SUMMARY:Frozen in Time: A Wooden & Antique Boat Showcase
DESCRIPTION:National Museum of the Great Lakes • Temporary Exhibit GalleryIncluded with Museum Admission | Free for Members \nGet your winter boating “fix” along the backdrop of the Maumee River with Frozen in Time: A Wooden and Antique Boat Showcase at the National Museum of the Great Lakes. \nThis special indoor display brings together a curated collection of both new and historic vessels\, inviting visitors to appreciate the art\, craftsmanship\, and cultural legacy of wooden and antique boats across the Great Lakes. \nFeaturing a handful of remarkable watercraft from an Indigenous canoe to classic wooden cruisers\, the showcase highlights the evolution of boatbuilding design while exploring the social and recreational traditions that have shaped boating communities for centuries.
URL:https://visittoledo.org/event/frozen-in-time-a-wooden-antique-boat-showcase
LOCATION:National Museum of the Great Lakes\, 1701 Front St\, Toledo\, OH\, 43605\, United States
CATEGORIES:history,museum,tour
ATTACH;FMTTYPE=image/png:https://visittoledo.org/wp-content/uploads/2025/12/frozen-in-time-nmgl-4x3-event-image.png
GEO:41.6566127;-83.5150568
X-APPLE-STRUCTURED-LOCATION;VALUE=URI;X-ADDRESS=National Museum of the Great Lakes 1701 Front St Toledo OH 43605 United States;X-APPLE-RADIUS=500;X-TITLE=1701 Front St:geo:-83.5150568,41.6566127
END:VEVENT
BEGIN:VEVENT
DTSTART;TZID=America/Detroit:20251212T000000
DTEND;TZID=America/Detroit:20251224T235959
DTSTAMP:20260425T200245
CREATED:20251125T182750Z
LAST-MODIFIED:20251215T132243Z
UID:10010726-1765497600-1766620799@visittoledo.org
SUMMARY:Children’s Wonderland
DESCRIPTION:Experience a beloved Northwest Ohio holiday tradition at Children’s Wonderland\, returning to Sylvania’s Tam-O-Shanter December 12–24\, 2025\, open daily from 11 am – 8 pm and from 11 am – 2 pm on Dec. 24.\nEnjoy dozens of classic exhibits\, festive train rides\, and plenty of photo opportunities with Santa at this family-friendly Christmas attraction.
URL:https://visittoledo.org/event/childrens-wonderland-2
LOCATION:Sylvania Tam-O-Shanter\, 7060 W. Sylvania Ave.\, Sylvania\, Ohio\, 43560
CATEGORIES:family friendly,holiday
ATTACH;FMTTYPE=image/png:https://visittoledo.org/wp-content/uploads/2025/11/childrens-wonderland-4x3-event-image.png
GEO:41.6909614;-83.7130756
X-APPLE-STRUCTURED-LOCATION;VALUE=URI;X-ADDRESS=Sylvania Tam-O-Shanter 7060 W. Sylvania Ave. Sylvania Ohio 43560;X-APPLE-RADIUS=500;X-TITLE=7060 W. Sylvania Ave.:geo:-83.7130756,41.6909614
END:VEVENT
BEGIN:VEVENT
DTSTART;TZID=America/Detroit:20251214T160000
DTEND;TZID=America/Detroit:20251215T010000
DTSTAMP:20260425T200245
CREATED:20251103T172235Z
LAST-MODIFIED:20251121T185430Z
UID:10010612-1765728000-1765760400@visittoledo.org
SUMMARY:Sleigh Bellwether | A Holiday Cocktail Party
DESCRIPTION:Sleigh Bellwether at Toledo Spirits is back and brighter than ever! Running through December 28\, this holiday pop-up bar offers a full-on winter wonderland packed with twinkling lights\, festive music\, and Toledo Spirits’ signature creativity. \nGuests can sip their way through a seasonal cocktail menu featuring returning favorites and brand-new holiday creations inspired by cocoa\, peppermint\, sugarplums\, and a little locally distilled North Pole magic. With over-the-top décor\, warm cozy corners\, and a playful dash of mischief\, Sleigh Bellwether offers an unforgettable holiday outing for date nights\, friend gatherings\, and festive celebrations. \nWhether you’re looking for holiday cocktails\, immersive décor\, or a joyful spot to toast the season\, Sleigh Bellwether at Toledo Spirits is the place to make spirits bright.
URL:https://visittoledo.org/event/sleigh-bellwether-a-holiday-cocktail-party/2025-12-14
LOCATION:Toledo Spirits Company\, 1301 N Summit St\, Toledo\, OH\, 43604\, United States
CATEGORIES:cocktails,holiday
ATTACH;FMTTYPE=image/png:https://visittoledo.org/wp-content/uploads/2025/11/sleighbellwether-toledo-spirit-2025-4x3-event-image.png
GEO:41.6595852;-83.5213095
X-APPLE-STRUCTURED-LOCATION;VALUE=URI;X-ADDRESS=Toledo Spirits Company 1301 N Summit St Toledo OH 43604 United States;X-APPLE-RADIUS=500;X-TITLE=1301 N Summit St:geo:-83.5213095,41.6595852
END:VEVENT
BEGIN:VEVENT
DTSTART;TZID=America/Detroit:20251215T000000
DTEND;TZID=America/Detroit:20251215T235959
DTSTAMP:20260425T200245
CREATED:20251105T193811Z
LAST-MODIFIED:20260107T151423Z
UID:10010652-1765756800-1765843199@visittoledo.org
SUMMARY:Monday Classes | Toledo Mindfulness Institute
DESCRIPTION:Find your balance at the Toledo Mindfulness Institute.  \nExplore their Monday classes designed to help you slow down\, connect\, and restore. Each session offers a space to relax\, recharge\, and nurture both body and mind at their studio in Sylvania\, Ohio. \n\n\nMindful Fitness\n5:45 pm-6:45pm\n\n\nAn upbeat full-body workout that combines strength\, cardio\, and intention. Designed to activate all major muscle groups with self-love and awareness\, this class will leave you feeling empowered and resilient. Expect body weight resistance\, fun flows\, and an opportunity to feel your strength.$20 drop in for non-members \npurchase drop in here \nStretch & Sound Bath\n7:00 pm – 7:30 pm \n\nJoin The Toledo Mindfulness Institute for an evening of sound healing and active rest. Isabella will lead participants through a guided meditation and light movement\, followed by crystal singing bowls. chimes\, and voice. Benefits of sound healing include improved focus and mental clarity\, enhanced quality of sleep\, and decreased tension. \nWhat to bring: Blanket \n$20.00 drop in \nPurchase here
URL:https://visittoledo.org/event/monday-classes-toledo-mindfulness-institute/2025-12-15
LOCATION:Toledo Mindfulness Institute\, 5648 Main Street Suite 1\, Sylvania\, Ohio\, 43560\, United States
CATEGORIES:exercise,wellness,yoga
ATTACH;FMTTYPE=image/png:https://visittoledo.org/wp-content/uploads/2025/03/tmi-yoga-4x3-event-image.png
GEO:41.7163255;-83.7028461
X-APPLE-STRUCTURED-LOCATION;VALUE=URI;X-ADDRESS=Toledo Mindfulness Institute 5648 Main Street Suite 1 Sylvania Ohio 43560 United States;X-APPLE-RADIUS=500;X-TITLE=5648 Main Street Suite 1:geo:-83.7028461,41.7163255
END:VEVENT
BEGIN:VEVENT
DTSTART;TZID=America/Detroit:20251215T193000
DTEND;TZID=America/Detroit:20251215T213000
DTSTAMP:20260425T200245
CREATED:20251111T201648Z
LAST-MODIFIED:20251111T201648Z
UID:10010687-1765827000-1765834200@visittoledo.org
SUMMARY:Herman's Hermits | Stranahan Theater
DESCRIPTION:Get ready for a night of classic hits and timeless energy! Herman’s Hermits starring Peter Noone and The Grass Roots take the stage for an unforgettable evening filled with the songs you love. Sing along the song track of an era-don’t miss this legendary night of music!
URL:https://visittoledo.org/event/hermans-hermits-stranahan-theater
LOCATION:The Stranahan\, 4645 Heatherdowns Blvd\, Toledo\, OH\, 43614\, United States
CATEGORIES:concert,entertainment,live music
ATTACH;FMTTYPE=image/png:https://visittoledo.org/wp-content/uploads/2025/11/hermans-hermits-stranahan-4x3-event-image.png
GEO:41.5924522;-83.6514603
X-APPLE-STRUCTURED-LOCATION;VALUE=URI;X-ADDRESS=The Stranahan 4645 Heatherdowns Blvd Toledo OH 43614 United States;X-APPLE-RADIUS=500;X-TITLE=4645 Heatherdowns Blvd:geo:-83.6514603,41.5924522
END:VEVENT
END:VCALENDAR