BEGIN:VCALENDAR
VERSION:2.0
PRODID:-//Destination Toledo - ECPv6.15.20//NONSGML v1.0//EN
CALSCALE:GREGORIAN
METHOD:PUBLISH
X-ORIGINAL-URL:https://visittoledo.org
X-WR-CALDESC:Events for Destination Toledo
REFRESH-INTERVAL;VALUE=DURATION:PT1H
X-Robots-Tag:noindex
X-PUBLISHED-TTL:PT1H
BEGIN:VTIMEZONE
TZID:America/Detroit
BEGIN:DAYLIGHT
TZOFFSETFROM:-0500
TZOFFSETTO:-0400
TZNAME:EDT
DTSTART:20240310T070000
END:DAYLIGHT
BEGIN:STANDARD
TZOFFSETFROM:-0400
TZOFFSETTO:-0500
TZNAME:EST
DTSTART:20241103T060000
END:STANDARD
BEGIN:DAYLIGHT
TZOFFSETFROM:-0500
TZOFFSETTO:-0400
TZNAME:EDT
DTSTART:20250309T070000
END:DAYLIGHT
BEGIN:STANDARD
TZOFFSETFROM:-0400
TZOFFSETTO:-0500
TZNAME:EST
DTSTART:20251102T060000
END:STANDARD
BEGIN:DAYLIGHT
TZOFFSETFROM:-0500
TZOFFSETTO:-0400
TZNAME:EDT
DTSTART:20260308T070000
END:DAYLIGHT
BEGIN:STANDARD
TZOFFSETFROM:-0400
TZOFFSETTO:-0500
TZNAME:EST
DTSTART:20261101T060000
END:STANDARD
BEGIN:DAYLIGHT
TZOFFSETFROM:-0500
TZOFFSETTO:-0400
TZNAME:EDT
DTSTART:20270314T070000
END:DAYLIGHT
BEGIN:STANDARD
TZOFFSETFROM:-0400
TZOFFSETTO:-0500
TZNAME:EST
DTSTART:20271107T060000
END:STANDARD
END:VTIMEZONE
BEGIN:VEVENT
DTSTART;TZID=America/Detroit:20251028T000000
DTEND;TZID=America/Detroit:20260104T235959
DTSTAMP:20260419T082123
CREATED:20251028T201349Z
LAST-MODIFIED:20251028T201540Z
UID:10010312-1761609600-1767571199@visittoledo.org
SUMMARY:Traveling Bricks
DESCRIPTION:Big fun is stacking up at Imagination Station! Learn about the history of travel with 120 creations made of LEGO® bricks\, from nearly one million LEGO® pieces. From trains\, steamboats\, cars\, and jets\, you’ll see history\, technology\, engineering\, and artistry combine one brick at a time. \nTraveling Bricks is included with admission or an Imagination Station membership!
URL:https://visittoledo.org/event/traveling-bricks
LOCATION:OH
CATEGORIES:educational,family friendly
ATTACH;FMTTYPE=image/png:https://visittoledo.org/wp-content/uploads/2025/10/traveling-bricks-4x3-event-image.png
END:VEVENT
BEGIN:VEVENT
DTSTART;TZID=America/Detroit:20251030T000000
DTEND;TZID=America/Detroit:20260118T235959
DTSTAMP:20260419T082123
CREATED:20251030T213754Z
LAST-MODIFIED:20251030T213754Z
UID:10010585-1761782400-1768780799@visittoledo.org
SUMMARY:Radiance and Reverie: Jewels from the Collection of Neil Lane
DESCRIPTION:Step into a world where artistry and adornment meet at the Toledo Museum of Art. Radiance and Reverie: Jewels from the Collection of Neil Lane invites you to discover the exquisite craftsmanship and timeless beauty of jewelry from the personal collection of Neil Lane\, celebrated designer to the stars\, through January 18\, 2026. Each piece tells a story of glamour\, history\, and the enduring allure of wearable art. \nReserve your ticket today and experience these treasures up close. \nTicket Age Ranges \nUnless otherwise noted\, ticket categories are defined as follows: \n• Ages 0–4: Free\, no ticket required\n• Ages 5–17: Child ticket\n• Ages 18 and up: Adult ticket \nThese age ranges apply to events and exhibition tickets only. Programs such as classes and the Family Center may follow different guidelines. \nLearn more about the exhibit on the Toledo Museum of Art website. 
URL:https://visittoledo.org/event/radiance-and-reverie-jewels-from-the-collection-of-neil-lane
LOCATION:Toledo Museum of Art\, 2445 Monroe St\, Toledo\, OH\, 43620\, United States
CATEGORIES:art,educational,museum
ATTACH;FMTTYPE=image/png:https://visittoledo.org/wp-content/uploads/2025/10/tma-exhibit-Radiance-and-Reverie-4x3-event-image.png
GEO:41.6596851;-83.5580639
X-APPLE-STRUCTURED-LOCATION;VALUE=URI;X-ADDRESS=Toledo Museum of Art 2445 Monroe St Toledo OH 43620 United States;X-APPLE-RADIUS=500;X-TITLE=2445 Monroe St:geo:-83.5580639,41.6596851
END:VEVENT
BEGIN:VEVENT
DTSTART;TZID=America/Detroit:20251121T000000
DTEND;TZID=America/Detroit:20251121T235959
DTSTAMP:20260419T082123
CREATED:20250715T123451Z
LAST-MODIFIED:20250715T123632Z
UID:10007966-1763683200-1763769599@visittoledo.org
SUMMARY:Infinite Images: The Art of Algorithms
DESCRIPTION:Explore the intersection of art and technology in Infinite Images: The Art of Algorithms. This exhibition highlights the innovative ways artists use code\, systems\, and generative processes to create visually striking works that challenge how we define creativity. From early experiments in computer art to today’s algorithm-driven visuals\, discover how artists are reimagining image-making in the digital age. \nDon’t miss this rare opportunity; reserve your exhibition tickets today.
URL:https://visittoledo.org/event/infinite-images-the-art-of-algorithms/2025-11-21
LOCATION:Toledo Museum of Art\, 2445 Monroe St\, Toledo\, OH\, 43620\, United States
CATEGORIES:art,educational
ATTACH;FMTTYPE=image/png:https://visittoledo.org/wp-content/uploads/2025/07/Infinite-Images-tma-exhibit-4x3-event-image.png
GEO:41.6596851;-83.5580639
X-APPLE-STRUCTURED-LOCATION;VALUE=URI;X-ADDRESS=Toledo Museum of Art 2445 Monroe St Toledo OH 43620 United States;X-APPLE-RADIUS=500;X-TITLE=2445 Monroe St:geo:-83.5580639,41.6596851
END:VEVENT
BEGIN:VEVENT
DTSTART;TZID=America/Detroit:20251121T080000
DTEND;TZID=America/Detroit:20251121T170000
DTSTAMP:20260419T082123
CREATED:20251121T144738Z
LAST-MODIFIED:20251121T144738Z
UID:10010723-1763712000-1763744400@visittoledo.org
SUMMARY:Glamour\, Gaze\, and the Modern Stage: 100 Years of Hollywood Jewels
DESCRIPTION:Jewelry was never just an accessory in Hollywood’s golden age—it was a starring role. In this illustrated lecture\, Dr. Emily Stoehrer\, co-curator of Radiance & Reverie: Jewels from the Collection of Neil Lane and Senior Curator of Jewelry at the Museum of Fine Arts\, Boston\, explores how dazzling Parisian\, New York\, and Hollywood jewels shaped the iconic image of the movie star. She will also trace how Neil Lane has reintroduced vintage jewels to the spotlight\, lending them to 21st-century celebrities for red-carpet appearances\, films\, and music videos. \nCelebrate the start of winter with complimentary hot cocoa\, tea\, and coffee as you enjoy this sparkling conversation on Hollywood style and glamour. \nSaturday\, December 20 \n2:00 – 3:00 p.m. | GlasSalon \nDoors open at 1:30 p.m.
URL:https://visittoledo.org/event/glamour-gaze-and-the-modern-stage-100-years-of-hollywood-jewels
LOCATION:OH
CATEGORIES:art
ATTACH;FMTTYPE=image/png:https://visittoledo.org/wp-content/uploads/2025/11/Radiance-and-Reverie-tma-4x3-event-image.png
END:VEVENT
BEGIN:VEVENT
DTSTART;TZID=America/Detroit:20251121T160000
DTEND;TZID=America/Detroit:20251121T220000
DTSTAMP:20260419T082123
CREATED:20251107T202853Z
LAST-MODIFIED:20251107T202853Z
UID:10010683-1763740800-1763762400@visittoledo.org
SUMMARY:International Holiday Market
DESCRIPTION:The holiday season is almost here\, and this year\, the city of Toledo is bringing something brand-new to downtown Toledo!\n\n\n\nStop by Toledo’s first International Holiday Market at Levis Square Park on Friday\, November 21 & Saturday\, November 22.\n\n\n\nShop unique\, handcrafted gifts and treats from local vendors and organizations celebrating Toledo’s diverse cultures. Enjoy live music\, dance\, and cultural performances throughout the day that showcase traditions from around the world.\n\n\n\nPlus\, this year’s Holiday Tree Lighting at Promenade Park on Friday\, November 21st at dark. Don’t miss these holiday season kickoff events!
URL:https://visittoledo.org/event/international-holiday-market/2025-11-21
LOCATION:Levis Square\, 285 N St Clair St\, Toledo\, OH\, 43604\, United States
CATEGORIES:dance,food,holiday,live music,outdoors,shopping
ATTACH;FMTTYPE=image/png:https://visittoledo.org/wp-content/uploads/2025/11/holiday-market-toledo-4x3-event-image.png
GEO:41.650892;-83.5354784
X-APPLE-STRUCTURED-LOCATION;VALUE=URI;X-ADDRESS=Levis Square 285 N St Clair St Toledo OH 43604 United States;X-APPLE-RADIUS=500;X-TITLE=285 N St Clair St:geo:-83.5354784,41.650892
END:VEVENT
BEGIN:VEVENT
DTSTART;TZID=America/Detroit:20251121T170000
DTEND;TZID=America/Detroit:20251121T200000
DTSTAMP:20260419T082123
CREATED:20251103T141844Z
LAST-MODIFIED:20251103T141929Z
UID:10010600-1763744400-1763755200@visittoledo.org
SUMMARY:Holiday Tree Lighting at Promenade Park
DESCRIPTION:Kick off the holiday season in downtown Toledo as Mayor Wade Kapszukiewicz lights the Promenade Park Holiday Tree at 7 p.m.\n\n\nEnjoy an evening full of festive fun\, live entertainment\, and activities for the whole family. The park will sparkle with holiday lights\, laughter\, and the sounds of the season — a perfect way to celebrate community and togetherness in the heart of the city. Start your evening at the International Holiday Market at Levis Square\, where you can enjoy authentic foods\, handcrafted goods\, and live performances celebrating cultures from around the world — including Mexican\, Native American\, German\, Polish\, Hungarian\, Irish\, African\, Chinese\, Indian\, Middle Eastern/Muslim\, and Filipino traditions.Entertainment & Activities: \nSanta & Mrs. Claus – Enjoy storytime\, smiles\, and photos with the North Pole’s most famous couple.Ice Carving Displays – Watch talented sculptors create two incredible ice displays live.Arts & Crafts Station – Kids can make a special keepsake to take home.Face Painter – Add a little sparkle to your holiday look.Candyland Games Area – Sweet fun and games for all ages.Hot Chocolate & Popcorn – Plus other seasonal treats to keep you cozy while you explore the park.Live Performances: \nMeet\, greet\, and take photos with Buddy\, Jovi\, Jack\, Sally\, and Elsa from Laurel’s Characters & Company.Watch My5tery Music Band and Step Team performances on the big stage.\nDance to beats from the live DJ.
URL:https://visittoledo.org/event/holiday-tree-lighting-at-promenade-park
LOCATION:Toledo Promenade Park\, 400 Water St\, Toledo\, 43604
CATEGORIES:family friendly,food,holiday,live music
ATTACH;FMTTYPE=image/png:https://visittoledo.org/wp-content/uploads/2025/11/toledo-tree-lighting-2025-4x3-event-image.png
GEO:41.6495286;-83.5333383
X-APPLE-STRUCTURED-LOCATION;VALUE=URI;X-ADDRESS=Toledo Promenade Park 400 Water St Toledo 43604;X-APPLE-RADIUS=500;X-TITLE=400 Water St:geo:-83.5333383,41.6495286
END:VEVENT
BEGIN:VEVENT
DTSTART;TZID=America/Detroit:20251121T170000
DTEND;TZID=America/Detroit:20251121T200000
DTSTAMP:20260419T082123
CREATED:20251117T202432Z
LAST-MODIFIED:20251117T202432Z
UID:10010706-1763744400-1763755200@visittoledo.org
SUMMARY:Local Artists Holiday Trunk Show
DESCRIPTION:The Arts Commission’s Annual Fall Fundraiser Featuring Local Artists\nBe inspired for holiday gift giving and beautiful décor by talented local artists. Artwork from over 20 local artists will be available for viewing and purchase at the historic Libbey House in the Old West End neighborhood of Toledo.\n\nGuests will have the opportunity to meet the artists and enjoy beverages\, appetizers\, and the holiday décor of the Libbey House.\n\nEvent Information\nFriday\, November 21\, 2025 | 5:00PM to 8:00PMPREVIEW PARTY $25.00 AdmissionFeaturing silent auction items\, hors d’oeuvres\, specialty cocktails\nSaturday\, November 22\, 2025 | 11:00AM to 6:00PMSHOW $10.00 Admission\nEdward D. Libbey House\, 2008 Scottwood\, Toledo\n\nThis is a fundraising event with a portion of the proceeds being donated to The Arts Commission.\n\nPast Participating Artists:Adam Goldberg\, Amber LeFever-Soboleski\, Adam Soboleski\, Ann Tubbs\, Chuchen Song\, Cyd Gottlieb\, Dani Herrera\, Eamon King\, Fraser Phibbs\, Jaci Riley\, Julie Schnell Madden\, Kacey McCreery\, Kathy Rennels\, Kayla Kirk\, Ken Miller\, Leonard Marty\, Lia Colapietro\, Lindsay Williams / Avert Adornments\, Lisa Grizaniuk\, Matt Paskiet – Firenation Glass Studio and Gallery\, Mike Stevens\, Ryan Thompson\, Steve Cothern\, Tess Healy\, Tim Spurchise\, Tom Marino\, Toledo School for the Arts
URL:https://visittoledo.org/event/local-artists-holiday-trunk-show/2025-11-21
LOCATION:Libbey House\, 2008 Scottwood Ave\, Toledo\, OH\, 43620\, United States
CATEGORIES:art,shopping
ATTACH;FMTTYPE=image/png:https://visittoledo.org/wp-content/uploads/2025/11/local-artists-holiday-trunk-show-2025-libbey-4x3-event-image-Recovered.png
GEO:41.66053;-83.558605
X-APPLE-STRUCTURED-LOCATION;VALUE=URI;X-ADDRESS=Libbey House 2008 Scottwood Ave Toledo OH 43620 United States;X-APPLE-RADIUS=500;X-TITLE=2008 Scottwood Ave:geo:-83.558605,41.66053
END:VEVENT
BEGIN:VEVENT
DTSTART;TZID=America/Detroit:20251121T170000
DTEND;TZID=America/Detroit:20251121T210000
DTSTAMP:20260419T082123
CREATED:20251118T163624Z
LAST-MODIFIED:20251118T163624Z
UID:10010708-1763744400-1763758800@visittoledo.org
SUMMARY:Tree Lighting at Levis Commons
DESCRIPTION:Join the festive fun at The Town Center at Levis Commons!\n5pm-6:45pm: Meet and Greet with Elsa\, Ana and Kristov\nPresented by Laurel’s Characters & Co. \nLocated in Books-A-Million \nHolly Jolly Music with Ben the Elf \nEnjoy holiday tunes performed by Ben the Elf \nLocated in the gazebo \n7:00pm: Tree Lighting \nShort parade led by Elsa\, Ana and Kristov\, featuring the Perrysburg High School Spirit Club\, Freddie & Freida\, and a horse and carriage carrying Santa and Mrs. Claus. Santa will then light the tree to begin the holiday season. \n7:30pm-9pm: Meet and Greet with Santa and Mrs. Claus\nLocated in Santa’s House
URL:https://visittoledo.org/event/tree-lighting-at-levis-commons
LOCATION:The Town Center at Levis Commons\, 3201 LEVIS COMMONS BLVD\, Perrysburg\, OH\, 43551\, United States
CATEGORIES:family friendly,holiday
ATTACH;FMTTYPE=image/png:https://visittoledo.org/wp-content/uploads/2025/11/levis-commons-tree-lighting-4x3-event-image.png
GEO:41.527163;-83.6389164
X-APPLE-STRUCTURED-LOCATION;VALUE=URI;X-ADDRESS=The Town Center at Levis Commons 3201 LEVIS COMMONS BLVD Perrysburg OH 43551 United States;X-APPLE-RADIUS=500;X-TITLE=3201 LEVIS COMMONS BLVD:geo:-83.6389164,41.527163
END:VEVENT
BEGIN:VEVENT
DTSTART;TZID=America/Detroit:20251121T190000
DTEND;TZID=America/Detroit:20251121T220000
DTSTAMP:20260419T082123
CREATED:20250819T154321Z
LAST-MODIFIED:20250819T154321Z
UID:10008623-1763751600-1763762400@visittoledo.org
SUMMARY:Toledo Walleye vs. Wichita Thunder
DESCRIPTION:The Toledo Walleye are back for another exciting season of hockey at the Huntington Center! They continue their home slate on Friday\, Nov. 21 with a visit from the Wichita Thunder. \nBuilding on last season’s successful campaign\, the Walleye look to bring the ECHL’s Kelly Cup to Toledo and continue their league leading home sell-out streak. \nGATES OPEN: 6:00 p.m.PUCK DROP: 7:15 p.m. \nSpecial Promotion: Zamboni Night\nZamboni Night will feature a specialty jersey and Zamboni gravy boat giveaway presented by Meijer.
URL:https://visittoledo.org/event/toledo-walleye-vs-wichita-thunder-2
LOCATION:Huntington Center\, 500 Jefferson Ave\, Toledo\, OH\, 43604\, United States
CATEGORIES:hockey,sports
ATTACH;FMTTYPE=image/jpeg:https://visittoledo.org/wp-content/uploads/2024/12/Walleye-Events-Graphic.jpg
GEO:41.6511221;-83.5368354
X-APPLE-STRUCTURED-LOCATION;VALUE=URI;X-ADDRESS=Huntington Center 500 Jefferson Ave Toledo OH 43604 United States;X-APPLE-RADIUS=500;X-TITLE=500 Jefferson Ave:geo:-83.5368354,41.6511221
END:VEVENT
END:VCALENDAR